BEGIN:VCALENDAR
VERSION:2.0
PRODID:-//L ÉBULLITION - ECPv6.15.20//NONSGML v1.0//EN
CALSCALE:GREGORIAN
METHOD:PUBLISH
X-ORIGINAL-URL:https://www.lebullition.fr
X-WR-CALDESC:Évènements pour L ÉBULLITION
REFRESH-INTERVAL;VALUE=DURATION:PT1H
X-Robots-Tag:noindex
X-PUBLISHED-TTL:PT1H
BEGIN:VTIMEZONE
TZID:Europe/Paris
BEGIN:DAYLIGHT
TZOFFSETFROM:+0100
TZOFFSETTO:+0200
TZNAME:CEST
DTSTART:20240331T010000
END:DAYLIGHT
BEGIN:STANDARD
TZOFFSETFROM:+0200
TZOFFSETTO:+0100
TZNAME:CET
DTSTART:20241027T010000
END:STANDARD
BEGIN:DAYLIGHT
TZOFFSETFROM:+0100
TZOFFSETTO:+0200
TZNAME:CEST
DTSTART:20250330T010000
END:DAYLIGHT
BEGIN:STANDARD
TZOFFSETFROM:+0200
TZOFFSETTO:+0100
TZNAME:CET
DTSTART:20251026T010000
END:STANDARD
BEGIN:DAYLIGHT
TZOFFSETFROM:+0100
TZOFFSETTO:+0200
TZNAME:CEST
DTSTART:20260329T010000
END:DAYLIGHT
BEGIN:STANDARD
TZOFFSETFROM:+0200
TZOFFSETTO:+0100
TZNAME:CET
DTSTART:20261025T010000
END:STANDARD
END:VTIMEZONE
BEGIN:VEVENT
DTSTART;TZID=Europe/Paris:20250412T100000
DTEND;TZID=Europe/Paris:20250412T170000
DTSTAMP:20260421T115857
CREATED:20250312T143105Z
LAST-MODIFIED:20250320T134952Z
UID:9149-1744452000-1744477200@www.lebullition.fr
SUMMARY:LES PUCES DES BRICOLEURS - 2ème édition
DESCRIPTION:Samedi 12 avril 2024– 10H à 17H – Ouvert à tous\n \n\n\n\nVenez chiner des outils\, matériaux\, pots de peinture\, tuyaux\, bois\, bêches\, déco… tous ce qui tourne autour du bricolage et du jardinage.\nAteliers\, café associatif\, défis\, animations festives ponctueront la journée.\nC’est ouvert à tous. \nSi vous voulez tenir un stand pour vider votre garage ou votre cave\, inscrivez-vous. \nDe 14h à 17h : Repair Café avec la participation du Repair Café d’Orsay –> Apportez vos appareils en panne et apprenez à les réparer. \n\n\n\n\n\n\n\n\n 
URL:https://www.lebullition.fr/events/les-puces-des-bricoleurs-2eme-edition/
LOCATION:L’ÉBULLITION\, 2 avenue de la République\, PALAISEAU\, 91120\, France
CATEGORIES:ÉVÉNEMENT
ATTACH;FMTTYPE=image/jpeg:https://www.lebullition.fr/wp-content/uploads/2025/03/EVENT-CALENDAR-SEPT243.jpg
ORGANIZER;CN="L'%C3%89BULLITION":MAILTO:contact-ebullition@palaiseautierslieu.fr
END:VEVENT
BEGIN:VEVENT
DTSTART;TZID=Europe/Paris:20250412T110000
DTEND;TZID=Europe/Paris:20250412T120000
DTSTAMP:20260421T115857
CREATED:20250220T132121Z
LAST-MODIFIED:20250220T132121Z
UID:9053-1744455600-1744459200@www.lebullition.fr
SUMMARY:ATELIER LANGUE DES SIGNES
DESCRIPTION:Samedi 12 avril 2025 – 11h à 12h\n \n\nVous souhaitez vous initier à la Langue des Signes? \nLéa vous propose un module de 4 séances pour apprendre les bases de la langue des signes française. Vous apprendrez\, de manière ludique\, les premiers signes pour communiquer (alphabet\, couleurs\, chiffres et vocabulaire de base). Chaque séance est articulée autour de jeux et de mise en situation pour apprendre dans la bonne humeur! \n 
URL:https://www.lebullition.fr/events/atelier-langue-des-signes-120425/
LOCATION:L’ÉBULLITION\, 2 avenue de la République\, PALAISEAU\, 91120\, France
CATEGORIES:ATELIERS
ATTACH;FMTTYPE=image/jpeg:https://www.lebullition.fr/wp-content/uploads/2025/02/EVENT-CALENDAR-SEPT243.jpg
ORGANIZER;CN="L'%C3%89BULLITION":MAILTO:contact-ebullition@palaiseautierslieu.fr
END:VEVENT
BEGIN:VEVENT
DTSTART;TZID=Europe/Paris:20250412T143000
DTEND;TZID=Europe/Paris:20250412T170000
DTSTAMP:20260421T115857
CREATED:20250327T100940Z
LAST-MODIFIED:20250402T123552Z
UID:9225-1744468200-1744477200@www.lebullition.fr
SUMMARY:LES PUCES DES BRICOLEURS - REPAIR CAFE
DESCRIPTION:Samedi 12 avril 2025 – 14H30 à 17H – Ouvert à tous\n \n\n\n\nDans le cadre de notre événement Les Puces des bricoleurs\, nous avons le plaisir d’accueillir le Repair Café d’Orsay \nREPARONS ! \nQue réparer ? Tout ce que vous pouvez apporter au Repair Café : électroménager\, vélo\, jouet\, textile… \nComment réparer ? Apportez votre objet au Repair Café\, sans inscription préalable. Vous trouverez des bénévoles pour vous aider et tous les outils nécessaires. Le service est gratuit\, vous avez juste à rembourser les pièces détachées. \n\n\nEn parallèlle\, notre partenaire GUS CAFE vous proposera un ATELIER ENTRETIEN MACHINE A CAFÉ \nApportez votre machine à grain\, Xavier vous partagera ses bons conseils pour bien utiliser votre machine et vous révéler tous les secrets d’un bon réglage. \n\n\n\n\n\n\n\n\n  \n\n\n\n\n\n\n\n\n\n\n\n\n\n\n 
URL:https://www.lebullition.fr/events/les-puces-des-bricoleurs-repair-cafe-120425/
LOCATION:L’ÉBULLITION\, 2 avenue de la République\, PALAISEAU\, 91120\, France
CATEGORIES:ATELIERS,ÉVÉNEMENT
ATTACH;FMTTYPE=image/jpeg:https://www.lebullition.fr/wp-content/uploads/2025/03/AFFICHE-A-IMPRIMER-JOURNEE-ASSO-24-Publication-Instagram.jpg
ORGANIZER;CN="L'%C3%89BULLITION":MAILTO:contact-ebullition@palaiseautierslieu.fr
END:VEVENT
END:VCALENDAR