BEGIN:VCALENDAR
VERSION:2.0
PRODID:-//L ÉBULLITION - ECPv6.15.20//NONSGML v1.0//EN
CALSCALE:GREGORIAN
METHOD:PUBLISH
X-WR-CALNAME:L ÉBULLITION
X-ORIGINAL-URL:https://www.lebullition.fr
X-WR-CALDESC:Évènements pour L ÉBULLITION
REFRESH-INTERVAL;VALUE=DURATION:PT1H
X-Robots-Tag:noindex
X-PUBLISHED-TTL:PT1H
BEGIN:VTIMEZONE
TZID:Europe/Paris
BEGIN:DAYLIGHT
TZOFFSETFROM:+0100
TZOFFSETTO:+0200
TZNAME:CEST
DTSTART:20240331T010000
END:DAYLIGHT
BEGIN:STANDARD
TZOFFSETFROM:+0200
TZOFFSETTO:+0100
TZNAME:CET
DTSTART:20241027T010000
END:STANDARD
BEGIN:DAYLIGHT
TZOFFSETFROM:+0100
TZOFFSETTO:+0200
TZNAME:CEST
DTSTART:20250330T010000
END:DAYLIGHT
BEGIN:STANDARD
TZOFFSETFROM:+0200
TZOFFSETTO:+0100
TZNAME:CET
DTSTART:20251026T010000
END:STANDARD
BEGIN:DAYLIGHT
TZOFFSETFROM:+0100
TZOFFSETTO:+0200
TZNAME:CEST
DTSTART:20260329T010000
END:DAYLIGHT
BEGIN:STANDARD
TZOFFSETFROM:+0200
TZOFFSETTO:+0100
TZNAME:CET
DTSTART:20261025T010000
END:STANDARD
END:VTIMEZONE
BEGIN:VEVENT
DTSTART;TZID=Europe/Paris:20250517T100000
DTEND;TZID=Europe/Paris:20250517T123000
DTSTAMP:20260421T160350
CREATED:20250327T153622Z
LAST-MODIFIED:20250327T153622Z
UID:9273-1747476000-1747485000@www.lebullition.fr
SUMMARY:OUTILTHEQUE
DESCRIPTION:Samedi 17 mai 2025 – 10h à 12h30\n \n\nVous avez besoin d’une perceuse\, d’un appareil à raclette\, d’un nettoyeur haute-pression..? \nDoit-on forcément avoir ces objets que l’on n’utilise pas tous les jours chez soi ? \nEn mutualisant des outils et des objets que nous n’utilisons que quelques fois par an\, nous augmentons leur durée de vie et d’utilisation et surtout\, nous réduisons notre impact environnemental. \nVenez emprunter ou louer ces outils à l’Ébullition le samedi matin\, notre équipe de bénévoles vous accueille et vous conseille. \n 
URL:https://www.lebullition.fr/events/outiltheque-170525/
LOCATION:L’ÉBULLITION\, 2 avenue de la République\, PALAISEAU\, 91120\, France
CATEGORIES:ATELIERS
ATTACH;FMTTYPE=image/jpeg:https://www.lebullition.fr/wp-content/uploads/2024/10/WEB-VISUEL-PROGRAMMATION-3-768x768-1.jpg
ORGANIZER;CN="L'%C3%89BULLITION":MAILTO:contact-ebullition@palaiseautierslieu.fr
END:VEVENT
BEGIN:VEVENT
DTSTART;TZID=Europe/Paris:20250517T100000
DTEND;TZID=Europe/Paris:20250517T170000
DTSTAMP:20260421T160350
CREATED:20250419T180455Z
LAST-MODIFIED:20250419T180455Z
UID:9395-1747476000-1747501200@www.lebullition.fr
SUMMARY:BOURSE AUX VINYLES AVEC RADIO MILLE PATTE
DESCRIPTION:Samedi 17 mai 2025 – 10H à 17H – Ouvert à tous\n \n\n\n\n\nL’ÉBULLITION organise une journée avec RMP (Radio Mille Pattes)\, dédiée aux passionnés de bons sons et lance ça première bourse aux vinyles.\nTu as des vinyles qui dorment dans un coin ? Tu veux partager ta collection ou faire un peu de place dans tes bacs ? \n\n\nTiens un stand et partage tes trésors musicaux avec d’autres passionnés.\n\n\nRMP propose d’ambiancer l’événement avec un DJ Set 100% vinyle\, tout au long de la journée.\nUne belle journée de convivialité en perspective dans la cour de L’ÉBULLITION.
URL:https://www.lebullition.fr/events/bourse-aux-des-vinyles-170525/
LOCATION:L’ÉBULLITION\, 2 avenue de la République\, PALAISEAU\, 91120\, France
CATEGORIES:ÉVÉNEMENT
ATTACH;FMTTYPE=image/jpeg:https://www.lebullition.fr/wp-content/uploads/2025/04/EVENT-CALENDAR-SEPT246.jpg
ORGANIZER;CN="L'%C3%89BULLITION":MAILTO:contact-ebullition@palaiseautierslieu.fr
END:VEVENT
BEGIN:VEVENT
DTSTART;TZID=Europe/Paris:20250517T183000
DTEND;TZID=Europe/Paris:20250517T213000
DTSTAMP:20260421T160350
CREATED:20250509T083839Z
LAST-MODIFIED:20250509T083839Z
UID:9551-1747506600-1747517400@www.lebullition.fr
SUMMARY:CONCERT - RMP DJ SET
DESCRIPTION:Samedi 17 mai 2025 – 18H à 21H30 – Ouvert à tous\n \n\n\n\n\n\n\n\nRadio Mille Pattes est la radio associative de Saulx-les-Chartreux\, 100% Reggae. \nLes DJs sont des habitués\, ils reviennent s’installer derrière leurs platines pour une carte blanche 100% vinyle. \nPlus d’info : www.radiomillepattes.com \n 
URL:https://www.lebullition.fr/events/concert-rmp-170525/
LOCATION:L’ÉBULLITION\, 2 avenue de la République\, PALAISEAU\, 91120\, France
CATEGORIES:ÉVÉNEMENT
ATTACH;FMTTYPE=image/jpeg:https://www.lebullition.fr/wp-content/uploads/2025/05/CONCERT-EVENT-CALENDAR-202531.jpg
ORGANIZER;CN="L'%C3%89BULLITION":MAILTO:contact-ebullition@palaiseautierslieu.fr
END:VEVENT
END:VCALENDAR