BEGIN:VCALENDAR
VERSION:2.0
PRODID:-//L ÉBULLITION - ECPv6.15.20//NONSGML v1.0//EN
CALSCALE:GREGORIAN
METHOD:PUBLISH
X-WR-CALNAME:L ÉBULLITION
X-ORIGINAL-URL:https://www.lebullition.fr
X-WR-CALDESC:Évènements pour L ÉBULLITION
REFRESH-INTERVAL;VALUE=DURATION:PT1H
X-Robots-Tag:noindex
X-PUBLISHED-TTL:PT1H
BEGIN:VTIMEZONE
TZID:Europe/Paris
BEGIN:DAYLIGHT
TZOFFSETFROM:+0100
TZOFFSETTO:+0200
TZNAME:CEST
DTSTART:20240331T010000
END:DAYLIGHT
BEGIN:STANDARD
TZOFFSETFROM:+0200
TZOFFSETTO:+0100
TZNAME:CET
DTSTART:20241027T010000
END:STANDARD
BEGIN:DAYLIGHT
TZOFFSETFROM:+0100
TZOFFSETTO:+0200
TZNAME:CEST
DTSTART:20250330T010000
END:DAYLIGHT
BEGIN:STANDARD
TZOFFSETFROM:+0200
TZOFFSETTO:+0100
TZNAME:CET
DTSTART:20251026T010000
END:STANDARD
BEGIN:DAYLIGHT
TZOFFSETFROM:+0100
TZOFFSETTO:+0200
TZNAME:CEST
DTSTART:20260329T010000
END:DAYLIGHT
BEGIN:STANDARD
TZOFFSETFROM:+0200
TZOFFSETTO:+0100
TZNAME:CET
DTSTART:20261025T010000
END:STANDARD
END:VTIMEZONE
BEGIN:VEVENT
DTSTART;TZID=Europe/Paris:20250523T094500
DTEND;TZID=Europe/Paris:20250523T104500
DTSTAMP:20260421T143236
CREATED:20250327T154408Z
LAST-MODIFIED:20250327T154408Z
UID:9288-1747993500-1747997100@www.lebullition.fr
SUMMARY:COURS DE PILATES
DESCRIPTION:Vendredi 23 mai 2025 – 9h45 à 10h45\n \n\n\n\n\n\n\n\n\nDAPYS vous propose des cours en petit groupe (max 5 personnes) à l’Ebullition :\n \nNos cours sont ouverts à tous (débutants comme confirmés).\nNous proposons plusieurs options et nous nous adaptons à votre niveau et votre météo corporelle. \n\n\n\nUne bonne occasion de rencontrer de nouvelles personnes\, de prendre du temps pour soi\, de s’évader de son quotidien et d’apprendre de nouvelles compétences manuelles. \n\n\n\n\n 
URL:https://www.lebullition.fr/events/cours-de-pilates-230525/
LOCATION:L’ÉBULLITION\, 2 avenue de la République\, PALAISEAU\, 91120\, France
CATEGORIES:ATELIERS
ATTACH;FMTTYPE=image/jpeg:https://www.lebullition.fr/wp-content/uploads/2024/08/LOGO-DAPYS_ENTIER-NOIR.jpg
ORGANIZER;CN="L'%C3%89BULLITION":MAILTO:contact-ebullition@palaiseautierslieu.fr
END:VEVENT
BEGIN:VEVENT
DTSTART;TZID=Europe/Paris:20250523T180000
DTEND;TZID=Europe/Paris:20250523T190000
DTSTAMP:20260421T143236
CREATED:20250327T160434Z
LAST-MODIFIED:20250327T160434Z
UID:9290-1748023200-1748026800@www.lebullition.fr
SUMMARY:ATELIER ÉCHECS POUR LES ENFANTS
DESCRIPTION:Vendredi 23 mai 2025 – 18h à 19h – Module 5 (6 séances)\n \n\nLes ateliers ÉCHECS sont des ateliers pour les enfants ( à partir de 8 ans) qui aiment les échecs et qui veulent faire des parties pour le plaisir et améliorer leurs pratiques. Encadrés par des adultes bénévoles de l’association\, les enfants se donnent RDV tous les vendredis à 18h\, pour pratiquer les échecs et surtout s’amuser. \n 
URL:https://www.lebullition.fr/events/atelier-echecs-pour-les-enfants-230525/
LOCATION:L’ÉBULLITION\, 2 avenue de la République\, PALAISEAU\, 91120\, France
CATEGORIES:ATELIERS
ATTACH;FMTTYPE=image/jpeg:https://www.lebullition.fr/wp-content/uploads/2024/08/EVENT-CALENDAR-SEPT241.jpg
ORGANIZER;CN="L'%C3%89BULLITION":MAILTO:contact-ebullition@palaiseautierslieu.fr
END:VEVENT
BEGIN:VEVENT
DTSTART;TZID=Europe/Paris:20250523T180000
DTEND;TZID=Europe/Paris:20250523T200000
DTSTAMP:20260421T143236
CREATED:20250327T160629Z
LAST-MODIFIED:20250327T160629Z
UID:9292-1748023200-1748030400@www.lebullition.fr
SUMMARY:PERMANENCE UFC – QUE CHOISIR – 91 NORD
DESCRIPTION:Vendredi 23 mai 2025 – 4e vendredi du mois de 18h à 20h (par ordre d’arrivée)\n \n\nPromouvoir les actions individuelles ou collectives des consommateurs. Favoriser la prise en charge des problèmes de consommation. Représenter les groupements et personnes. \n 
URL:https://www.lebullition.fr/events/permanence-ufc-que-choisir-91-nord-230525/
LOCATION:L’ÉBULLITION\, 2 avenue de la République\, PALAISEAU\, 91120\, France
CATEGORIES:PARTENAIRES
ATTACH;FMTTYPE=image/png:https://www.lebullition.fr/wp-content/uploads/2024/08/Capture-decran-2024-08-22-171401.png
ORGANIZER;CN="L'%C3%89BULLITION":MAILTO:contact-ebullition@palaiseautierslieu.fr
END:VEVENT
BEGIN:VEVENT
DTSTART;TZID=Europe/Paris:20250523T190000
DTEND;TZID=Europe/Paris:20250523T213000
DTSTAMP:20260421T143236
CREATED:20250507T153633Z
LAST-MODIFIED:20250507T153633Z
UID:9547-1748026800-1748035800@www.lebullition.fr
SUMMARY:L'APÉRO COUTURE ET FIL
DESCRIPTION:Vendredi 23 mai 2025 – 19h à 21h30\n \n\nVous êtes intéressées\, passionnées de couture et autres activités créatives autour du fil et des aiguilles ? Rejoignez d’autre passionnés et allier l’utile à l’agréable\, pour partager un moment convivial\,  autour d’un verre\, papoter et s’entraider sur les projets des un.es et des autres. \nRdv programmé une fois par mois. Ouvert à tout.es\, débutant.es ou expert.es\, Vous pouvez venir accompagné.e de vos enfants à partir de 8 ans. \nPlus d’informations sur la page dédiée sur notre site.
URL:https://www.lebullition.fr/events/lapero-couture-et-fil-230525/
LOCATION:L’ÉBULLITION\, 2 avenue de la République\, PALAISEAU\, 91120\, France
CATEGORIES:ATELIERS
ATTACH;FMTTYPE=image/jpeg:https://www.lebullition.fr/wp-content/uploads/2024/08/EVENT-CALENDAR-SEPT24-1.jpg
ORGANIZER;CN="L'%C3%89BULLITION":MAILTO:contact-ebullition@palaiseautierslieu.fr
END:VEVENT
BEGIN:VEVENT
DTSTART;TZID=Europe/Paris:20250523T190000
DTEND;TZID=Europe/Paris:20250523T213000
DTSTAMP:20260421T143236
CREATED:20250509T085213Z
LAST-MODIFIED:20250509T085342Z
UID:9554-1748026800-1748035800@www.lebullition.fr
SUMMARY:CONCERT - VIEUX GROOVE DEL MUNDO (DJ SET)
DESCRIPTION:Vendredi 23 mai 2025 – 19H à 21H30 – Ouvert à tous\n \n\n\n\n\n\n\nLe Vieux Groove Del Mundo est un collectif de dj/selectas.\nComme son nom l’indique\, ce qui les branche c’est de passer du bon vieux son du monde entier dans un esprit dancefloor ou plutôt « bal à la cool ».\nDe la musique à partager\, pour chiller ou danser\, mais toujours dans l’esprit du partage et du kif!\nPlus d’info : www.facebook.com/vieuxgroovedelmundo
URL:https://www.lebullition.fr/events/concert-vieux-groove-del-mundo-dj-set/
LOCATION:L’ÉBULLITION\, 2 avenue de la République\, PALAISEAU\, 91120\, France
CATEGORIES:ÉVÉNEMENT
ATTACH;FMTTYPE=image/jpeg:https://www.lebullition.fr/wp-content/uploads/2025/05/Vieux-Groove-del-Mundo.jpg
ORGANIZER;CN="L'%C3%89BULLITION":MAILTO:contact-ebullition@palaiseautierslieu.fr
END:VEVENT
BEGIN:VEVENT
DTSTART;TZID=Europe/Paris:20250523T190000
DTEND;TZID=Europe/Paris:20250523T220000
DTSTAMP:20260421T143236
CREATED:20241224T084412Z
LAST-MODIFIED:20241224T084412Z
UID:8660-1748026800-1748037600@www.lebullition.fr
SUMMARY:SOIRÉE JEUX
DESCRIPTION:Soirée jeux de société – à partir de 10 ans – 19h \n\n\n\nJE JOUE\, TU JOUES\, NOUS JOUONS… \n\n\n\n\n\n\n\n\nChaque dernier vendredi du mois\, pour bien commencer le week-end\, on vous propose une soirée jeux de société. Découvrez des jeux simples\, stratégiques\, coopératifs. Apportez vos jeux préférés pour faire une partie et les partager.\nUn moment convivial\, animé par Catherine Menthe-Sauge\,  pour passer du bon temps\, tout simplement. Vous pouvez apporter quelque chose à grignoter et à partager en mode « Auberge espagnole ». Vous pouvez aussi profiter de boire un verre (ou vous restaurer à LA GUINGUETTE quand elle est ouverte)\, le café associatif de L’ÉBULLITION. \nC’est gratuit\, mais réservé aux adhérent.es. Le nombre de places est limité\, donc l’inscription est obligatoire.
URL:https://www.lebullition.fr/events/soiree-jeux-230525/
LOCATION:L’ÉBULLITION\, 2 avenue de la République\, PALAISEAU\, 91120\, France
CATEGORIES:ATELIERS
ATTACH;FMTTYPE=image/jpeg:https://www.lebullition.fr/wp-content/uploads/2024/07/WEB-EVENT-CALENDAR33.jpg
ORGANIZER;CN="L'%C3%89BULLITION":MAILTO:contact-ebullition@palaiseautierslieu.fr
END:VEVENT
END:VCALENDAR