BEGIN:VCALENDAR
VERSION:2.0
PRODID:-//L ÉBULLITION - ECPv6.15.20//NONSGML v1.0//EN
CALSCALE:GREGORIAN
METHOD:PUBLISH
X-WR-CALNAME:L ÉBULLITION
X-ORIGINAL-URL:https://www.lebullition.fr
X-WR-CALDESC:Évènements pour L ÉBULLITION
REFRESH-INTERVAL;VALUE=DURATION:PT1H
X-Robots-Tag:noindex
X-PUBLISHED-TTL:PT1H
BEGIN:VTIMEZONE
TZID:Europe/Paris
BEGIN:DAYLIGHT
TZOFFSETFROM:+0100
TZOFFSETTO:+0200
TZNAME:CEST
DTSTART:20250330T010000
END:DAYLIGHT
BEGIN:STANDARD
TZOFFSETFROM:+0200
TZOFFSETTO:+0100
TZNAME:CET
DTSTART:20251026T010000
END:STANDARD
BEGIN:DAYLIGHT
TZOFFSETFROM:+0100
TZOFFSETTO:+0200
TZNAME:CEST
DTSTART:20260329T010000
END:DAYLIGHT
BEGIN:STANDARD
TZOFFSETFROM:+0200
TZOFFSETTO:+0100
TZNAME:CET
DTSTART:20261025T010000
END:STANDARD
BEGIN:DAYLIGHT
TZOFFSETFROM:+0100
TZOFFSETTO:+0200
TZNAME:CEST
DTSTART:20270328T010000
END:DAYLIGHT
BEGIN:STANDARD
TZOFFSETFROM:+0200
TZOFFSETTO:+0100
TZNAME:CET
DTSTART:20271031T010000
END:STANDARD
END:VTIMEZONE
BEGIN:VEVENT
DTSTART;TZID=Europe/Paris:20260422T100000
DTEND;TZID=Europe/Paris:20260422T180000
DTSTAMP:20260422T013406
CREATED:20260403T132726Z
LAST-MODIFIED:20260403T132911Z
UID:11095-1776852000-1776880800@www.lebullition.fr
SUMMARY:EXPO RENCONTRE - Rencontre avec les plantes - Anaïs Bon
DESCRIPTION:Mercredi 22 avril 2026 – 10h à 12h30 et 15h à 18h \n\nExpo-Rencontre avec Anaïs Bon – “Rencontre avec les plantes” \nNous accueillons sur les murs du tiers-lieu les aquarelles d’Anaïs Bon. \nCette exposition présente une sélection d’aquarelles originales d’Anaïs qui illustre le livre À la rencontre des plantes. Chaque plante exposée est représentée par une illustration botanique et une illustration symbolique invitant à la méditation. Une invitation à redécouvrir les plantes sauvages qui nous entourent\, discrètes et précieuses compagnes du quotidien. \n\n\nL’exposition se prolonge pour quelques jours\, les mercredis\, vendredis après-midis et samedis\, jusqu’au 2 mai.(10H à 12H30 et 15H à 18H)
URL:https://www.lebullition.fr/events/expo-rencontre-rencontre-avec-les-plantes-anais-bon-220426/
LOCATION:L’ÉBULLITION\, 2 avenue de la République\, PALAISEAU\, 91120\, France
CATEGORIES:ÉVÉNEMENT,RENCONTRES
ATTACH;FMTTYPE=image/jpeg:https://www.lebullition.fr/wp-content/uploads/2026/04/AFFICHE-Expo-A.-BON1.jpg
ORGANIZER;CN="L'%C3%89BULLITION":MAILTO:contact-ebullition@palaiseautierslieu.fr
END:VEVENT
END:VCALENDAR