BEGIN:VCALENDAR
VERSION:2.0
PRODID:-//L ÉBULLITION - ECPv6.15.20//NONSGML v1.0//EN
CALSCALE:GREGORIAN
METHOD:PUBLISH
X-WR-CALNAME:L ÉBULLITION
X-ORIGINAL-URL:https://www.lebullition.fr
X-WR-CALDESC:Évènements pour L ÉBULLITION
REFRESH-INTERVAL;VALUE=DURATION:PT1H
X-Robots-Tag:noindex
X-PUBLISHED-TTL:PT1H
BEGIN:VTIMEZONE
TZID:Europe/Paris
BEGIN:DAYLIGHT
TZOFFSETFROM:+0100
TZOFFSETTO:+0200
TZNAME:CEST
DTSTART:20230326T010000
END:DAYLIGHT
BEGIN:STANDARD
TZOFFSETFROM:+0200
TZOFFSETTO:+0100
TZNAME:CET
DTSTART:20231029T010000
END:STANDARD
BEGIN:DAYLIGHT
TZOFFSETFROM:+0100
TZOFFSETTO:+0200
TZNAME:CEST
DTSTART:20240331T010000
END:DAYLIGHT
BEGIN:STANDARD
TZOFFSETFROM:+0200
TZOFFSETTO:+0100
TZNAME:CET
DTSTART:20241027T010000
END:STANDARD
BEGIN:DAYLIGHT
TZOFFSETFROM:+0100
TZOFFSETTO:+0200
TZNAME:CEST
DTSTART:20250330T010000
END:DAYLIGHT
BEGIN:STANDARD
TZOFFSETFROM:+0200
TZOFFSETTO:+0100
TZNAME:CET
DTSTART:20251026T010000
END:STANDARD
END:VTIMEZONE
BEGIN:VEVENT
DTSTART;TZID=Europe/Paris:20240301T190000
DTEND;TZID=Europe/Paris:20240301T213000
DTSTAMP:20260425T045655
CREATED:20240110T104911Z
LAST-MODIFIED:20240110T104911Z
UID:6719-1709319600-1709328600@www.lebullition.fr
SUMMARY:L'APÉRO COUTURE ET FIL
DESCRIPTION:Vendredi 1er mars 2024 – 19h à 21h30 –\n \n\nVotre truc c’est parler tissus\, boutons\, patron\, récup\, vous avez un sacré coup d’aiguilles… ou au contraire vous aimeriez apprendre à tricoter\, coudre\, broder et vous avez envie de passer un moment convivial avec d’autres passionné.es de l’aiguille et du bouton? Alors ce nouveau RDV est pour vous. Autour d’un verre\, car c’est la fin de la semaine et l’heure de l’apéro\, venez papoter autour de la couture\, du tricot… pour échanger des trucs et astuces. Et surtout\, il ne faut pas hésiter à venir avec ses envies de création\, à apporter son matériel ou vos projets en cours. \nToutes les informations\, prix et inscriptions ici. \nRdv programmé tous les 15 jours Ouvert à tout.es\, débutant.es ou expert.es\, Vous pouvez venir accompagné.e de vos enfants à partir de 8 ans.
URL:https://www.lebullition.fr/events/lapero-couture-et-fil-010324/
LOCATION:L’ÉBULLITION\, 2 avenue de la République\, PALAISEAU\, 91120\, France
CATEGORIES:ATELIERS
ATTACH;FMTTYPE=image/jpeg:https://www.lebullition.fr/wp-content/uploads/2023/08/WEB-EVENT-CALENDAR2.jpg
ORGANIZER;CN="L'%C3%89BULLITION":MAILTO:contact-ebullition@palaiseautierslieu.fr
END:VEVENT
BEGIN:VEVENT
DTSTART;TZID=Europe/Paris:20240306T150000
DTEND;TZID=Europe/Paris:20240306T170000
DTSTAMP:20260425T045655
CREATED:20240118T141233Z
LAST-MODIFIED:20240118T141233Z
UID:6759-1709737200-1709744400@www.lebullition.fr
SUMMARY:LES ATELIERS RÉCRÉABULLE
DESCRIPTION:Mercredi 6 mars 2024 – 15h00 à 17h00\n \n\nLes ateliers RÉCRÉABULLE sont des ateliers dédiés pour les enfants de 3 à 11 ans. C’est 2H de récréation!\nC’est un RDV pour s’amuser et prendre le temps de faire des activités avec vos enfants. \nOn se donne RDV\, tous les mercredis après-midis\, pour s’amuser! \n\nOn s’amuse autour d’un jeu de société.\nOn fait un atelier créatif avec un maximum de récup’.\nOn écoute une belle histoire.\nOn fait une chasse au trésor.\nOn joue avec les dinosaures\, les poupées\, les voitures\, la dinette…\nOn place des pièces d’un grand puzzle collectif\nOn décore une frise….\n\nC’est un nouveau projet que nous voulons le construire\, ensemble\, avec vous et surtout avec les enfants. \nOn expérimente et on fait évoluer le projet . La programmation se construira au gré des rencontres\, des envies et des demandes. \nChers parents\, vous êtes les bienvenus pour prendre le temps de participer à ces activités avec vos enfants. \nLes ateliers RÉCRÉABULLE\, c’est 2H de récréation\, loin des écrans! Un RDV pour S’AMUSER! \nInformations pratiques: \n\nLes ateliers inclus l’animation des ateliers et le matériel\, n’inclus pas la collation.\nTous les mercredis après-midis de 15H à 17H\nAtelier réservé aux adhérents de L’ÉBULLITION. (Adhésion famille: 17€/an)\nAtelier pour les enfants de 3 à 11 ans.\nL’accompagnement des enfants de 3 à 8 ans est OBLIGATOIRE.\nL’inscription est obligatoire pour toutes les personnes présentes (adultes et enfants)\nUne participation libre en pleine conscience est demandée pour nous soutenir et valoriser nos actions.
URL:https://www.lebullition.fr/events/les-ateliers-recreabulle-060324/
LOCATION:L’ÉBULLITION\, 2 avenue de la République\, PALAISEAU\, 91120\, France
CATEGORIES:ATELIERS
ATTACH;FMTTYPE=image/jpeg:https://www.lebullition.fr/wp-content/uploads/2024/01/WEB-EVENT-CALENDAR26.jpg
ORGANIZER;CN="L'%C3%89BULLITION":MAILTO:contact-ebullition@palaiseautierslieu.fr
END:VEVENT
BEGIN:VEVENT
DTSTART;TZID=Europe/Paris:20240308T180000
DTEND;TZID=Europe/Paris:20240308T190000
DTSTAMP:20260425T045655
CREATED:20240203T175621Z
LAST-MODIFIED:20240205T053544Z
UID:6840-1709920800-1709924400@www.lebullition.fr
SUMMARY:ATELIER ÉCHEC POUR LES ENFANTS
DESCRIPTION:Atelier Échec pour les enfants – à partir de 10 ans – 18h à 19h\n \n\n\n\nJUSTE POUR S’AMUSER AUTOUR D’UNE PARTIE D’ÉCHEC….\n \n\n\n\n\n\n\n\n\n… et pourquoi pas progresse un peu. \nUn vendredi par mois\, L’ÉBULLITION accueille les enfants qui aiment jouer aux échecs mais qui ne trouvent pas toujours de partenaires.\nCe n’est pas un cours d’apprentissage mais plutôt un moment convivial pour faire une partie ou plusieurs avec des enfants et d’autres adultes…La compèt’ et les tournois c’est pas ici! \nVous avez envie de découvrir ce nouvel atelier? La première séance est offerte.\nL’atelier est réservé aux adhérent.es et une participation de 5€/séance est demandée pour soutenir les actions et les projets de L’ÉBULLITION. Le nombre de places est limité\, l’inscription est donc obligatoire.
URL:https://www.lebullition.fr/events/echec-enfants-080324/
LOCATION:L’ÉBULLITION\, 2 avenue de la République\, PALAISEAU\, 91120\, France
CATEGORIES:ATELIERS
ATTACH;FMTTYPE=image/jpeg:https://www.lebullition.fr/wp-content/uploads/2024/02/2.jpg
ORGANIZER;CN="L'%C3%89BULLITION":MAILTO:contact-ebullition@palaiseautierslieu.fr
END:VEVENT
BEGIN:VEVENT
DTSTART;TZID=Europe/Paris:20240313T150000
DTEND;TZID=Europe/Paris:20240313T170000
DTSTAMP:20260425T045655
CREATED:20240118T141513Z
LAST-MODIFIED:20240118T141638Z
UID:6761-1710342000-1710349200@www.lebullition.fr
SUMMARY:LES ATELIERS RÉCRÉABULLE
DESCRIPTION:Mercredi 13 mars 2024 – 15h00 à 17h00\n \n\nLes ateliers RÉCRÉABULLE sont des ateliers dédiés pour les enfants de 3 à 11 ans. C’est 2H de récréation!\nC’est un RDV pour s’amuser et prendre le temps de faire des activités avec vos enfants. \nOn se donne RDV\, tous les mercredis après-midis\, pour s’amuser! \n\nOn s’amuse autour d’un jeu de société.\nOn fait un atelier créatif avec un maximum de récup’.\nOn écoute une belle histoire.\nOn fait une chasse au trésor.\nOn joue avec les dinosaures\, les poupées\, les voitures\, la dinette…\nOn place des pièces d’un grand puzzle collectif\nOn décore une frise….\n\nC’est un nouveau projet que nous voulons le construire\, ensemble\, avec vous et surtout avec les enfants. \nOn expérimente et on fait évoluer le projet . La programmation se construira au gré des rencontres\, des envies et des demandes. \nChers parents\, vous êtes les bienvenus pour prendre le temps de participer à ces activités avec vos enfants. \nLes ateliers RÉCRÉABULLE\, c’est 2H de récréation\, loin des écrans! Un RDV pour S’AMUSER! \nInformations pratiques: \n\nLes ateliers inclus l’animation des ateliers et le matériel\, n’inclus pas la collation.\nTous les mercredis après-midis de 15H à 17H\nAtelier réservé aux adhérents de L’ÉBULLITION. (Adhésion famille: 17€/an)\nAtelier pour les enfants de 3 à 11 ans.\nL’accompagnement des enfants de 3 à 8 ans est OBLIGATOIRE.\nL’inscription est obligatoire pour toutes les personnes présentes (adultes et enfants)\nUne participation libre en pleine conscience est demandée pour nous soutenir et valoriser nos actions.
URL:https://www.lebullition.fr/events/les-ateliers-recreabulle-130324/
LOCATION:L’ÉBULLITION\, 2 avenue de la République\, PALAISEAU\, 91120\, France
CATEGORIES:ATELIERS
ATTACH;FMTTYPE=image/jpeg:https://www.lebullition.fr/wp-content/uploads/2024/01/WEB-EVENT-CALENDAR26.jpg
ORGANIZER;CN="L'%C3%89BULLITION":MAILTO:contact-ebullition@palaiseautierslieu.fr
END:VEVENT
BEGIN:VEVENT
DTSTART;TZID=Europe/Paris:20240314T143000
DTEND;TZID=Europe/Paris:20240314T170000
DTSTAMP:20260425T045655
CREATED:20231215T142842Z
LAST-MODIFIED:20231215T143320Z
UID:6585-1710426600-1710435600@www.lebullition.fr
SUMMARY:COURS DE COUTURE DÉBUTANT.E - MODULE 2
DESCRIPTION:Jeudi 14 mars 2024 – 14h30 à 17h00\n \n\n\n\n\n\nL’ÉBULLITION met en place\, à partir de janvier des cours de couture pour les débutant.es avec Magalie\, couturière professionnelle. \nDans une ambiance conviviale\, en petit groupe\, Magalie vous proposera des ouvrages simples que vous pourrez personnaliser mais aussi l’élaboration de créations collectives (décoration\, petits objets) pour embellir le tiers-lieu. \nUne bonne occasion de rencontrer de nouvelles personnes\, de prendre du temps pour soi\, de s’évader de son quotidien et d’apprendre de nouvelles compétences manuelles. \n\n\n\n\n 
URL:https://www.lebullition.fr/events/cours-de-couture-debutant-e-140324/
LOCATION:L’ÉBULLITION\, 2 avenue de la République\, PALAISEAU\, 91120\, France
CATEGORIES:ATELIERS
ATTACH;FMTTYPE=image/jpeg:https://www.lebullition.fr/wp-content/uploads/2023/11/WEB-EVENT-CALENDAR23.jpg
ORGANIZER;CN="L'%C3%89BULLITION":MAILTO:contact-ebullition@palaiseautierslieu.fr
END:VEVENT
BEGIN:VEVENT
DTSTART;TZID=Europe/Paris:20240314T180000
DTEND;TZID=Europe/Paris:20240314T203000
DTSTAMP:20260425T045655
CREATED:20231215T142752Z
LAST-MODIFIED:20231215T143309Z
UID:6583-1710439200-1710448200@www.lebullition.fr
SUMMARY:COURS DE COUTURE DÉBUTANT.E - MODULE 2
DESCRIPTION:Jeudi 14 mars 2024 – 18h00 à 20h30\n \n\n\n\n\n\nL’ÉBULLITION met en place\, à partir de janvier des cours de couture pour les débutant.es avec Magalie\, couturière professionnelle. \nDans une ambiance conviviale\, en petit groupe\, Magalie vous proposera des ouvrages simples que vous pourrez personnaliser mais aussi l’élaboration de créations collectives (décoration\, petits objets) pour embellir le tiers-lieu. \nUne bonne occasion de rencontrer de nouvelles personnes\, de prendre du temps pour soi\, de s’évader de son quotidien et d’apprendre de nouvelles compétences manuelles. \n\n\n\n\n 
URL:https://www.lebullition.fr/events/cours-de-couture-debutant-e-140324-18h/
LOCATION:L’ÉBULLITION\, 2 avenue de la République\, PALAISEAU\, 91120\, France
CATEGORIES:ATELIERS
ATTACH;FMTTYPE=image/jpeg:https://www.lebullition.fr/wp-content/uploads/2023/11/WEB-EVENT-CALENDAR23.jpg
ORGANIZER;CN="L'%C3%89BULLITION":MAILTO:contact-ebullition@palaiseautierslieu.fr
END:VEVENT
BEGIN:VEVENT
DTSTART;TZID=Europe/Paris:20240320T150000
DTEND;TZID=Europe/Paris:20240320T170000
DTSTAMP:20260425T045655
CREATED:20240118T141606Z
LAST-MODIFIED:20240118T141606Z
UID:6763-1710946800-1710954000@www.lebullition.fr
SUMMARY:LES ATELIERS RÉCRÉABULLE
DESCRIPTION:Mercredi 20 mars 2024 – 15h00 à 17h00\n \n\nLes ateliers RÉCRÉABULLE sont des ateliers dédiés pour les enfants de 3 à 11 ans. C’est 2H de récréation!\nC’est un RDV pour s’amuser et prendre le temps de faire des activités avec vos enfants. \nOn se donne RDV\, tous les mercredis après-midis\, pour s’amuser! \n\nOn s’amuse autour d’un jeu de société.\nOn fait un atelier créatif avec un maximum de récup’.\nOn écoute une belle histoire.\nOn fait une chasse au trésor.\nOn joue avec les dinosaures\, les poupées\, les voitures\, la dinette…\nOn place des pièces d’un grand puzzle collectif\nOn décore une frise….\n\nC’est un nouveau projet que nous voulons le construire\, ensemble\, avec vous et surtout avec les enfants. \nOn expérimente et on fait évoluer le projet . La programmation se construira au gré des rencontres\, des envies et des demandes. \nChers parents\, vous êtes les bienvenus pour prendre le temps de participer à ces activités avec vos enfants. \nLes ateliers RÉCRÉABULLE\, c’est 2H de récréation\, loin des écrans! Un RDV pour S’AMUSER! \nInformations pratiques: \n\nLes ateliers inclus l’animation des ateliers et le matériel\, n’inclus pas la collation.\nTous les mercredis après-midis de 15H à 17H\nAtelier réservé aux adhérents de L’ÉBULLITION. (Adhésion famille: 17€/an)\nAtelier pour les enfants de 3 à 11 ans.\nL’accompagnement des enfants de 3 à 8 ans est OBLIGATOIRE.\nL’inscription est obligatoire pour toutes les personnes présentes (adultes et enfants)\nUne participation libre en pleine conscience est demandée pour nous soutenir et valoriser nos actions.
URL:https://www.lebullition.fr/events/les-ateliers-recreabulle-200324/
LOCATION:L’ÉBULLITION\, 2 avenue de la République\, PALAISEAU\, 91120\, France
CATEGORIES:ATELIERS
ATTACH;FMTTYPE=image/jpeg:https://www.lebullition.fr/wp-content/uploads/2024/01/WEB-EVENT-CALENDAR26.jpg
ORGANIZER;CN="L'%C3%89BULLITION":MAILTO:contact-ebullition@palaiseautierslieu.fr
END:VEVENT
BEGIN:VEVENT
DTSTART;TZID=Europe/Paris:20240329T190000
DTEND;TZID=Europe/Paris:20240329T190000
DTSTAMP:20260425T045655
CREATED:20240110T105026Z
LAST-MODIFIED:20240306T075348Z
UID:6721-1711738800-1711738800@www.lebullition.fr
SUMMARY:L'APÉRO COUTURE ET FIL
DESCRIPTION:Vendredi 29 mars 2024 – 19h à 21h30 –\n \n\nVotre truc c’est parler tissus\, boutons\, patron\, récup\, vous avez un sacré coup d’aiguilles… ou au contraire vous aimeriez apprendre à tricoter\, coudre\, broder et vous avez envie de passer un moment convivial avec d’autres passionné.es de l’aiguille et du bouton? Alors ce nouveau RDV est pour vous. Autour d’un verre\, car c’est la fin de la semaine et l’heure de l’apéro\, venez papoter autour de la couture\, du tricot… pour échanger des trucs et astuces. Et surtout\, il ne faut pas hésiter à venir avec ses envies de création\, à apporter son matériel ou vos projets en cours. \nToutes les informations\, prix et inscriptions ici. \nRdv programmé tous les 15 jours Ouvert à tout.es\, débutant.es ou expert.es\, Vous pouvez venir accompagné.e de vos enfants à partir de 8 ans.
URL:https://www.lebullition.fr/events/lapero-couture-et-fil-290324/
LOCATION:L’ÉBULLITION\, 2 avenue de la République\, PALAISEAU\, 91120\, France
CATEGORIES:ATELIERS
ATTACH;FMTTYPE=image/jpeg:https://www.lebullition.fr/wp-content/uploads/2023/08/WEB-EVENT-CALENDAR2.jpg
ORGANIZER;CN="L'%C3%89BULLITION":MAILTO:contact-ebullition@palaiseautierslieu.fr
END:VEVENT
BEGIN:VEVENT
DTSTART;TZID=Europe/Paris:20240323T093000
DTEND;TZID=Europe/Paris:20240323T123000
DTSTAMP:20260425T045655
CREATED:20240306T071909Z
LAST-MODIFIED:20240306T071909Z
UID:6941-1711186200-1711197000@www.lebullition.fr
SUMMARY:LA FRESQUE DE LA BIODIVERSITÉ
DESCRIPTION:Atelier de sensibilisation – Samedi 23 mars 2023- 9h30 à 12h30 \n\n\n\nSensibiliser\, c’est prendre conscience. \nDécouvrez au travers de cet atelier ludique et collaboratif l’aspect systémique de l’érosion de la biodiversité : ce qu’elle est\, ce qu’elle permet et ce qui la dégrade. \n 
URL:https://www.lebullition.fr/events/la-fresque-de-la-biodiversite-230324/
LOCATION:L’ÉBULLITION\, 2 avenue de la République\, PALAISEAU\, 91120\, France
CATEGORIES:ATELIERS
ATTACH;FMTTYPE=image/jpeg:https://www.lebullition.fr/wp-content/uploads/2023/10/WEB-EVENT-CALENDAR17.jpg
ORGANIZER;CN="L'%C3%89BULLITION":MAILTO:contact-ebullition@palaiseautierslieu.fr
END:VEVENT
BEGIN:VEVENT
DTSTART;TZID=Europe/Paris:20240323T150000
DTEND;TZID=Europe/Paris:20240323T163000
DTSTAMP:20260425T045655
CREATED:20240227T105445Z
LAST-MODIFIED:20240227T105445Z
UID:6929-1711206000-1711211400@www.lebullition.fr
SUMMARY:ATELIER TERRARIUM
DESCRIPTION:Atelier création d’un terrarium – samedi 23 mars – 15h à 16h30 \n\nAntoine\, passionné par les écosystèmes minuscules et autosuffisants vous propose un atelier pour  prendre le temps de comprendre comment ils fonctionnent. Il partagera son art et vous donnera tous les bons conseils pour réaliser pas à pas votre propre composition végétale dans un contenant recyclé pour créer ce petit écosystème tropical autosuffisant. L’univers du terrarium n’aura plus de secret pour vous.
URL:https://www.lebullition.fr/events/creation-dun-terrarium-230324/
LOCATION:L’ÉBULLITION\, 2 avenue de la République\, PALAISEAU\, 91120\, France
CATEGORIES:ATELIERS
ATTACH;FMTTYPE=image/jpeg:https://www.lebullition.fr/wp-content/uploads/2024/02/WEB-EVENT-CALENDAR29.jpg
ORGANIZER;CN="L'%C3%89BULLITION":MAILTO:contact-ebullition@palaiseautierslieu.fr
END:VEVENT
BEGIN:VEVENT
DTSTART;TZID=Europe/Paris:20240327T150000
DTEND;TZID=Europe/Paris:20240327T170000
DTSTAMP:20260425T045655
CREATED:20240118T141757Z
LAST-MODIFIED:20240118T141757Z
UID:6765-1711551600-1711558800@www.lebullition.fr
SUMMARY:LES ATELIERS RÉCRÉABULLE
DESCRIPTION:Mercredi 207mars 2024 – 15h00 à 17h00\n \n\nLes ateliers RÉCRÉABULLE sont des ateliers dédiés pour les enfants de 3 à 11 ans. C’est 2H de récréation!\nC’est un RDV pour s’amuser et prendre le temps de faire des activités avec vos enfants. \nOn se donne RDV\, tous les mercredis après-midis\, pour s’amuser! \n\nOn s’amuse autour d’un jeu de société.\nOn fait un atelier créatif avec un maximum de récup’.\nOn écoute une belle histoire.\nOn fait une chasse au trésor.\nOn joue avec les dinosaures\, les poupées\, les voitures\, la dinette…\nOn place des pièces d’un grand puzzle collectif\nOn décore une frise….\n\nC’est un nouveau projet que nous voulons le construire\, ensemble\, avec vous et surtout avec les enfants. \nOn expérimente et on fait évoluer le projet . La programmation se construira au gré des rencontres\, des envies et des demandes. \nChers parents\, vous êtes les bienvenus pour prendre le temps de participer à ces activités avec vos enfants. \nLes ateliers RÉCRÉABULLE\, c’est 2H de récréation\, loin des écrans! Un RDV pour S’AMUSER! \nInformations pratiques: \n\nLes ateliers inclus l’animation des ateliers et le matériel\, n’inclus pas la collation.\nTous les mercredis après-midis de 15H à 17H\nAtelier réservé aux adhérents de L’ÉBULLITION. (Adhésion famille: 17€/an)\nAtelier pour les enfants de 3 à 11 ans.\nL’accompagnement des enfants de 3 à 8 ans est OBLIGATOIRE.\nL’inscription est obligatoire pour toutes les personnes présentes (adultes et enfants)\nUne participation libre en pleine conscience est demandée pour nous soutenir et valoriser nos actions.
URL:https://www.lebullition.fr/events/les-ateliers-recreabulle-270324/
LOCATION:L’ÉBULLITION\, 2 avenue de la République\, PALAISEAU\, 91120\, France
CATEGORIES:ATELIERS
ATTACH;FMTTYPE=image/jpeg:https://www.lebullition.fr/wp-content/uploads/2024/01/WEB-EVENT-CALENDAR26.jpg
ORGANIZER;CN="L'%C3%89BULLITION":MAILTO:contact-ebullition@palaiseautierslieu.fr
END:VEVENT
BEGIN:VEVENT
DTSTART;TZID=Europe/Paris:20240328T143000
DTEND;TZID=Europe/Paris:20240328T170000
DTSTAMP:20260425T045655
CREATED:20231215T143140Z
LAST-MODIFIED:20231215T143140Z
UID:6589-1711636200-1711645200@www.lebullition.fr
SUMMARY:COURS DE COUTURE DÉBUTANT.E - MODULE 2
DESCRIPTION:Jeudi 28 mars 2024 – 14h30 à 17h\n \n\n\n\n\n\nL’ÉBULLITION met en place\, à partir de janvier des cours de couture pour les débutant.es avec Magalie\, couturière professionnelle. \nDans une ambiance conviviale\, en petit groupe\, Magalie vous proposera des ouvrages simples que vous pourrez personnaliser mais aussi l’élaboration de créations collectives (décoration\, petits objets) pour embellir le tiers-lieu. \nUne bonne occasion de rencontrer de nouvelles personnes\, de prendre du temps pour soi\, de s’évader de son quotidien et d’apprendre de nouvelles compétences manuelles. \n\n\n\n\n 
URL:https://www.lebullition.fr/events/cours-de-couture-debutant-e-280324/
LOCATION:L’ÉBULLITION\, 2 avenue de la République\, PALAISEAU\, 91120\, France
CATEGORIES:ATELIERS
ATTACH;FMTTYPE=image/jpeg:https://www.lebullition.fr/wp-content/uploads/2023/11/WEB-EVENT-CALENDAR23.jpg
ORGANIZER;CN="L'%C3%89BULLITION":MAILTO:contact-ebullition@palaiseautierslieu.fr
END:VEVENT
BEGIN:VEVENT
DTSTART;TZID=Europe/Paris:20240328T180000
DTEND;TZID=Europe/Paris:20240328T203000
DTSTAMP:20260425T045655
CREATED:20231215T142933Z
LAST-MODIFIED:20231215T143259Z
UID:6587-1711648800-1711657800@www.lebullition.fr
SUMMARY:COURS DE COUTURE DÉBUTANT.E - MODULE 2
DESCRIPTION:Jeudi 28 mars 2024 – 18h00 à 20h30\n \n\n\n\n\n\nL’ÉBULLITION met en place\, à partir de janvier des cours de couture pour les débutant.es avec Magalie\, couturière professionnelle. \nDans une ambiance conviviale\, en petit groupe\, Magalie vous proposera des ouvrages simples que vous pourrez personnaliser mais aussi l’élaboration de créations collectives (décoration\, petits objets) pour embellir le tiers-lieu. \nUne bonne occasion de rencontrer de nouvelles personnes\, de prendre du temps pour soi\, de s’évader de son quotidien et d’apprendre de nouvelles compétences manuelles. \n\n\n\n\n 
URL:https://www.lebullition.fr/events/cours-de-couture-debutant-e-280324-18h/
LOCATION:L’ÉBULLITION\, 2 avenue de la République\, PALAISEAU\, 91120\, France
CATEGORIES:ATELIERS
ATTACH;FMTTYPE=image/jpeg:https://www.lebullition.fr/wp-content/uploads/2023/11/WEB-EVENT-CALENDAR23.jpg
ORGANIZER;CN="L'%C3%89BULLITION":MAILTO:contact-ebullition@palaiseautierslieu.fr
END:VEVENT
END:VCALENDAR