BEGIN:VCALENDAR
VERSION:2.0
PRODID:-//L ÉBULLITION - ECPv6.15.20//NONSGML v1.0//EN
CALSCALE:GREGORIAN
METHOD:PUBLISH
X-WR-CALNAME:L ÉBULLITION
X-ORIGINAL-URL:https://www.lebullition.fr
X-WR-CALDESC:Évènements pour L ÉBULLITION
REFRESH-INTERVAL;VALUE=DURATION:PT1H
X-Robots-Tag:noindex
X-PUBLISHED-TTL:PT1H
BEGIN:VTIMEZONE
TZID:Europe/Paris
BEGIN:DAYLIGHT
TZOFFSETFROM:+0100
TZOFFSETTO:+0200
TZNAME:CEST
DTSTART:20230326T010000
END:DAYLIGHT
BEGIN:STANDARD
TZOFFSETFROM:+0200
TZOFFSETTO:+0100
TZNAME:CET
DTSTART:20231029T010000
END:STANDARD
BEGIN:DAYLIGHT
TZOFFSETFROM:+0100
TZOFFSETTO:+0200
TZNAME:CEST
DTSTART:20240331T010000
END:DAYLIGHT
BEGIN:STANDARD
TZOFFSETFROM:+0200
TZOFFSETTO:+0100
TZNAME:CET
DTSTART:20241027T010000
END:STANDARD
BEGIN:DAYLIGHT
TZOFFSETFROM:+0100
TZOFFSETTO:+0200
TZNAME:CEST
DTSTART:20250330T010000
END:DAYLIGHT
BEGIN:STANDARD
TZOFFSETFROM:+0200
TZOFFSETTO:+0100
TZNAME:CET
DTSTART:20251026T010000
END:STANDARD
END:VTIMEZONE
BEGIN:VEVENT
DTSTART;TZID=Europe/Paris:20240403T150000
DTEND;TZID=Europe/Paris:20240403T170000
DTSTAMP:20260425T032200
CREATED:20240402T091822Z
LAST-MODIFIED:20240402T091822Z
UID:7045-1712156400-1712163600@www.lebullition.fr
SUMMARY:LES ATELIERS RÉCRÉABULLE
DESCRIPTION:Mercredi 3 avril 2024 – 15h00 à 17h00\n \n\nLes ateliers RÉCRÉABULLE sont des ateliers dédiés pour les enfants de 3 à 11 ans. C’est 2H de récréation!\nC’est un RDV pour s’amuser et prendre le temps de faire des activités avec vos enfants. \nOn se donne RDV\, tous les mercredis après-midis\, pour s’amuser! \n\nOn s’amuse autour d’un jeu de société.\nOn fait un atelier créatif avec un maximum de récup’.\nOn écoute une belle histoire.\nOn fait une chasse au trésor.\nOn joue avec les dinosaures\, les poupées\, les voitures\, la dinette…\nOn place des pièces d’un grand puzzle collectif\nOn décore une frise….\n\nC’est un nouveau projet que nous voulons le construire\, ensemble\, avec vous et surtout avec les enfants. \nOn expérimente et on fait évoluer le projet . La programmation se construira au gré des rencontres\, des envies et des demandes. \nChers parents\, vous êtes les bienvenus pour prendre le temps de participer à ces activités avec vos enfants. \nLes ateliers RÉCRÉABULLE\, c’est 2H de récréation\, loin des écrans! Un RDV pour S’AMUSER! \nInformations pratiques: \n\nLes ateliers inclus l’animation des ateliers et le matériel\, n’inclus pas la collation.\nTous les mercredis après-midis de 15H à 17H\nAtelier réservé aux adhérents de L’ÉBULLITION. (Adhésion famille: 17€/an)\nAtelier pour les enfants de 3 à 11 ans.\nL’accompagnement des enfants de 3 à 8 ans est OBLIGATOIRE.\nL’inscription est obligatoire pour toutes les personnes présentes (adultes et enfants)\nUne participation libre en pleine conscience est demandée pour nous soutenir et valoriser nos actions.
URL:https://www.lebullition.fr/events/les-ateliers-recreabulle-030424/
LOCATION:L’ÉBULLITION\, 2 avenue de la République\, PALAISEAU\, 91120\, France
CATEGORIES:ATELIERS
ATTACH;FMTTYPE=image/jpeg:https://www.lebullition.fr/wp-content/uploads/2024/01/WEB-EVENT-CALENDAR26.jpg
ORGANIZER;CN="L'%C3%89BULLITION":MAILTO:contact-ebullition@palaiseautierslieu.fr
END:VEVENT
BEGIN:VEVENT
DTSTART;TZID=Europe/Paris:20240405T190000
DTEND;TZID=Europe/Paris:20240405T213000
DTSTAMP:20260425T032200
CREATED:20240203T173329Z
LAST-MODIFIED:20240203T173534Z
UID:6830-1712343600-1712352600@www.lebullition.fr
SUMMARY:L'APÉRO COUTURE ET FIL
DESCRIPTION:Vendredi 5 avril 2024 – 19h à 21h30 –\n \n\nVotre truc c’est parler tissus\, boutons\, patron\, récup\, vous avez un sacré coup d’aiguilles… ou au contraire vous aimeriez apprendre à tricoter\, coudre\, broder et vous avez envie de passer un moment convivial avec d’autres passionné.es de l’aiguille et du bouton? Alors ce nouveau RDV est pour vous. Autour d’un verre\, car c’est la fin de la semaine et l’heure de l’apéro\, venez papoter autour de la couture\, du tricot… pour échanger des trucs et astuces. Et surtout\, il ne faut pas hésiter à venir avec ses envies de création\, à apporter son matériel ou vos projets en cours. \nToutes les informations\, prix et inscriptions ici. \nRdv programmé tous les 15 jours Ouvert à tout.es\, débutant.es ou expert.es\, Vous pouvez venir accompagné.e de vos enfants à partir de 8 ans.
URL:https://www.lebullition.fr/events/lapero-couture-et-fil-050424/
LOCATION:L’ÉBULLITION\, 2 avenue de la République\, PALAISEAU\, 91120\, France
CATEGORIES:ATELIERS
ATTACH;FMTTYPE=image/jpeg:https://www.lebullition.fr/wp-content/uploads/2023/08/WEB-EVENT-CALENDAR2.jpg
ORGANIZER;CN="L'%C3%89BULLITION":MAILTO:contact-ebullition@palaiseautierslieu.fr
END:VEVENT
BEGIN:VEVENT
DTSTART;TZID=Europe/Paris:20240410T150000
DTEND;TZID=Europe/Paris:20240410T170000
DTSTAMP:20260425T032200
CREATED:20240402T134105Z
LAST-MODIFIED:20240402T134218Z
UID:7064-1712761200-1712768400@www.lebullition.fr
SUMMARY:LES ATELIERS RÉCRÉABULLE
DESCRIPTION:Mercredi 10 avril 2024 – 15h00 à 17h00\n \n\nLes ateliers RÉCRÉABULLE sont des ateliers dédiés pour les enfants de 3 à 11 ans. C’est 2H de récréation!\nC’est un RDV pour s’amuser et prendre le temps de faire des activités avec vos enfants. \nOn se donne RDV\, tous les mercredis après-midis\, pour s’amuser! \n\nOn s’amuse autour d’un jeu de société.\nOn fait un atelier créatif avec un maximum de récup’.\nOn écoute une belle histoire.\nOn fait une chasse au trésor.\nOn joue avec les dinosaures\, les poupées\, les voitures\, la dinette…\nOn place des pièces d’un grand puzzle collectif\nOn décore une frise….\n\nC’est un nouveau projet que nous voulons le construire\, ensemble\, avec vous et surtout avec les enfants. \nOn expérimente et on fait évoluer le projet . La programmation se construira au gré des rencontres\, des envies et des demandes. \nChers parents\, vous êtes les bienvenus pour prendre le temps de participer à ces activités avec vos enfants. \nLes ateliers RÉCRÉABULLE\, c’est 2H de récréation\, loin des écrans! Un RDV pour S’AMUSER! \nInformations pratiques: \n\nLes ateliers inclus l’animation des ateliers et le matériel\, n’inclus pas la collation.\nTous les mercredis après-midis de 15H à 17H\nAtelier réservé aux adhérents de L’ÉBULLITION. (Adhésion famille: 17€/an)\nAtelier pour les enfants de 3 à 11 ans.\nL’accompagnement des enfants de 3 à 8 ans est OBLIGATOIRE.\nL’inscription est obligatoire pour toutes les personnes présentes (adultes et enfants)\nUne participation libre en pleine conscience est demandée pour nous soutenir et valoriser nos actions.
URL:https://www.lebullition.fr/events/les-ateliers-recreabulle-10042024/
LOCATION:L’ÉBULLITION\, 2 avenue de la République\, PALAISEAU\, 91120\, France
CATEGORIES:ATELIERS
ATTACH;FMTTYPE=image/jpeg:https://www.lebullition.fr/wp-content/uploads/2024/01/WEB-EVENT-CALENDAR26.jpg
ORGANIZER;CN="L'%C3%89BULLITION":MAILTO:contact-ebullition@palaiseautierslieu.fr
END:VEVENT
BEGIN:VEVENT
DTSTART;TZID=Europe/Paris:20240417T150000
DTEND;TZID=Europe/Paris:20240417T170000
DTSTAMP:20260425T032200
CREATED:20240402T134533Z
LAST-MODIFIED:20240402T134533Z
UID:7066-1713366000-1713373200@www.lebullition.fr
SUMMARY:LES ATELIERS RÉCRÉABULLE
DESCRIPTION:Mercredi 17 avril 2024 – 15h00 à 17h00\n \n\nLes ateliers RÉCRÉABULLE sont des ateliers dédiés pour les enfants de 3 à 11 ans. C’est 2H de récréation!\nC’est un RDV pour s’amuser et prendre le temps de faire des activités avec vos enfants. \nOn se donne RDV\, tous les mercredis après-midis\, pour s’amuser! \n\nOn s’amuse autour d’un jeu de société.\nOn fait un atelier créatif avec un maximum de récup’.\nOn écoute une belle histoire.\nOn fait une chasse au trésor.\nOn joue avec les dinosaures\, les poupées\, les voitures\, la dinette…\nOn place des pièces d’un grand puzzle collectif\nOn décore une frise….\n\nC’est un nouveau projet que nous voulons le construire\, ensemble\, avec vous et surtout avec les enfants. \nOn expérimente et on fait évoluer le projet . La programmation se construira au gré des rencontres\, des envies et des demandes. \nChers parents\, vous êtes les bienvenus pour prendre le temps de participer à ces activités avec vos enfants. \nLes ateliers RÉCRÉABULLE\, c’est 2H de récréation\, loin des écrans! Un RDV pour S’AMUSER! \nInformations pratiques: \n\nLes ateliers inclus l’animation des ateliers et le matériel\, n’inclus pas la collation.\nTous les mercredis après-midis de 15H à 17H\nAtelier réservé aux adhérents de L’ÉBULLITION. (Adhésion famille: 17€/an)\nAtelier pour les enfants de 3 à 11 ans.\nL’accompagnement des enfants de 3 à 8 ans est OBLIGATOIRE.\nL’inscription est obligatoire pour toutes les personnes présentes (adultes et enfants)\nUne participation libre en pleine conscience est demandée pour nous soutenir et valoriser nos actions.
URL:https://www.lebullition.fr/events/les-ateliers-recreabulle-17042024/
LOCATION:L’ÉBULLITION\, 2 avenue de la République\, PALAISEAU\, 91120\, France
CATEGORIES:ATELIERS
ATTACH;FMTTYPE=image/jpeg:https://www.lebullition.fr/wp-content/uploads/2024/01/WEB-EVENT-CALENDAR26.jpg
ORGANIZER;CN="L'%C3%89BULLITION":MAILTO:contact-ebullition@palaiseautierslieu.fr
END:VEVENT
BEGIN:VEVENT
DTSTART;TZID=Europe/Paris:20240424T150000
DTEND;TZID=Europe/Paris:20240424T170000
DTSTAMP:20260425T032200
CREATED:20240402T134815Z
LAST-MODIFIED:20240402T134815Z
UID:7068-1713970800-1713978000@www.lebullition.fr
SUMMARY:LES ATELIERS RÉCRÉABULLE
DESCRIPTION:Mercredi 24 avril 2024 – 15h00 à 17h00\n \n\nLes ateliers RÉCRÉABULLE sont des ateliers dédiés pour les enfants de 3 à 11 ans. C’est 2H de récréation!\nC’est un RDV pour s’amuser et prendre le temps de faire des activités avec vos enfants. \nOn se donne RDV\, tous les mercredis après-midis\, pour s’amuser! \n\nOn s’amuse autour d’un jeu de société.\nOn fait un atelier créatif avec un maximum de récup’.\nOn écoute une belle histoire.\nOn fait une chasse au trésor.\nOn joue avec les dinosaures\, les poupées\, les voitures\, la dinette…\nOn place des pièces d’un grand puzzle collectif\nOn décore une frise….\n\nC’est un nouveau projet que nous voulons le construire\, ensemble\, avec vous et surtout avec les enfants. \nOn expérimente et on fait évoluer le projet . La programmation se construira au gré des rencontres\, des envies et des demandes. \nChers parents\, vous êtes les bienvenus pour prendre le temps de participer à ces activités avec vos enfants. \nLes ateliers RÉCRÉABULLE\, c’est 2H de récréation\, loin des écrans! Un RDV pour S’AMUSER! \nInformations pratiques: \n\nLes ateliers inclus l’animation des ateliers et le matériel\, n’inclus pas la collation.\nTous les mercredis après-midis de 15H à 17H\nAtelier réservé aux adhérents de L’ÉBULLITION. (Adhésion famille: 17€/an)\nAtelier pour les enfants de 3 à 11 ans.\nL’accompagnement des enfants de 3 à 8 ans est OBLIGATOIRE.\nL’inscription est obligatoire pour toutes les personnes présentes (adultes et enfants)\nUne participation libre en pleine conscience est demandée pour nous soutenir et valoriser nos actions.
URL:https://www.lebullition.fr/events/les-ateliers-recreabulle-24042024/
LOCATION:L’ÉBULLITION\, 2 avenue de la République\, PALAISEAU\, 91120\, France
CATEGORIES:ATELIERS
ATTACH;FMTTYPE=image/jpeg:https://www.lebullition.fr/wp-content/uploads/2024/01/WEB-EVENT-CALENDAR26.jpg
ORGANIZER;CN="L'%C3%89BULLITION":MAILTO:contact-ebullition@palaiseautierslieu.fr
END:VEVENT
BEGIN:VEVENT
DTSTART;TZID=Europe/Paris:20240425T143000
DTEND;TZID=Europe/Paris:20240425T170000
DTSTAMP:20260425T032200
CREATED:20231215T143810Z
LAST-MODIFIED:20231215T143810Z
UID:6604-1714055400-1714064400@www.lebullition.fr
SUMMARY:COURS DE COUTURE DÉBUTANT.E - MODULE 3
DESCRIPTION:Jeudi 25 avril 2024 – 14h30 à 17h00\n \n\n\n\n\n\nL’ÉBULLITION met en place\, à partir de janvier des cours de couture pour les débutant.es avec Magalie\, couturière professionnelle. \nDans une ambiance conviviale\, en petit groupe\, Magalie vous proposera des ouvrages simples que vous pourrez personnaliser mais aussi l’élaboration de créations collectives (décoration\, petits objets) pour embellir le tiers-lieu. \nUne bonne occasion de rencontrer de nouvelles personnes\, de prendre du temps pour soi\, de s’évader de son quotidien et d’apprendre de nouvelles compétences manuelles. \n\n\n\n\n 
URL:https://www.lebullition.fr/events/cours-de-couture-debutant-e-250424/
LOCATION:L’ÉBULLITION\, 2 avenue de la République\, PALAISEAU\, 91120\, France
CATEGORIES:ATELIERS
ATTACH;FMTTYPE=image/jpeg:https://www.lebullition.fr/wp-content/uploads/2023/11/WEB-EVENT-CALENDAR23.jpg
ORGANIZER;CN="L'%C3%89BULLITION":MAILTO:contact-ebullition@palaiseautierslieu.fr
END:VEVENT
BEGIN:VEVENT
DTSTART;TZID=Europe/Paris:20240425T180000
DTEND;TZID=Europe/Paris:20240425T203000
DTSTAMP:20260425T032200
CREATED:20231215T143634Z
LAST-MODIFIED:20231215T143838Z
UID:6602-1714068000-1714077000@www.lebullition.fr
SUMMARY:COURS DE COUTURE DÉBUTANT.E - MODULE 3
DESCRIPTION:Jeudi 25 avril 2024 – 18h00 à 20h30\n \n\n\n\n\n\nL’ÉBULLITION met en place\, à partir de janvier des cours de couture pour les débutant.es avec Magalie\, couturière professionnelle. \nDans une ambiance conviviale\, en petit groupe\, Magalie vous proposera des ouvrages simples que vous pourrez personnaliser mais aussi l’élaboration de créations collectives (décoration\, petits objets) pour embellir le tiers-lieu. \nUne bonne occasion de rencontrer de nouvelles personnes\, de prendre du temps pour soi\, de s’évader de son quotidien et d’apprendre de nouvelles compétences manuelles. \n\n\n\n\n 
URL:https://www.lebullition.fr/events/cours-de-couture-debutant-e-250424-18h/
LOCATION:L’ÉBULLITION\, 2 avenue de la République\, PALAISEAU\, 91120\, France
CATEGORIES:ATELIERS
ATTACH;FMTTYPE=image/jpeg:https://www.lebullition.fr/wp-content/uploads/2023/11/WEB-EVENT-CALENDAR23.jpg
ORGANIZER;CN="L'%C3%89BULLITION":MAILTO:contact-ebullition@palaiseautierslieu.fr
END:VEVENT
BEGIN:VEVENT
DTSTART;TZID=Europe/Paris:20240426T180000
DTEND;TZID=Europe/Paris:20240426T190000
DTSTAMP:20260425T032200
CREATED:20240322T075321Z
LAST-MODIFIED:20240322T075321Z
UID:7013-1714154400-1714158000@www.lebullition.fr
SUMMARY:ATELIER ÉCHEC POUR LES ENFANTS
DESCRIPTION:Atelier Échec pour les enfants – à partir de 10 ans – 18h à 19h\n \n\n\n\nJUSTE POUR S’AMUSER AUTOUR D’UNE PARTIE D’ÉCHEC….\n \n\n\n\n\n\n\n\n\n… et pourquoi pas progresse un peu. \nUn vendredi par mois\, L’ÉBULLITION accueille les enfants qui aiment jouer aux échecs mais qui ne trouvent pas toujours de partenaires.\nCe n’est pas un cours d’apprentissage mais plutôt un moment convivial pour faire une partie ou plusieurs avec des enfants et d’autres adultes…La compèt’ et les tournois c’est pas ici! \nVous avez envie de découvrir ce nouvel atelier? La première séance est offerte.\nL’atelier est réservé aux adhérent.es et une participation de 5€/séance est demandée pour soutenir les actions et les projets de L’ÉBULLITION. Le nombre de places est limité\, l’inscription est donc obligatoire.
URL:https://www.lebullition.fr/events/atelier-echec-pour-les-enfants-260424/
LOCATION:L’ÉBULLITION\, 2 avenue de la République\, PALAISEAU\, 91120\, France
CATEGORIES:ATELIERS
ATTACH;FMTTYPE=image/jpeg:https://www.lebullition.fr/wp-content/uploads/2024/02/2.jpg
ORGANIZER;CN="L'%C3%89BULLITION":MAILTO:contact-ebullition@palaiseautierslieu.fr
END:VEVENT
END:VCALENDAR