BEGIN:VCALENDAR
VERSION:2.0
PRODID:-//L ÉBULLITION - ECPv6.15.20//NONSGML v1.0//EN
CALSCALE:GREGORIAN
METHOD:PUBLISH
X-WR-CALNAME:L ÉBULLITION
X-ORIGINAL-URL:https://www.lebullition.fr
X-WR-CALDESC:Évènements pour L ÉBULLITION
REFRESH-INTERVAL;VALUE=DURATION:PT1H
X-Robots-Tag:noindex
X-PUBLISHED-TTL:PT1H
BEGIN:VTIMEZONE
TZID:Europe/Paris
BEGIN:DAYLIGHT
TZOFFSETFROM:+0100
TZOFFSETTO:+0200
TZNAME:CEST
DTSTART:20230326T010000
END:DAYLIGHT
BEGIN:STANDARD
TZOFFSETFROM:+0200
TZOFFSETTO:+0100
TZNAME:CET
DTSTART:20231029T010000
END:STANDARD
BEGIN:DAYLIGHT
TZOFFSETFROM:+0100
TZOFFSETTO:+0200
TZNAME:CEST
DTSTART:20240331T010000
END:DAYLIGHT
BEGIN:STANDARD
TZOFFSETFROM:+0200
TZOFFSETTO:+0100
TZNAME:CET
DTSTART:20241027T010000
END:STANDARD
BEGIN:DAYLIGHT
TZOFFSETFROM:+0100
TZOFFSETTO:+0200
TZNAME:CEST
DTSTART:20250330T010000
END:DAYLIGHT
BEGIN:STANDARD
TZOFFSETFROM:+0200
TZOFFSETTO:+0100
TZNAME:CET
DTSTART:20251026T010000
END:STANDARD
END:VTIMEZONE
BEGIN:VEVENT
DTSTART;TZID=Europe/Paris:20240503T190000
DTEND;TZID=Europe/Paris:20240503T213000
DTSTAMP:20260425T014501
CREATED:20240203T173416Z
LAST-MODIFIED:20240203T173653Z
UID:6832-1714762800-1714771800@www.lebullition.fr
SUMMARY:L'APÉRO COUTURE ET FIL
DESCRIPTION:Vendredi 3 mai 2024 – 19h à 21h30 –\n \n\nVotre truc c’est parler tissus\, boutons\, patron\, récup\, vous avez un sacré coup d’aiguilles… ou au contraire vous aimeriez apprendre à tricoter\, coudre\, broder et vous avez envie de passer un moment convivial avec d’autres passionné.es de l’aiguille et du bouton? Alors ce nouveau RDV est pour vous. Autour d’un verre\, car c’est la fin de la semaine et l’heure de l’apéro\, venez papoter autour de la couture\, du tricot… pour échanger des trucs et astuces. Et surtout\, il ne faut pas hésiter à venir avec ses envies de création\, à apporter son matériel ou vos projets en cours. \nToutes les informations\, prix et inscriptions ici. \nRdv programmé tous les 15 jours Ouvert à tout.es\, débutant.es ou expert.es\, Vous pouvez venir accompagné.e de vos enfants à partir de 8 ans.
URL:https://www.lebullition.fr/events/lapero-couture-et-fil-030524/
LOCATION:L’ÉBULLITION\, 2 avenue de la République\, PALAISEAU\, 91120\, France
CATEGORIES:ATELIERS
ATTACH;FMTTYPE=image/jpeg:https://www.lebullition.fr/wp-content/uploads/2023/08/WEB-EVENT-CALENDAR2.jpg
ORGANIZER;CN="L'%C3%89BULLITION":MAILTO:contact-ebullition@palaiseautierslieu.fr
END:VEVENT
BEGIN:VEVENT
DTSTART;TZID=Europe/Paris:20240515T150000
DTEND;TZID=Europe/Paris:20240515T170000
DTSTAMP:20260425T014501
CREATED:20240406T130103Z
LAST-MODIFIED:20240406T130103Z
UID:7095-1715785200-1715792400@www.lebullition.fr
SUMMARY:LES ATELIERS RÉCRÉABULLE
DESCRIPTION:Mercredi 15 mai 2024 – 15h00 à 17h00\n \n\nLes ateliers RÉCRÉABULLE sont des ateliers dédiés pour les enfants de 3 à 11 ans. C’est 2H de récréation!\nC’est un RDV pour s’amuser et prendre le temps de faire des activités avec vos enfants. \nOn se donne RDV\, tous les mercredis après-midis\, pour s’amuser! \n\nOn s’amuse autour d’un jeu de société.\nOn fait un atelier créatif avec un maximum de récup’.\nOn écoute une belle histoire.\nOn fait une chasse au trésor.\nOn joue avec les dinosaures\, les poupées\, les voitures\, la dinette…\nOn place des pièces d’un grand puzzle collectif\nOn décore une frise….\n\nC’est un nouveau projet que nous voulons le construire\, ensemble\, avec vous et surtout avec les enfants. \nOn expérimente et on fait évoluer le projet . La programmation se construira au gré des rencontres\, des envies et des demandes. \nChers parents\, vous êtes les bienvenus pour prendre le temps de participer à ces activités avec vos enfants. \nLes ateliers RÉCRÉABULLE\, c’est 2H de récréation\, loin des écrans! Un RDV pour S’AMUSER! \nInformations pratiques: \n\nLes ateliers inclus l’animation des ateliers et le matériel\, n’inclus pas la collation.\nTous les mercredis après-midis de 15H à 17H\nAtelier réservé aux adhérents de L’ÉBULLITION. (Adhésion famille: 17€/an)\nAtelier pour les enfants de 3 à 11 ans.\nL’accompagnement des enfants de 3 à 8 ans est OBLIGATOIRE.\nL’inscription est obligatoire pour toutes les personnes présentes (adultes et enfants)\nUne participation libre en pleine conscience est demandée pour nous soutenir et valoriser nos actions.
URL:https://www.lebullition.fr/events/les-ateliers-recreabulle-150524/
LOCATION:L’ÉBULLITION\, 2 avenue de la République\, PALAISEAU\, 91120\, France
CATEGORIES:ATELIERS
ATTACH;FMTTYPE=image/jpeg:https://www.lebullition.fr/wp-content/uploads/2024/01/WEB-EVENT-CALENDAR26.jpg
ORGANIZER;CN="L'%C3%89BULLITION":MAILTO:contact-ebullition@palaiseautierslieu.fr
END:VEVENT
BEGIN:VEVENT
DTSTART;TZID=Europe/Paris:20240516T143000
DTEND;TZID=Europe/Paris:20240516T170000
DTSTAMP:20260425T014501
CREATED:20231215T144033Z
LAST-MODIFIED:20231215T144033Z
UID:6608-1715869800-1715878800@www.lebullition.fr
SUMMARY:COURS DE COUTURE DÉBUTANT.E - MODULE 3
DESCRIPTION:Jeudi 16 mai 2024 – 14h30 à 17h00\n \n\n\n\n\n\nL’ÉBULLITION met en place\, à partir de janvier des cours de couture pour les débutant.es avec Magalie\, couturière professionnelle. \nDans une ambiance conviviale\, en petit groupe\, Magalie vous proposera des ouvrages simples que vous pourrez personnaliser mais aussi l’élaboration de créations collectives (décoration\, petits objets) pour embellir le tiers-lieu. \nUne bonne occasion de rencontrer de nouvelles personnes\, de prendre du temps pour soi\, de s’évader de son quotidien et d’apprendre de nouvelles compétences manuelles. \n\n\n\n\n 
URL:https://www.lebullition.fr/events/cours-de-couture-debutant-e-module-160524/
LOCATION:L’ÉBULLITION\, 2 avenue de la République\, PALAISEAU\, 91120\, France
CATEGORIES:ATELIERS
ATTACH;FMTTYPE=image/jpeg:https://www.lebullition.fr/wp-content/uploads/2023/11/WEB-EVENT-CALENDAR23.jpg
ORGANIZER;CN="L'%C3%89BULLITION":MAILTO:contact-ebullition@palaiseautierslieu.fr
END:VEVENT
BEGIN:VEVENT
DTSTART;TZID=Europe/Paris:20240516T180000
DTEND;TZID=Europe/Paris:20240516T203000
DTSTAMP:20260425T014501
CREATED:20231215T143927Z
LAST-MODIFIED:20231215T143927Z
UID:6606-1715882400-1715891400@www.lebullition.fr
SUMMARY:COURS DE COUTURE DÉBUTANT.E - MODULE 3
DESCRIPTION:Jeudi 16 mai 2024 – 18h00 à 20h30\n \n\n\n\n\n\nL’ÉBULLITION met en place\, à partir de janvier des cours de couture pour les débutant.es avec Magalie\, couturière professionnelle. \nDans une ambiance conviviale\, en petit groupe\, Magalie vous proposera des ouvrages simples que vous pourrez personnaliser mais aussi l’élaboration de créations collectives (décoration\, petits objets) pour embellir le tiers-lieu. \nUne bonne occasion de rencontrer de nouvelles personnes\, de prendre du temps pour soi\, de s’évader de son quotidien et d’apprendre de nouvelles compétences manuelles. \n\n\n\n\n 
URL:https://www.lebullition.fr/events/cours-de-couture-debutant-e-160524-18h/
LOCATION:L’ÉBULLITION\, 2 avenue de la République\, PALAISEAU\, 91120\, France
CATEGORIES:ATELIERS
ATTACH;FMTTYPE=image/jpeg:https://www.lebullition.fr/wp-content/uploads/2023/11/WEB-EVENT-CALENDAR23.jpg
ORGANIZER;CN="L'%C3%89BULLITION":MAILTO:contact-ebullition@palaiseautierslieu.fr
END:VEVENT
BEGIN:VEVENT
DTSTART;TZID=Europe/Paris:20240517T190000
DTEND;TZID=Europe/Paris:20240517T213000
DTSTAMP:20260425T014501
CREATED:20240203T173504Z
LAST-MODIFIED:20240203T173559Z
UID:6834-1715972400-1715981400@www.lebullition.fr
SUMMARY:L'APÉRO COUTURE ET FIL
DESCRIPTION:Vendredi 17 mai 2024 – 19h à 21h30 –\n \n\nVotre truc c’est parler tissus\, boutons\, patron\, récup\, vous avez un sacré coup d’aiguilles… ou au contraire vous aimeriez apprendre à tricoter\, coudre\, broder et vous avez envie de passer un moment convivial avec d’autres passionné.es de l’aiguille et du bouton? Alors ce nouveau RDV est pour vous. Autour d’un verre\, car c’est la fin de la semaine et l’heure de l’apéro\, venez papoter autour de la couture\, du tricot… pour échanger des trucs et astuces. Et surtout\, il ne faut pas hésiter à venir avec ses envies de création\, à apporter son matériel ou vos projets en cours. \nToutes les informations\, prix et inscriptions ici. \nRdv programmé tous les 15 jours Ouvert à tout.es\, débutant.es ou expert.es\, Vous pouvez venir accompagné.e de vos enfants à partir de 8 ans.
URL:https://www.lebullition.fr/events/lapero-couture-et-fil-170524/
LOCATION:L’ÉBULLITION\, 2 avenue de la République\, PALAISEAU\, 91120\, France
CATEGORIES:ATELIERS
ATTACH;FMTTYPE=image/jpeg:https://www.lebullition.fr/wp-content/uploads/2023/08/WEB-EVENT-CALENDAR2.jpg
ORGANIZER;CN="L'%C3%89BULLITION":MAILTO:contact-ebullition@palaiseautierslieu.fr
END:VEVENT
BEGIN:VEVENT
DTSTART;TZID=Europe/Paris:20240518T093000
DTEND;TZID=Europe/Paris:20240518T123000
DTSTAMP:20260425T014501
CREATED:20240418T093921Z
LAST-MODIFIED:20240418T094450Z
UID:7099-1716024600-1716035400@www.lebullition.fr
SUMMARY:LA FRESQUE DU NUMÉRIQUE
DESCRIPTION:Atelier de sensibilisation – Samedi 18 mai 2024- 9h30 à 12h30 \n\n\n\nSensibiliser\, c’est prendre conscience. \nLa Fresque du Numérique est un atelier ludique et collaboratif de 3H. Le but de ce « serious game » est de sensibiliser et former les participant·e·s aux enjeux environnementaux du numérique. \n 
URL:https://www.lebullition.fr/events/la-fresque-du-numerique-180524/
LOCATION:L’ÉBULLITION\, 2 avenue de la République\, PALAISEAU\, 91120\, France
CATEGORIES:ATELIERS
ATTACH;FMTTYPE=image/jpeg:https://www.lebullition.fr/wp-content/uploads/2023/02/visuel-event-cadendar.jpg
ORGANIZER;CN="L'%C3%89BULLITION":MAILTO:contact-ebullition@palaiseautierslieu.fr
END:VEVENT
BEGIN:VEVENT
DTSTART;TZID=Europe/Paris:20240522T150000
DTEND;TZID=Europe/Paris:20240522T170000
DTSTAMP:20260425T014501
CREATED:20240406T130403Z
LAST-MODIFIED:20240406T130403Z
UID:7097-1716390000-1716397200@www.lebullition.fr
SUMMARY:LES ATELIERS RÉCRÉABULLE
DESCRIPTION:Mercredi 22 mai 2024 – 15h00 à 17h00\n \n\nLes ateliers RÉCRÉABULLE sont des ateliers dédiés pour les enfants de 3 à 11 ans. C’est 2H de récréation!\nC’est un RDV pour s’amuser et prendre le temps de faire des activités avec vos enfants. \nOn se donne RDV\, tous les mercredis après-midis\, pour s’amuser! \n\nOn s’amuse autour d’un jeu de société.\nOn fait un atelier créatif avec un maximum de récup’.\nOn écoute une belle histoire.\nOn fait une chasse au trésor.\nOn joue avec les dinosaures\, les poupées\, les voitures\, la dinette…\nOn place des pièces d’un grand puzzle collectif\nOn décore une frise….\n\nC’est un nouveau projet que nous voulons le construire\, ensemble\, avec vous et surtout avec les enfants. \nOn expérimente et on fait évoluer le projet . La programmation se construira au gré des rencontres\, des envies et des demandes. \nChers parents\, vous êtes les bienvenus pour prendre le temps de participer à ces activités avec vos enfants. \nLes ateliers RÉCRÉABULLE\, c’est 2H de récréation\, loin des écrans! Un RDV pour S’AMUSER! \nInformations pratiques: \n\nLes ateliers inclus l’animation des ateliers et le matériel\, n’inclus pas la collation.\nTous les mercredis après-midis de 15H à 17H\nAtelier réservé aux adhérents de L’ÉBULLITION. (Adhésion famille: 17€/an)\nAtelier pour les enfants de 3 à 11 ans.\nL’accompagnement des enfants de 3 à 8 ans est OBLIGATOIRE.\nL’inscription est obligatoire pour toutes les personnes présentes (adultes et enfants)\nUne participation libre en pleine conscience est demandée pour nous soutenir et valoriser nos actions.
URL:https://www.lebullition.fr/events/les-ateliers-recreabulle-220524/
LOCATION:L’ÉBULLITION\, 2 avenue de la République\, PALAISEAU\, 91120\, France
CATEGORIES:ATELIERS
ATTACH;FMTTYPE=image/jpeg:https://www.lebullition.fr/wp-content/uploads/2024/01/WEB-EVENT-CALENDAR26.jpg
ORGANIZER;CN="L'%C3%89BULLITION":MAILTO:contact-ebullition@palaiseautierslieu.fr
END:VEVENT
BEGIN:VEVENT
DTSTART;TZID=Europe/Paris:20240524T180000
DTEND;TZID=Europe/Paris:20240524T190000
DTSTAMP:20260425T014501
CREATED:20240418T100825Z
LAST-MODIFIED:20240418T100825Z
UID:7173-1716573600-1716577200@www.lebullition.fr
SUMMARY:ATELIER ÉCHEC POUR LES ENFANTS
DESCRIPTION:Atelier Échec pour les enfants – à partir de 10 ans – 18h à 19h\n \n\n\n\nJUSTE POUR S’AMUSER AUTOUR D’UNE PARTIE D’ÉCHEC….\n \n\n\n\n\n\n\n\n\n… et pourquoi pas progresse un peu. \nUn vendredi par mois\, L’ÉBULLITION accueille les enfants qui aiment jouer aux échecs mais qui ne trouvent pas toujours de partenaires.\nCe n’est pas un cours d’apprentissage mais plutôt un moment convivial pour faire une partie ou plusieurs avec des enfants et d’autres adultes…La compèt’ et les tournois c’est pas ici! \nVous avez envie de découvrir ce nouvel atelier? La première séance est offerte.\nL’atelier est réservé aux adhérent.es et une participation de 5€/séance est demandée pour soutenir les actions et les projets de L’ÉBULLITION. Le nombre de places est limité\, l’inscription est donc obligatoire.
URL:https://www.lebullition.fr/events/atelier-echec-pour-les-enfants-240524/
LOCATION:L’ÉBULLITION\, 2 avenue de la République\, PALAISEAU\, 91120\, France
CATEGORIES:ATELIERS
ATTACH;FMTTYPE=image/jpeg:https://www.lebullition.fr/wp-content/uploads/2024/02/2.jpg
ORGANIZER;CN="L'%C3%89BULLITION":MAILTO:contact-ebullition@palaiseautierslieu.fr
END:VEVENT
BEGIN:VEVENT
DTSTART;TZID=Europe/Paris:20240529T150000
DTEND;TZID=Europe/Paris:20240529T170000
DTSTAMP:20260425T014501
CREATED:20240406T131848Z
LAST-MODIFIED:20240406T131848Z
UID:7101-1716994800-1717002000@www.lebullition.fr
SUMMARY:LES ATELIERS RÉCRÉABULLE
DESCRIPTION:Mercredi 29 mai 2024 – 15h00 à 17h00\n \n\nLes ateliers RÉCRÉABULLE sont des ateliers dédiés pour les enfants de 3 à 11 ans. C’est 2H de récréation!\nC’est un RDV pour s’amuser et prendre le temps de faire des activités avec vos enfants. \nOn se donne RDV\, tous les mercredis après-midis\, pour s’amuser! \n\nOn s’amuse autour d’un jeu de société.\nOn fait un atelier créatif avec un maximum de récup’.\nOn écoute une belle histoire.\nOn fait une chasse au trésor.\nOn joue avec les dinosaures\, les poupées\, les voitures\, la dinette…\nOn place des pièces d’un grand puzzle collectif\nOn décore une frise….\n\nC’est un nouveau projet que nous voulons le construire\, ensemble\, avec vous et surtout avec les enfants. \nOn expérimente et on fait évoluer le projet . La programmation se construira au gré des rencontres\, des envies et des demandes. \nChers parents\, vous êtes les bienvenus pour prendre le temps de participer à ces activités avec vos enfants. \nLes ateliers RÉCRÉABULLE\, c’est 2H de récréation\, loin des écrans! Un RDV pour S’AMUSER! \nInformations pratiques: \n\nLes ateliers inclus l’animation des ateliers et le matériel\, n’inclus pas la collation.\nTous les mercredis après-midis de 15H à 17H\nAtelier réservé aux adhérents de L’ÉBULLITION. (Adhésion famille: 17€/an)\nAtelier pour les enfants de 3 à 11 ans.\nL’accompagnement des enfants de 3 à 8 ans est OBLIGATOIRE.\nL’inscription est obligatoire pour toutes les personnes présentes (adultes et enfants)\nUne participation libre en pleine conscience est demandée pour nous soutenir et valoriser nos actions.
URL:https://www.lebullition.fr/events/les-ateliers-recreabulle-290524/
LOCATION:L’ÉBULLITION\, 2 avenue de la République\, PALAISEAU\, 91120\, France
CATEGORIES:ATELIERS
ATTACH;FMTTYPE=image/jpeg:https://www.lebullition.fr/wp-content/uploads/2024/01/WEB-EVENT-CALENDAR26.jpg
ORGANIZER;CN="L'%C3%89BULLITION":MAILTO:contact-ebullition@palaiseautierslieu.fr
END:VEVENT
BEGIN:VEVENT
DTSTART;TZID=Europe/Paris:20240530T143000
DTEND;TZID=Europe/Paris:20240530T170000
DTSTAMP:20260425T014501
CREATED:20231215T144222Z
LAST-MODIFIED:20231215T144222Z
UID:6612-1717079400-1717088400@www.lebullition.fr
SUMMARY:COURS DE COUTURE DÉBUTANT.E - MODULE 3
DESCRIPTION:Jeudi 30 mai 2024 – 14h30 à 17h00\n \n\n\n\n\n\nL’ÉBULLITION met en place\, à partir de janvier des cours de couture pour les débutant.es avec Magalie\, couturière professionnelle. \nDans une ambiance conviviale\, en petit groupe\, Magalie vous proposera des ouvrages simples que vous pourrez personnaliser mais aussi l’élaboration de créations collectives (décoration\, petits objets) pour embellir le tiers-lieu. \nUne bonne occasion de rencontrer de nouvelles personnes\, de prendre du temps pour soi\, de s’évader de son quotidien et d’apprendre de nouvelles compétences manuelles. \n\n\n\n\n 
URL:https://www.lebullition.fr/events/cours-de-couture-debutant-e-300524/
LOCATION:L’ÉBULLITION\, 2 avenue de la République\, PALAISEAU\, 91120\, France
CATEGORIES:ATELIERS
ATTACH;FMTTYPE=image/jpeg:https://www.lebullition.fr/wp-content/uploads/2023/11/WEB-EVENT-CALENDAR23.jpg
ORGANIZER;CN="L'%C3%89BULLITION":MAILTO:contact-ebullition@palaiseautierslieu.fr
END:VEVENT
BEGIN:VEVENT
DTSTART;TZID=Europe/Paris:20240530T180000
DTEND;TZID=Europe/Paris:20240530T203000
DTSTAMP:20260425T014501
CREATED:20231215T144141Z
LAST-MODIFIED:20231215T144141Z
UID:6610-1717092000-1717101000@www.lebullition.fr
SUMMARY:COURS DE COUTURE DÉBUTANT.E - MODULE 3
DESCRIPTION:Jeudi 30 mai 2024 – 18h00 à 20h30\n \n\n\n\n\n\nL’ÉBULLITION met en place\, à partir de janvier des cours de couture pour les débutant.es avec Magalie\, couturière professionnelle. \nDans une ambiance conviviale\, en petit groupe\, Magalie vous proposera des ouvrages simples que vous pourrez personnaliser mais aussi l’élaboration de créations collectives (décoration\, petits objets) pour embellir le tiers-lieu. \nUne bonne occasion de rencontrer de nouvelles personnes\, de prendre du temps pour soi\, de s’évader de son quotidien et d’apprendre de nouvelles compétences manuelles. \n\n\n\n\n 
URL:https://www.lebullition.fr/events/cours-de-couture-debutant-e-300524-18h/
LOCATION:L’ÉBULLITION\, 2 avenue de la République\, PALAISEAU\, 91120\, France
CATEGORIES:ATELIERS
ATTACH;FMTTYPE=image/jpeg:https://www.lebullition.fr/wp-content/uploads/2023/11/WEB-EVENT-CALENDAR23.jpg
ORGANIZER;CN="L'%C3%89BULLITION":MAILTO:contact-ebullition@palaiseautierslieu.fr
END:VEVENT
END:VCALENDAR