BEGIN:VCALENDAR
VERSION:2.0
PRODID:-//L ÉBULLITION - ECPv6.15.20//NONSGML v1.0//EN
CALSCALE:GREGORIAN
METHOD:PUBLISH
X-ORIGINAL-URL:https://www.lebullition.fr
X-WR-CALDESC:Évènements pour L ÉBULLITION
REFRESH-INTERVAL;VALUE=DURATION:PT1H
X-Robots-Tag:noindex
X-PUBLISHED-TTL:PT1H
BEGIN:VTIMEZONE
TZID:Europe/Paris
BEGIN:DAYLIGHT
TZOFFSETFROM:+0100
TZOFFSETTO:+0200
TZNAME:CEST
DTSTART:20230326T010000
END:DAYLIGHT
BEGIN:STANDARD
TZOFFSETFROM:+0200
TZOFFSETTO:+0100
TZNAME:CET
DTSTART:20231029T010000
END:STANDARD
BEGIN:DAYLIGHT
TZOFFSETFROM:+0100
TZOFFSETTO:+0200
TZNAME:CEST
DTSTART:20240331T010000
END:DAYLIGHT
BEGIN:STANDARD
TZOFFSETFROM:+0200
TZOFFSETTO:+0100
TZNAME:CET
DTSTART:20241027T010000
END:STANDARD
BEGIN:DAYLIGHT
TZOFFSETFROM:+0100
TZOFFSETTO:+0200
TZNAME:CEST
DTSTART:20250330T010000
END:DAYLIGHT
BEGIN:STANDARD
TZOFFSETFROM:+0200
TZOFFSETTO:+0100
TZNAME:CET
DTSTART:20251026T010000
END:STANDARD
END:VTIMEZONE
BEGIN:VEVENT
DTSTART;TZID=Europe/Paris:20240607T190000
DTEND;TZID=Europe/Paris:20240607T213000
DTSTAMP:20260425T015518
CREATED:20240430T094438Z
LAST-MODIFIED:20240430T094438Z
UID:7242-1717786800-1717795800@www.lebullition.fr
SUMMARY:L'APÉRO COUTURE ET FIL
DESCRIPTION:Vendredi 7 juin 2024 – 19h à 21h30 –\n \n\nVotre truc c’est parler tissus\, boutons\, patron\, récup\, vous avez un sacré coup d’aiguilles… ou au contraire vous aimeriez apprendre à tricoter\, coudre\, broder et vous avez envie de passer un moment convivial avec d’autres passionné.es de l’aiguille et du bouton? Alors ce nouveau RDV est pour vous. Autour d’un verre\, car c’est la fin de la semaine et l’heure de l’apéro\, venez papoter autour de la couture\, du tricot… pour échanger des trucs et astuces. Et surtout\, il ne faut pas hésiter à venir avec ses envies de création\, à apporter son matériel ou vos projets en cours. \nToutes les informations\, prix et inscriptions ici. \nRdv programmé tous les 15 jours Ouvert à tout.es\, débutant.es ou expert.es\, Vous pouvez venir accompagné.e de vos enfants à partir de 8 ans.
URL:https://www.lebullition.fr/events/lapero-couture-et-fil-070624/
LOCATION:L’ÉBULLITION\, 2 avenue de la République\, PALAISEAU\, 91120\, France
CATEGORIES:ATELIERS
ATTACH;FMTTYPE=image/jpeg:https://www.lebullition.fr/wp-content/uploads/2023/08/WEB-EVENT-CALENDAR2.jpg
ORGANIZER;CN="L'%C3%89BULLITION":MAILTO:contact-ebullition@palaiseautierslieu.fr
END:VEVENT
END:VCALENDAR