BEGIN:VCALENDAR
VERSION:2.0
PRODID:-//L ÉBULLITION - ECPv6.15.20//NONSGML v1.0//EN
CALSCALE:GREGORIAN
METHOD:PUBLISH
X-WR-CALNAME:L ÉBULLITION
X-ORIGINAL-URL:https://www.lebullition.fr
X-WR-CALDESC:Évènements pour L ÉBULLITION
REFRESH-INTERVAL;VALUE=DURATION:PT1H
X-Robots-Tag:noindex
X-PUBLISHED-TTL:PT1H
BEGIN:VTIMEZONE
TZID:Europe/Paris
BEGIN:DAYLIGHT
TZOFFSETFROM:+0100
TZOFFSETTO:+0200
TZNAME:CEST
DTSTART:20230326T010000
END:DAYLIGHT
BEGIN:STANDARD
TZOFFSETFROM:+0200
TZOFFSETTO:+0100
TZNAME:CET
DTSTART:20231029T010000
END:STANDARD
BEGIN:DAYLIGHT
TZOFFSETFROM:+0100
TZOFFSETTO:+0200
TZNAME:CEST
DTSTART:20240331T010000
END:DAYLIGHT
BEGIN:STANDARD
TZOFFSETFROM:+0200
TZOFFSETTO:+0100
TZNAME:CET
DTSTART:20241027T010000
END:STANDARD
BEGIN:DAYLIGHT
TZOFFSETFROM:+0100
TZOFFSETTO:+0200
TZNAME:CEST
DTSTART:20250330T010000
END:DAYLIGHT
BEGIN:STANDARD
TZOFFSETFROM:+0200
TZOFFSETTO:+0100
TZNAME:CET
DTSTART:20251026T010000
END:STANDARD
END:VTIMEZONE
BEGIN:VEVENT
DTSTART;TZID=Europe/Paris:20240612T150000
DTEND;TZID=Europe/Paris:20240612T170000
DTSTAMP:20260425T015356
CREATED:20240430T091208Z
LAST-MODIFIED:20240430T091208Z
UID:7235-1718204400-1718211600@www.lebullition.fr
SUMMARY:LES ATELIERS RÉCRÉABULLE
DESCRIPTION:Mercredi 12 juin 2024 – 15h00 à 17h00\n \n\nLes ateliers RÉCRÉABULLE sont des ateliers dédiés pour les enfants de 3 à 11 ans. C’est 2H de récréation!\nC’est un RDV pour s’amuser et prendre le temps de faire des activités avec vos enfants. \nOn se donne RDV\, tous les mercredis après-midis\, pour s’amuser! \n\nOn s’amuse autour d’un jeu de société.\nOn fait un atelier créatif avec un maximum de récup’.\nOn écoute une belle histoire.\nOn fait une chasse au trésor.\nOn joue avec les dinosaures\, les poupées\, les voitures\, la dinette…\nOn place des pièces d’un grand puzzle collectif\nOn décore une frise….\n\nC’est un nouveau projet que nous voulons le construire\, ensemble\, avec vous et surtout avec les enfants. \nOn expérimente et on fait évoluer le projet . La programmation se construira au gré des rencontres\, des envies et des demandes. \nChers parents\, vous êtes les bienvenus pour prendre le temps de participer à ces activités avec vos enfants. \nLes ateliers RÉCRÉABULLE\, c’est 2H de récréation\, loin des écrans! Un RDV pour S’AMUSER! \nInformations pratiques: \n\nLes ateliers inclus l’animation des ateliers et le matériel\, n’inclus pas la collation.\nTous les mercredis après-midis de 15H à 17H\nAtelier réservé aux adhérents de L’ÉBULLITION. (Adhésion famille: 17€/an)\nAtelier pour les enfants de 3 à 11 ans.\nL’accompagnement des enfants de 3 à 8 ans est OBLIGATOIRE.\nL’inscription est obligatoire pour toutes les personnes présentes (adultes et enfants)\nUne participation libre en pleine conscience est demandée pour nous soutenir et valoriser nos actions.
URL:https://www.lebullition.fr/events/les-ateliers-recreabulle-120624/
LOCATION:L’ÉBULLITION\, 2 avenue de la République\, PALAISEAU\, 91120\, France
CATEGORIES:ATELIERS
ATTACH;FMTTYPE=image/jpeg:https://www.lebullition.fr/wp-content/uploads/2024/01/WEB-EVENT-CALENDAR26.jpg
ORGANIZER;CN="L'%C3%89BULLITION":MAILTO:contact-ebullition@palaiseautierslieu.fr
END:VEVENT
END:VCALENDAR