BEGIN:VCALENDAR
VERSION:2.0
PRODID:-//L ÉBULLITION - ECPv6.15.20//NONSGML v1.0//EN
CALSCALE:GREGORIAN
METHOD:PUBLISH
X-WR-CALNAME:L ÉBULLITION
X-ORIGINAL-URL:https://www.lebullition.fr
X-WR-CALDESC:Évènements pour L ÉBULLITION
REFRESH-INTERVAL;VALUE=DURATION:PT1H
X-Robots-Tag:noindex
X-PUBLISHED-TTL:PT1H
BEGIN:VTIMEZONE
TZID:Europe/Paris
BEGIN:DAYLIGHT
TZOFFSETFROM:+0100
TZOFFSETTO:+0200
TZNAME:CEST
DTSTART:20230326T010000
END:DAYLIGHT
BEGIN:STANDARD
TZOFFSETFROM:+0200
TZOFFSETTO:+0100
TZNAME:CET
DTSTART:20231029T010000
END:STANDARD
BEGIN:DAYLIGHT
TZOFFSETFROM:+0100
TZOFFSETTO:+0200
TZNAME:CEST
DTSTART:20240331T010000
END:DAYLIGHT
BEGIN:STANDARD
TZOFFSETFROM:+0200
TZOFFSETTO:+0100
TZNAME:CET
DTSTART:20241027T010000
END:STANDARD
BEGIN:DAYLIGHT
TZOFFSETFROM:+0100
TZOFFSETTO:+0200
TZNAME:CEST
DTSTART:20250330T010000
END:DAYLIGHT
BEGIN:STANDARD
TZOFFSETFROM:+0200
TZOFFSETTO:+0100
TZNAME:CET
DTSTART:20251026T010000
END:STANDARD
END:VTIMEZONE
BEGIN:VEVENT
DTSTART;TZID=Europe/Paris:20241025T094500
DTEND;TZID=Europe/Paris:20241025T104500
DTSTAMP:20260424T184531
CREATED:20240829T085607Z
LAST-MODIFIED:20240829T085607Z
UID:8052-1729849500-1729853100@www.lebullition.fr
SUMMARY:COURS DE PILATES
DESCRIPTION:Vendredi 25 octobre 2024 – 9h45 à 10h45\n \n\n\n\n\n\n\n\n\nDAPYS vous propose des cours en petit groupe (max 5 personnes) à l’Ebullition :\n \nNos cours sont ouverts à tous (débutants comme confirmés).\nNous proposons plusieurs options et nous nous adaptons à votre niveau et votre météo corporelle. \n\n\n\nUne bonne occasion de rencontrer de nouvelles personnes\, de prendre du temps pour soi\, de s’évader de son quotidien et d’apprendre de nouvelles compétences manuelles. \n\n\n\n\n 
URL:https://www.lebullition.fr/events/cours-de-pilates-251024/
LOCATION:L’ÉBULLITION\, 2 avenue de la République\, PALAISEAU\, 91120\, France
CATEGORIES:ATELIERS
ATTACH;FMTTYPE=image/jpeg:https://www.lebullition.fr/wp-content/uploads/2024/08/LOGO-DAPYS_ENTIER-NOIR.jpg
ORGANIZER;CN="L'%C3%89BULLITION":MAILTO:contact-ebullition@palaiseautierslieu.fr
END:VEVENT
BEGIN:VEVENT
DTSTART;TZID=Europe/Paris:20241025T180000
DTEND;TZID=Europe/Paris:20241025T200000
DTSTAMP:20260424T184531
CREATED:20240829T085830Z
LAST-MODIFIED:20240920T163454Z
UID:8054-1729879200-1729886400@www.lebullition.fr
SUMMARY:PERMANENCE UFC – QUE CHOISIR – 91 NORD
DESCRIPTION:Vendredi 25 octobre 2024 – 4e vendredi du mois de 18h à 20h (par ordre d’arrivée)\n \n\nPromouvoir les actions individuelles ou collectives des consommateurs. Favoriser la prise en charge des problèmes de consommation. Représenter les groupements et personnes. \n 
URL:https://www.lebullition.fr/events/permanence-ufc-que-choisir-91-nord-251024/
LOCATION:L’ÉBULLITION\, 2 avenue de la République\, PALAISEAU\, 91120\, France
CATEGORIES:ATELIERS
ATTACH;FMTTYPE=image/png:https://www.lebullition.fr/wp-content/uploads/2024/08/Capture-decran-2024-08-22-171401.png
ORGANIZER;CN="L'%C3%89BULLITION":MAILTO:contact-ebullition@palaiseautierslieu.fr
END:VEVENT
END:VCALENDAR