BEGIN:VCALENDAR
VERSION:2.0
PRODID:-//L ÉBULLITION - ECPv6.15.20//NONSGML v1.0//EN
CALSCALE:GREGORIAN
METHOD:PUBLISH
X-WR-CALNAME:L ÉBULLITION
X-ORIGINAL-URL:https://www.lebullition.fr
X-WR-CALDESC:Évènements pour L ÉBULLITION
REFRESH-INTERVAL;VALUE=DURATION:PT1H
X-Robots-Tag:noindex
X-PUBLISHED-TTL:PT1H
BEGIN:VTIMEZONE
TZID:Europe/Paris
BEGIN:DAYLIGHT
TZOFFSETFROM:+0100
TZOFFSETTO:+0200
TZNAME:CEST
DTSTART:20230326T010000
END:DAYLIGHT
BEGIN:STANDARD
TZOFFSETFROM:+0200
TZOFFSETTO:+0100
TZNAME:CET
DTSTART:20231029T010000
END:STANDARD
BEGIN:DAYLIGHT
TZOFFSETFROM:+0100
TZOFFSETTO:+0200
TZNAME:CEST
DTSTART:20240331T010000
END:DAYLIGHT
BEGIN:STANDARD
TZOFFSETFROM:+0200
TZOFFSETTO:+0100
TZNAME:CET
DTSTART:20241027T010000
END:STANDARD
BEGIN:DAYLIGHT
TZOFFSETFROM:+0100
TZOFFSETTO:+0200
TZNAME:CEST
DTSTART:20250330T010000
END:DAYLIGHT
BEGIN:STANDARD
TZOFFSETFROM:+0200
TZOFFSETTO:+0100
TZNAME:CET
DTSTART:20251026T010000
END:STANDARD
END:VTIMEZONE
BEGIN:VEVENT
DTSTART;TZID=Europe/Paris:20241122T094500
DTEND;TZID=Europe/Paris:20241122T104500
DTSTAMP:20260424T173714
CREATED:20240920T162931Z
LAST-MODIFIED:20240920T162931Z
UID:8264-1732268700-1732272300@www.lebullition.fr
SUMMARY:COURS DE PILATES
DESCRIPTION:Vendredi 22 novembre 2024 – 9h45 à 10h45\n \n\n\n\n\n\n\n\n\nDAPYS vous propose des cours en petit groupe (max 5 personnes) à l’Ebullition :\n \nNos cours sont ouverts à tous (débutants comme confirmés).\nNous proposons plusieurs options et nous nous adaptons à votre niveau et votre météo corporelle. \n\n\n\nUne bonne occasion de rencontrer de nouvelles personnes\, de prendre du temps pour soi\, de s’évader de son quotidien et d’apprendre de nouvelles compétences manuelles. \n\n\n\n\n 
URL:https://www.lebullition.fr/events/cours-de-pilates-221124/
LOCATION:L’ÉBULLITION\, 2 avenue de la République\, PALAISEAU\, 91120\, France
CATEGORIES:ATELIERS
ATTACH;FMTTYPE=image/jpeg:https://www.lebullition.fr/wp-content/uploads/2024/08/LOGO-DAPYS_ENTIER-NOIR.jpg
ORGANIZER;CN="L'%C3%89BULLITION":MAILTO:contact-ebullition@palaiseautierslieu.fr
END:VEVENT
BEGIN:VEVENT
DTSTART;TZID=Europe/Paris:20241122T180000
DTEND;TZID=Europe/Paris:20241122T190000
DTSTAMP:20260424T173714
CREATED:20240920T163920Z
LAST-MODIFIED:20240920T163920Z
UID:8268-1732298400-1732302000@www.lebullition.fr
SUMMARY:ATELIER ÉCHECS POUR LES ENFANTS
DESCRIPTION:vendredi 22 novembre 2024 – 18h à 19h – Module 2 (7 séances).\n \n\nLes ateliers ÉCHECS sont des ateliers pour les enfants ( à partir de 8 ans) qui aiment les échecs et qui veulent faire des parties pour le plaisir et améliorer leurs pratiques. Encadrés par des adultes bénévoles de l’association\, les enfants se donnent RDV tous les vendredis à 18h\, pour pratiquer les échecs et surtout s’amuser. \n 
URL:https://www.lebullition.fr/events/atelier-echecs-pour-les-enfants-221124/
LOCATION:L’ÉBULLITION\, 2 avenue de la République\, PALAISEAU\, 91120\, France
CATEGORIES:ATELIERS
ATTACH;FMTTYPE=image/jpeg:https://www.lebullition.fr/wp-content/uploads/2024/08/EVENT-CALENDAR-SEPT241.jpg
ORGANIZER;CN="L'%C3%89BULLITION":MAILTO:contact-ebullition@palaiseautierslieu.fr
END:VEVENT
BEGIN:VEVENT
DTSTART;TZID=Europe/Paris:20241122T190000
DTEND;TZID=Europe/Paris:20241122T213000
DTSTAMP:20260424T173714
CREATED:20241030T122134Z
LAST-MODIFIED:20241030T122134Z
UID:8497-1732302000-1732311000@www.lebullition.fr
SUMMARY:L'APÉRO COUTURE ET FIL
DESCRIPTION:Vendredi 22 novembre 2024 – 19h à 21h30\n \n\nVous êtes intéressées\, passionnées de couture et autres activités créatives autour du fil et des aiguilles ? Rejoignez d’autre passionnés et allier l’utile à l’agréable\, pour partager un moment convivial\,  autour d’un verre\, papoter et s’entraider sur les projets des un.es et des autres. \nRdv programmé une fois par mois. Ouvert à tout.es\, débutant.es ou expert.es\, Vous pouvez venir accompagné.e de vos enfants à partir de 8 ans.
URL:https://www.lebullition.fr/events/lapero-couture-et-fil-221124/
LOCATION:L’ÉBULLITION\, 2 avenue de la République\, PALAISEAU\, 91120\, France
CATEGORIES:ATELIERS
ATTACH;FMTTYPE=image/jpeg:https://www.lebullition.fr/wp-content/uploads/2024/08/EVENT-CALENDAR-SEPT24-1.jpg
ORGANIZER;CN="L'%C3%89BULLITION":MAILTO:contact-ebullition@palaiseautierslieu.fr
END:VEVENT
END:VCALENDAR