BEGIN:VCALENDAR
VERSION:2.0
PRODID:-//L ÉBULLITION - ECPv6.15.20//NONSGML v1.0//EN
CALSCALE:GREGORIAN
METHOD:PUBLISH
X-WR-CALNAME:L ÉBULLITION
X-ORIGINAL-URL:https://www.lebullition.fr
X-WR-CALDESC:Évènements pour L ÉBULLITION
REFRESH-INTERVAL;VALUE=DURATION:PT1H
X-Robots-Tag:noindex
X-PUBLISHED-TTL:PT1H
BEGIN:VTIMEZONE
TZID:Europe/Paris
BEGIN:DAYLIGHT
TZOFFSETFROM:+0100
TZOFFSETTO:+0200
TZNAME:CEST
DTSTART:20230326T010000
END:DAYLIGHT
BEGIN:STANDARD
TZOFFSETFROM:+0200
TZOFFSETTO:+0100
TZNAME:CET
DTSTART:20231029T010000
END:STANDARD
BEGIN:DAYLIGHT
TZOFFSETFROM:+0100
TZOFFSETTO:+0200
TZNAME:CEST
DTSTART:20240331T010000
END:DAYLIGHT
BEGIN:STANDARD
TZOFFSETFROM:+0200
TZOFFSETTO:+0100
TZNAME:CET
DTSTART:20241027T010000
END:STANDARD
BEGIN:DAYLIGHT
TZOFFSETFROM:+0100
TZOFFSETTO:+0200
TZNAME:CEST
DTSTART:20250330T010000
END:DAYLIGHT
BEGIN:STANDARD
TZOFFSETFROM:+0200
TZOFFSETTO:+0100
TZNAME:CET
DTSTART:20251026T010000
END:STANDARD
END:VTIMEZONE
BEGIN:VEVENT
DTSTART;TZID=Europe/Paris:20241123T093000
DTEND;TZID=Europe/Paris:20241123T123000
DTSTAMP:20260424T173614
CREATED:20241023T124140Z
LAST-MODIFIED:20241023T130306Z
UID:8440-1732354200-1732365000@www.lebullition.fr
SUMMARY:FRESQUE DU NUMÉRIQUE
DESCRIPTION:Samedi 23 novembre 2024 – 9h30 à 12h30\n \n\nLa Fresque du Numérique est un atelier ludique et collaboratif de 3H. Le but de ce « serious game » est de sensibiliser et former les participant·e·s aux enjeux environnementaux du numérique. \nInscription : https://www.helloasso.com/associations/palaiseau-tiers-lieu-en-ebullition/evenements/fresque-du-numerique-samedi-23-novembre-2024 \n 
URL:https://www.lebullition.fr/events/fresque-numerique-231124/
LOCATION:L’ÉBULLITION\, 2 avenue de la République\, PALAISEAU\, 91120\, France
CATEGORIES:ATELIERS
ATTACH;FMTTYPE=image/jpeg:https://www.lebullition.fr/wp-content/uploads/2024/10/WEB-EVENT-CALENDAR.jpg
ORGANIZER;CN="L'%C3%89BULLITION":MAILTO:contact-ebullition@palaiseautierslieu.fr
END:VEVENT
BEGIN:VEVENT
DTSTART;TZID=Europe/Paris:20241123T100000
DTEND;TZID=Europe/Paris:20241123T123000
DTSTAMP:20260424T173614
CREATED:20241023T151908Z
LAST-MODIFIED:20241023T151908Z
UID:8475-1732356000-1732365000@www.lebullition.fr
SUMMARY:OUTILTHEQUE
DESCRIPTION:Samedi 23 novembre 2024 – 10h à 12h30\n \n\nVous avez besoin d’une perceuse\, d’un appareil à raclette\, d’un nettoyeur haute-pression..? \nDoit-on forcément avoir ces objets que l’on n’utilise pas tous les jours chez soi ? \nEn mutualisant des outils et des objets que nous n’utilisons que quelques fois par an\, nous augmentons leur durée de vie et d’utilisation et surtout\, nous réduisons notre impact environnemental. \nVenez emprunter ou louer ces outils à l’Ébullition le samedi matin\, notre équipe de bénévoles vous accueille et vous conseille. \n 
URL:https://www.lebullition.fr/events/outiltheque-231124/
LOCATION:L’ÉBULLITION\, 2 avenue de la République\, PALAISEAU\, 91120\, France
CATEGORIES:ATELIERS
ATTACH;FMTTYPE=image/jpeg:https://www.lebullition.fr/wp-content/uploads/2024/10/WEB-VISUEL-PROGRAMMATION-3-768x768-1.jpg
ORGANIZER;CN="L'%C3%89BULLITION":MAILTO:contact-ebullition@palaiseautierslieu.fr
END:VEVENT
BEGIN:VEVENT
DTSTART;TZID=Europe/Paris:20241123T140000
DTEND;TZID=Europe/Paris:20241123T180000
DTSTAMP:20260424T173614
CREATED:20241121T143413Z
LAST-MODIFIED:20241121T163149Z
UID:8544-1732370400-1732384800@www.lebullition.fr
SUMMARY:ATELIER DE NOËL PARTICIPATIF
DESCRIPTION:Atelier de Noël participatif – Samedi 23 Novembre – 14h à 18h \nNoël approche\, l’occasion parfaite de se retrouver et de soutenir l’Ebullition. Alors rejoignez-nous pour un atelier créatif ! \nEnsemble\, nous apprendrons à fabriquer des petits objets festifs et des bocaux « SOS Cookies »\, des photophores\, des porte-clés… \nCes créations seront ensuite vendues lors de la Bourse aux Jouets des 7 et 8 décembre au profit des activités du Tiers-lieu. \nPetits et grands\, venez seul.e ou en famille pour partager un moment convivial et joyeux avec l’équipe des lutins de M. Pinguin et les enfants de Récréabulle ! Que vous ayez quelques minutes ou tout l’après-midi\, votre coup de main compte et votre sourire aussi.
URL:https://www.lebullition.fr/events/atelier-noel-231124/
LOCATION:L’ÉBULLITION\, 2 avenue de la République\, PALAISEAU\, 91120\, France
CATEGORIES:ATELIERS
ATTACH;FMTTYPE=image/jpeg:https://www.lebullition.fr/wp-content/uploads/2024/11/EVENT-CALENDAR-SEPT243.jpg
ORGANIZER;CN="L'%C3%89BULLITION":MAILTO:contact-ebullition@palaiseautierslieu.fr
END:VEVENT
END:VCALENDAR