BEGIN:VCALENDAR
VERSION:2.0
PRODID:-//L ÉBULLITION - ECPv6.15.20//NONSGML v1.0//EN
CALSCALE:GREGORIAN
METHOD:PUBLISH
X-WR-CALNAME:L ÉBULLITION
X-ORIGINAL-URL:https://www.lebullition.fr
X-WR-CALDESC:Évènements pour L ÉBULLITION
REFRESH-INTERVAL;VALUE=DURATION:PT1H
X-Robots-Tag:noindex
X-PUBLISHED-TTL:PT1H
BEGIN:VTIMEZONE
TZID:Europe/Paris
BEGIN:DAYLIGHT
TZOFFSETFROM:+0100
TZOFFSETTO:+0200
TZNAME:CEST
DTSTART:20240331T010000
END:DAYLIGHT
BEGIN:STANDARD
TZOFFSETFROM:+0200
TZOFFSETTO:+0100
TZNAME:CET
DTSTART:20241027T010000
END:STANDARD
BEGIN:DAYLIGHT
TZOFFSETFROM:+0100
TZOFFSETTO:+0200
TZNAME:CEST
DTSTART:20250330T010000
END:DAYLIGHT
BEGIN:STANDARD
TZOFFSETFROM:+0200
TZOFFSETTO:+0100
TZNAME:CET
DTSTART:20251026T010000
END:STANDARD
BEGIN:DAYLIGHT
TZOFFSETFROM:+0100
TZOFFSETTO:+0200
TZNAME:CEST
DTSTART:20260329T010000
END:DAYLIGHT
BEGIN:STANDARD
TZOFFSETFROM:+0200
TZOFFSETTO:+0100
TZNAME:CET
DTSTART:20261025T010000
END:STANDARD
END:VTIMEZONE
BEGIN:VEVENT
DTSTART;TZID=Europe/Paris:20250205T123000
DTEND;TZID=Europe/Paris:20250205T133000
DTSTAMP:20260424T122228
CREATED:20250109T145437Z
LAST-MODIFIED:20250109T145437Z
UID:8803-1738758600-1738762200@www.lebullition.fr
SUMMARY:COURS DE STRETCHING
DESCRIPTION:Mercredi 5 février 2025 – 12h30 à 13h30\n \n\n\n\n\n\n\n\n\nDAPYS vous propose des cours en petit groupe (max 5 personnes) à l’Ebullition :\n \nNos cours sont ouverts à tous (débutants comme confirmés).\nNous proposons plusieurs options et nous nous adaptons à votre niveau et votre météo corporelle. \n\n\n\nUne bonne occasion de rencontrer de nouvelles personnes\, de prendre du temps pour soi\, de s’évader de son quotidien et d’apprendre de nouvelles compétences manuelles. \n\n\n\n\n 
URL:https://www.lebullition.fr/events/cours-de-stretching-050225/
LOCATION:L’ÉBULLITION\, 2 avenue de la République\, PALAISEAU\, 91120\, France
CATEGORIES:ATELIERS
ATTACH;FMTTYPE=image/jpeg:https://www.lebullition.fr/wp-content/uploads/2024/08/LOGO-DAPYS_ENTIER-NOIR.jpg
ORGANIZER;CN="L'%C3%89BULLITION":MAILTO:contact-ebullition@palaiseautierslieu.fr
END:VEVENT
BEGIN:VEVENT
DTSTART;TZID=Europe/Paris:20250205T150000
DTEND;TZID=Europe/Paris:20250205T170000
DTSTAMP:20260424T122228
CREATED:20250109T145635Z
LAST-MODIFIED:20250109T145635Z
UID:8805-1738767600-1738774800@www.lebullition.fr
SUMMARY:LES ATELIERS RÉCRÉABULLE
DESCRIPTION:Les Ateliers Récréabulle – Module 3 (6 séances) \nMercredi 5 Février 2025 – 15h00 à 17h00\n \nLes ateliers RÉCRÉABULLE\, c’est le RDV dedié aux enfants de 4 à 11 ans. \nC’est un RDV hebdomadaire pour jouer et s’amuser avec d’autres enfants et/ou avec leurs parents/grands parents. C’est un peu la récréation. \nC’est l’occasion de découvrir une activité manuelle d’art créatif sensibilisant à la réutilisation d’un maximum de matériaux que nous avons dans nos placards. \nChaque atelier RÉCRÉABULLE se compose d’un atelier créatif\, d’un goûter et d’un temps libre autour des jeux/jouets/coloriages mis à disposition par le tiers-lieu. \nLes ateliers sont animés par des bénévoles qui viennent partager un peu de leur temps avec les enfants et leur font découvrir des activités créatives. \nInformations pratiques: \n\nLes ateliers inclus l’animation des ateliers\, le matériel et la collation.\n C’est tous les mercredis après-midis de 15H à 17H (hors vacances scolaires)\n L’atelier est réservé aux adhérents de L’ÉBULLITION. (Adhésion famille: 17€/an)\n L’atelier est réservé aux enfants de 4 à 11 ans.\n L’accompagnement des enfants de 4 à 8 ans est OBLIGATOIRE.\n L’inscription est obligatoire pour un module complet correspondant à la période entre chaque vacances scolaires. (cf. calendrier)\n Les ateliers sont payants.\n\nToutes les informations sur la page dédiée de notre site
URL:https://www.lebullition.fr/events/les-ateliers-recreabulle-050225/
LOCATION:L’ÉBULLITION\, 2 avenue de la République\, PALAISEAU\, 91120\, France
CATEGORIES:ATELIERS
ATTACH;FMTTYPE=image/jpeg:https://www.lebullition.fr/wp-content/uploads/2024/08/RECREABULLE-1.jpg
ORGANIZER;CN="L'%C3%89BULLITION":MAILTO:contact-ebullition@palaiseautierslieu.fr
END:VEVENT
BEGIN:VEVENT
DTSTART;TZID=Europe/Paris:20250205T180000
DTEND;TZID=Europe/Paris:20250205T190000
DTSTAMP:20260424T122228
CREATED:20250109T145750Z
LAST-MODIFIED:20250109T145750Z
UID:8807-1738778400-1738782000@www.lebullition.fr
SUMMARY:COURS DE PILATES
DESCRIPTION:Mercredi 5 Février 2025 – 18h à 19h\n \n\n\n\n\n\n\n\n\nDAPYS vous propose des cours en petit groupe (max 5 personnes) à l’Ebullition :\n \nNos cours sont ouverts à tous (débutants comme confirmés).\nNous proposons plusieurs options et nous nous adaptons à votre niveau et votre météo corporelle. \n\n\n\nUne bonne occasion de rencontrer de nouvelles personnes\, de prendre du temps pour soi\, de s’évader de son quotidien et d’apprendre de nouvelles compétences manuelles. \n\n\n\n\n 
URL:https://www.lebullition.fr/events/cours-de-pilates-050225/
LOCATION:L’ÉBULLITION\, 2 avenue de la République\, PALAISEAU\, 91120\, France
CATEGORIES:ATELIERS
ATTACH;FMTTYPE=image/jpeg:https://www.lebullition.fr/wp-content/uploads/2024/08/LOGO-DAPYS_ENTIER-NOIR.jpg
ORGANIZER;CN="L'%C3%89BULLITION":MAILTO:contact-ebullition@palaiseautierslieu.fr
END:VEVENT
BEGIN:VEVENT
DTSTART;TZID=Europe/Paris:20250205T190000
DTEND;TZID=Europe/Paris:20250205T200000
DTSTAMP:20260424T122228
CREATED:20250109T145857Z
LAST-MODIFIED:20250109T145857Z
UID:8809-1738782000-1738785600@www.lebullition.fr
SUMMARY:COURS DE PILATES
DESCRIPTION:Mercredi 5 Février 2025 – 19h à 20h\n \n\n\n\n\n\n\n\n\nDAPYS vous propose des cours en petit groupe (max 5 personnes) à l’Ebullition :\n \nNos cours sont ouverts à tous (débutants comme confirmés).\nNous proposons plusieurs options et nous nous adaptons à votre niveau et votre météo corporelle. \n\n\n\nUne bonne occasion de rencontrer de nouvelles personnes\, de prendre du temps pour soi\, de s’évader de son quotidien et d’apprendre de nouvelles compétences manuelles. \n\n\n\n\n 
URL:https://www.lebullition.fr/events/cours-de-pilates-050225-2/
LOCATION:L’ÉBULLITION\, 2 avenue de la République\, PALAISEAU\, 91120\, France
CATEGORIES:ATELIERS
ATTACH;FMTTYPE=image/jpeg:https://www.lebullition.fr/wp-content/uploads/2024/08/LOGO-DAPYS_ENTIER-NOIR.jpg
ORGANIZER;CN="L'%C3%89BULLITION":MAILTO:contact-ebullition@palaiseautierslieu.fr
END:VEVENT
END:VCALENDAR