BEGIN:VCALENDAR
VERSION:2.0
PRODID:-//L ÉBULLITION - ECPv6.15.20//NONSGML v1.0//EN
CALSCALE:GREGORIAN
METHOD:PUBLISH
X-ORIGINAL-URL:https://www.lebullition.fr
X-WR-CALDESC:Évènements pour L ÉBULLITION
REFRESH-INTERVAL;VALUE=DURATION:PT1H
X-Robots-Tag:noindex
X-PUBLISHED-TTL:PT1H
BEGIN:VTIMEZONE
TZID:Europe/Paris
BEGIN:DAYLIGHT
TZOFFSETFROM:+0100
TZOFFSETTO:+0200
TZNAME:CEST
DTSTART:20240331T010000
END:DAYLIGHT
BEGIN:STANDARD
TZOFFSETFROM:+0200
TZOFFSETTO:+0100
TZNAME:CET
DTSTART:20241027T010000
END:STANDARD
BEGIN:DAYLIGHT
TZOFFSETFROM:+0100
TZOFFSETTO:+0200
TZNAME:CEST
DTSTART:20250330T010000
END:DAYLIGHT
BEGIN:STANDARD
TZOFFSETFROM:+0200
TZOFFSETTO:+0100
TZNAME:CET
DTSTART:20251026T010000
END:STANDARD
BEGIN:DAYLIGHT
TZOFFSETFROM:+0100
TZOFFSETTO:+0200
TZNAME:CEST
DTSTART:20260329T010000
END:DAYLIGHT
BEGIN:STANDARD
TZOFFSETFROM:+0200
TZOFFSETTO:+0100
TZNAME:CET
DTSTART:20261025T010000
END:STANDARD
END:VTIMEZONE
BEGIN:VEVENT
DTSTART;TZID=Europe/Paris:20250301T100000
DTEND;TZID=Europe/Paris:20250301T120000
DTSTAMP:20260424T105740
CREATED:20250213T151540Z
LAST-MODIFIED:20250213T151540Z
UID:8996-1740823200-1740830400@www.lebullition.fr
SUMMARY:PORTE OUVERTE - HOMELIKE ACQUISITION
DESCRIPTION:Samedi 1er Mars 2025 – 10h à 12h \n\n\n\n\n\n\n\n\nHOMELIKE ACQUISITION s’invite à l’Ebullition pour vous présenter sa méthode d’apprentissage de l’anglais (ouvert aux familles) :\n \nPORTE OUVERTE – UNE AUTRE VISION DE L’ANGLAIS\n\nIl existe plusieurs façons d’exposer les enfants à la langue anglaise avec différents résultats. Si…\n– L’anglais est important pour vous\, voire une priorité\n– Vous êtes ouvert à une approche et des méthodes innovantes\n– Vous êtes impliqué dans les apprentissages de votre enfant\n– Vous êtes vous futur parent ou parent d’enfants de 0 à 10 ans\n– Vous êtes parent d’adolescents très motivés\n– Vous souhaitez entendre votre enfant communiquer en anglais dès les premières semaines\n– Votre enfant aime apprendre avec du sens…\n\nAlors venez découvrir tout un écosystème qui permet d’aborder la langue anglaise de façon réaliste\, pragmatique et ancrée dans le réel.\n\nAu programme : \nConcept « écosystème anglais »\nProgrammes progression anglais\nPhilosophie\, valeurs\, approches\, méthodes\, fonctionnement\nTémoignages de parents en vidéo ou en direct\, démonstrations de résultats\nAcadémie : mise en pratique dans le réel (conversations\, excursions\, immersion en France\, à l’étranger)\nActivités gratuites à l’intérieur\, à l’extérieur\, coaching\, conférence\, webinaires\, spectacles pour découvrir\, se tester\, partager avant de se lancer\n\nPlaces limitées : réservation obligatoire\n\n\n\n\n\n\n\n 
URL:https://www.lebullition.fr/events/anglais-010325/
LOCATION:L’ÉBULLITION\, 2 avenue de la République\, PALAISEAU\, 91120\, France
CATEGORIES:ATELIERS,PARTENAIRES
ATTACH;FMTTYPE=image/png:https://www.lebullition.fr/wp-content/uploads/2025/02/logo-homelike-vg.png
ORGANIZER;CN="L'%C3%89BULLITION":MAILTO:contact-ebullition@palaiseautierslieu.fr
END:VEVENT
BEGIN:VEVENT
DTSTART;TZID=Europe/Paris:20250301T100000
DTEND;TZID=Europe/Paris:20250301T123000
DTSTAMP:20260424T105740
CREATED:20250123T131224Z
LAST-MODIFIED:20250123T131224Z
UID:8936-1740823200-1740832200@www.lebullition.fr
SUMMARY:OUTILTHEQUE
DESCRIPTION:Samedi 1er mars 2025 – 10h à 12h30\n \n\nVous avez besoin d’une perceuse\, d’un appareil à raclette\, d’un nettoyeur haute-pression..? \nDoit-on forcément avoir ces objets que l’on n’utilise pas tous les jours chez soi ? \nEn mutualisant des outils et des objets que nous n’utilisons que quelques fois par an\, nous augmentons leur durée de vie et d’utilisation et surtout\, nous réduisons notre impact environnemental. \nVenez emprunter ou louer ces outils à l’Ébullition le samedi matin\, notre équipe de bénévoles vous accueille et vous conseille. \n 
URL:https://www.lebullition.fr/events/outiltheque-010325/
LOCATION:L’ÉBULLITION\, 2 avenue de la République\, PALAISEAU\, 91120\, France
CATEGORIES:ATELIERS
ATTACH;FMTTYPE=image/jpeg:https://www.lebullition.fr/wp-content/uploads/2024/10/WEB-VISUEL-PROGRAMMATION-3-768x768-1.jpg
ORGANIZER;CN="L'%C3%89BULLITION":MAILTO:contact-ebullition@palaiseautierslieu.fr
END:VEVENT
END:VCALENDAR