BEGIN:VCALENDAR
VERSION:2.0
PRODID:-//L ÉBULLITION - ECPv6.15.20//NONSGML v1.0//EN
CALSCALE:GREGORIAN
METHOD:PUBLISH
X-WR-CALNAME:L ÉBULLITION
X-ORIGINAL-URL:https://www.lebullition.fr
X-WR-CALDESC:Évènements pour L ÉBULLITION
REFRESH-INTERVAL;VALUE=DURATION:PT1H
X-Robots-Tag:noindex
X-PUBLISHED-TTL:PT1H
BEGIN:VTIMEZONE
TZID:Europe/Paris
BEGIN:DAYLIGHT
TZOFFSETFROM:+0100
TZOFFSETTO:+0200
TZNAME:CEST
DTSTART:20240331T010000
END:DAYLIGHT
BEGIN:STANDARD
TZOFFSETFROM:+0200
TZOFFSETTO:+0100
TZNAME:CET
DTSTART:20241027T010000
END:STANDARD
BEGIN:DAYLIGHT
TZOFFSETFROM:+0100
TZOFFSETTO:+0200
TZNAME:CEST
DTSTART:20250330T010000
END:DAYLIGHT
BEGIN:STANDARD
TZOFFSETFROM:+0200
TZOFFSETTO:+0100
TZNAME:CET
DTSTART:20251026T010000
END:STANDARD
BEGIN:DAYLIGHT
TZOFFSETFROM:+0100
TZOFFSETTO:+0200
TZNAME:CEST
DTSTART:20260329T010000
END:DAYLIGHT
BEGIN:STANDARD
TZOFFSETFROM:+0200
TZOFFSETTO:+0100
TZNAME:CET
DTSTART:20261025T010000
END:STANDARD
END:VTIMEZONE
BEGIN:VEVENT
DTSTART;TZID=Europe/Paris:20250304T150000
DTEND;TZID=Europe/Paris:20250304T170000
DTSTAMP:20260424T105519
CREATED:20250220T123257Z
LAST-MODIFIED:20250220T123257Z
UID:9042-1741100400-1741107600@www.lebullition.fr
SUMMARY:ATELIER D'ECRITURE
DESCRIPTION:Atelier d’écriture – Mardi 4 mars – 15H-17H \n\n\n\nModule de 3 séances  \n\n\n\n\n\n\n\n\n\n\n\nInitiez-vous à l’écriture de poésie avec Denis Pelsy. \nIl vous propose de vous accompagner dans l’écriture de textes autour des fleurs et des liens que nous pouvons entretenir avec elles. Il partagera avec vous des jeux d’écriture\, une méthode\, des idées et sa passion des mots.\nCes ateliers sont proposés dans une ambiance conviviale et stimulante\, propice à l’exploration créative. \n\n\n\n 
URL:https://www.lebullition.fr/events/atelier-ecriture-040325/
LOCATION:L’ÉBULLITION\, 2 avenue de la République\, PALAISEAU\, 91120\, France
CATEGORIES:ATELIERS,RENCONTRES
ATTACH;FMTTYPE=image/jpeg:https://www.lebullition.fr/wp-content/uploads/2025/02/EVENT-CALENDAR-SEPT242.jpg
ORGANIZER;CN="L'%C3%89BULLITION":MAILTO:contact-ebullition@palaiseautierslieu.fr
END:VEVENT
BEGIN:VEVENT
DTSTART;TZID=Europe/Paris:20250304T190000
DTEND;TZID=Europe/Paris:20250304T200000
DTSTAMP:20260424T105519
CREATED:20250130T150703Z
LAST-MODIFIED:20250130T150703Z
UID:8969-1741114800-1741118400@www.lebullition.fr
SUMMARY:COURS DE STRETCHING
DESCRIPTION:Mardi 4 mars 2025 – 19h à 20h\n \n\n\n\n\n\n\n\n\nDAPYS vous propose des cours en petit groupe (max 5 personnes) à l’Ebullition :\n \nNos cours sont ouverts à tous (débutants comme confirmés).\nNous proposons plusieurs options et nous nous adaptons à votre niveau et votre météo corporelle. \n\n\n\nUne bonne occasion de rencontrer de nouvelles personnes\, de prendre du temps pour soi\, de s’évader de son quotidien et d’apprendre de nouvelles compétences manuelles. \n\n\n\n\n 
URL:https://www.lebullition.fr/events/cours-de-stretching-040325/
LOCATION:L’ÉBULLITION\, 2 avenue de la République\, PALAISEAU\, 91120\, France
CATEGORIES:ATELIERS
ATTACH;FMTTYPE=image/jpeg:https://www.lebullition.fr/wp-content/uploads/2024/08/LOGO-DAPYS_ENTIER-NOIR.jpg
ORGANIZER;CN="L'%C3%89BULLITION":MAILTO:contact-ebullition@palaiseautierslieu.fr
END:VEVENT
END:VCALENDAR