BEGIN:VCALENDAR
VERSION:2.0
PRODID:-//L ÉBULLITION - ECPv6.15.20//NONSGML v1.0//EN
CALSCALE:GREGORIAN
METHOD:PUBLISH
X-ORIGINAL-URL:https://www.lebullition.fr
X-WR-CALDESC:Évènements pour L ÉBULLITION
REFRESH-INTERVAL;VALUE=DURATION:PT1H
X-Robots-Tag:noindex
X-PUBLISHED-TTL:PT1H
BEGIN:VTIMEZONE
TZID:Europe/Paris
BEGIN:DAYLIGHT
TZOFFSETFROM:+0100
TZOFFSETTO:+0200
TZNAME:CEST
DTSTART:20240331T010000
END:DAYLIGHT
BEGIN:STANDARD
TZOFFSETFROM:+0200
TZOFFSETTO:+0100
TZNAME:CET
DTSTART:20241027T010000
END:STANDARD
BEGIN:DAYLIGHT
TZOFFSETFROM:+0100
TZOFFSETTO:+0200
TZNAME:CEST
DTSTART:20250330T010000
END:DAYLIGHT
BEGIN:STANDARD
TZOFFSETFROM:+0200
TZOFFSETTO:+0100
TZNAME:CET
DTSTART:20251026T010000
END:STANDARD
BEGIN:DAYLIGHT
TZOFFSETFROM:+0100
TZOFFSETTO:+0200
TZNAME:CEST
DTSTART:20260329T010000
END:DAYLIGHT
BEGIN:STANDARD
TZOFFSETFROM:+0200
TZOFFSETTO:+0100
TZNAME:CET
DTSTART:20261025T010000
END:STANDARD
END:VTIMEZONE
BEGIN:VEVENT
DTSTART;TZID=Europe/Paris:20250322T100000
DTEND;TZID=Europe/Paris:20250322T120000
DTSTAMP:20260424T105803
CREATED:20250220T135619Z
LAST-MODIFIED:20250220T135619Z
UID:9070-1742637600-1742644800@www.lebullition.fr
SUMMARY:LA FRESQUE DE LA BIODIVERSITÉ - EBULLITION PRINTANIERE
DESCRIPTION:Atelier de sensibilisation – Samedi 22 mars 2025- 10h à 12h \n\n\n\nDans le cadre de notre événement annuel\, L’Ebullition Printanière\, nous vous proposons de vous initier à la fresque de la Biodiversité. \nSensibiliser\, c’est prendre conscience. \nDécouvrez au travers de cet atelier ludique et collaboratif l’aspect systémique de l’érosion de la biodiversité : ce qu’elle est\, ce qu’elle permet et ce qui la dégrade. \n 
URL:https://www.lebullition.fr/events/la-fresque-de-la-biodiversite-220325/
LOCATION:L’ÉBULLITION\, 2 avenue de la République\, PALAISEAU\, 91120\, France
CATEGORIES:ATELIERS
ATTACH;FMTTYPE=image/jpeg:https://www.lebullition.fr/wp-content/uploads/2025/02/EVENT-CALENDAR-SEPT244.jpg
ORGANIZER;CN="L'%C3%89BULLITION":MAILTO:contact-ebullition@palaiseautierslieu.fr
END:VEVENT
BEGIN:VEVENT
DTSTART;TZID=Europe/Paris:20250322T100000
DTEND;TZID=Europe/Paris:20250322T123000
DTSTAMP:20260424T105803
CREATED:20250220T133741Z
LAST-MODIFIED:20250220T133741Z
UID:9068-1742637600-1742646600@www.lebullition.fr
SUMMARY:OUTILTHEQUE
DESCRIPTION:Samedi 22 mars 2025 – 10h à 12h30\n \n\nVous avez besoin d’une perceuse\, d’un appareil à raclette\, d’un nettoyeur haute-pression..? \nDoit-on forcément avoir ces objets que l’on n’utilise pas tous les jours chez soi ? \nEn mutualisant des outils et des objets que nous n’utilisons que quelques fois par an\, nous augmentons leur durée de vie et d’utilisation et surtout\, nous réduisons notre impact environnemental. \nVenez emprunter ou louer ces outils à l’Ébullition le samedi matin\, notre équipe de bénévoles vous accueille et vous conseille. \n 
URL:https://www.lebullition.fr/events/outiltheque-220325/
LOCATION:L’ÉBULLITION\, 2 avenue de la République\, PALAISEAU\, 91120\, France
CATEGORIES:ATELIERS
ATTACH;FMTTYPE=image/jpeg:https://www.lebullition.fr/wp-content/uploads/2024/10/WEB-VISUEL-PROGRAMMATION-3-768x768-1.jpg
ORGANIZER;CN="L'%C3%89BULLITION":MAILTO:contact-ebullition@palaiseautierslieu.fr
END:VEVENT
BEGIN:VEVENT
DTSTART;TZID=Europe/Paris:20250322T150000
DTEND;TZID=Europe/Paris:20250322T170000
DTSTAMP:20260424T105803
CREATED:20250320T110005Z
LAST-MODIFIED:20250320T110005Z
UID:9179-1742655600-1742662800@www.lebullition.fr
SUMMARY:ATELIER LACTOFERMENTATION - EBULLITION PRINTANIERE
DESCRIPTION:Atelier d’initiation à la lactofermentation – Samedi 22 mars 2025- 15h à 17h \n\n\n\nDans le cadre de notre événement annuel\, L’Ebullition Printanière\, Marion et Laurence de MonEpiceRit vous proposent de vous initier aux techniques de la lactofermentation dans le but de réduire vos déchets et d’appliquer des actions anti-gaspi. \nInscription : https://www.helloasso.com/associations/palaiseau-tiers-lieu-en-ebullition/evenements/atelier-lactofermentation \nPensez à apporter un bocal type « LeParfait » avec joint pour remporter vos légumes à déguster dans quelques semaines. \n 
URL:https://www.lebullition.fr/events/lactofermentation-220325-2/
LOCATION:L’ÉBULLITION\, 2 avenue de la République\, PALAISEAU\, 91120\, France
CATEGORIES:ATELIERS
ATTACH;FMTTYPE=image/jpeg:https://www.lebullition.fr/wp-content/uploads/2025/03/VISUELS-carres-FBIG-janv-202518.jpg
ORGANIZER;CN="L'%C3%89BULLITION":MAILTO:contact-ebullition@palaiseautierslieu.fr
END:VEVENT
END:VCALENDAR