BEGIN:VCALENDAR
VERSION:2.0
PRODID:-//L ÉBULLITION - ECPv6.15.20//NONSGML v1.0//EN
CALSCALE:GREGORIAN
METHOD:PUBLISH
X-WR-CALNAME:L ÉBULLITION
X-ORIGINAL-URL:https://www.lebullition.fr
X-WR-CALDESC:Évènements pour L ÉBULLITION
REFRESH-INTERVAL;VALUE=DURATION:PT1H
X-Robots-Tag:noindex
X-PUBLISHED-TTL:PT1H
BEGIN:VTIMEZONE
TZID:Europe/Paris
BEGIN:DAYLIGHT
TZOFFSETFROM:+0100
TZOFFSETTO:+0200
TZNAME:CEST
DTSTART:20240331T010000
END:DAYLIGHT
BEGIN:STANDARD
TZOFFSETFROM:+0200
TZOFFSETTO:+0100
TZNAME:CET
DTSTART:20241027T010000
END:STANDARD
BEGIN:DAYLIGHT
TZOFFSETFROM:+0100
TZOFFSETTO:+0200
TZNAME:CEST
DTSTART:20250330T010000
END:DAYLIGHT
BEGIN:STANDARD
TZOFFSETFROM:+0200
TZOFFSETTO:+0100
TZNAME:CET
DTSTART:20251026T010000
END:STANDARD
BEGIN:DAYLIGHT
TZOFFSETFROM:+0100
TZOFFSETTO:+0200
TZNAME:CEST
DTSTART:20260329T010000
END:DAYLIGHT
BEGIN:STANDARD
TZOFFSETFROM:+0200
TZOFFSETTO:+0100
TZNAME:CET
DTSTART:20261025T010000
END:STANDARD
END:VTIMEZONE
BEGIN:VEVENT
DTSTART;TZID=Europe/Paris:20250405T100000
DTEND;TZID=Europe/Paris:20250405T120000
DTSTAMP:20260422T101813
CREATED:20250220T125748Z
LAST-MODIFIED:20250220T125748Z
UID:9048-1743847200-1743854400@www.lebullition.fr
SUMMARY:ATELIER D’ECRITURE
DESCRIPTION:Atelier d’écriture – Samedi 5 avril – 10H-12H \n\n\n\nModule de 3 séances  \n\n\n\n\n\n\n\n\n\n\n\nInitiez-vous à l’écriture de poésie avec Denis Pelsy. \nIl vous propose de vous accompagner dans l’écriture de textes autour des fleurs et des liens que nous pouvons entretenir avec elles. Il partagera avec vous des jeux d’écriture\, une méthode\, des idées et sa passion des mots.\nCes ateliers sont proposés dans une ambiance conviviale et stimulante\, propice à l’exploration créative. \n\n\n\n 
URL:https://www.lebullition.fr/events/atelier-decriture-050425/
LOCATION:L’ÉBULLITION\, 2 avenue de la République\, PALAISEAU\, 91120\, France
CATEGORIES:ATELIERS,RENCONTRES
ATTACH;FMTTYPE=image/jpeg:https://www.lebullition.fr/wp-content/uploads/2025/02/EVENT-CALENDAR-SEPT242.jpg
ORGANIZER;CN="L'%C3%89BULLITION":MAILTO:contact-ebullition@palaiseautierslieu.fr
END:VEVENT
BEGIN:VEVENT
DTSTART;TZID=Europe/Paris:20250405T100000
DTEND;TZID=Europe/Paris:20250405T123000
DTSTAMP:20260422T101813
CREATED:20250320T105032Z
LAST-MODIFIED:20250320T105032Z
UID:9175-1743847200-1743856200@www.lebullition.fr
SUMMARY:OUTILTHEQUE
DESCRIPTION:Samedi 5 avril 2025 – 10h à 12h30\n \n\nVous avez besoin d’une perceuse\, d’un appareil à raclette\, d’un nettoyeur haute-pression..? \nDoit-on forcément avoir ces objets que l’on n’utilise pas tous les jours chez soi ? \nEn mutualisant des outils et des objets que nous n’utilisons que quelques fois par an\, nous augmentons leur durée de vie et d’utilisation et surtout\, nous réduisons notre impact environnemental. \nVenez emprunter ou louer ces outils à l’Ébullition le samedi matin\, notre équipe de bénévoles vous accueille et vous conseille. \n 
URL:https://www.lebullition.fr/events/outiltheque-050425/
LOCATION:L’ÉBULLITION\, 2 avenue de la République\, PALAISEAU\, 91120\, France
CATEGORIES:ATELIERS
ATTACH;FMTTYPE=image/jpeg:https://www.lebullition.fr/wp-content/uploads/2024/10/WEB-VISUEL-PROGRAMMATION-3-768x768-1.jpg
ORGANIZER;CN="L'%C3%89BULLITION":MAILTO:contact-ebullition@palaiseautierslieu.fr
END:VEVENT
BEGIN:VEVENT
DTSTART;TZID=Europe/Paris:20250405T140000
DTEND;TZID=Europe/Paris:20250405T170000
DTSTAMP:20260422T101813
CREATED:20250320T105233Z
LAST-MODIFIED:20250320T105233Z
UID:9177-1743861600-1743872400@www.lebullition.fr
SUMMARY:ATELIER RÉPARATION VÉLO
DESCRIPTION:Samedi 5 avril 2025 – 14h à 17h\n \n\nMDB Palaiseau à Vélo vous propose un atelier d’aide à la réparation de vos vélos. \nVotre vélo a besoin d’une petite remise en état ? Une roue à plat ou un dérailleur à régler ? Passez nous voir\, nous serons ravis de vous aider.\nLe principe : On a tous les outils nécessaires sur place et on vous aide\, un peu ou beaucoup\, pour remettre votre vélo en état. Si besoin\, on peut dépanner de quelques pièces mécaniques de base à prix coutant ou vous pouvez venir avec les vôtres. Vous repartez fier d’avoir participé à la remise en état de votre monture et\, la prochaine fois\, vous saurez faire seul ou avec moins d’aide.\nCet atelier est gratuit\, ouvert à tous\, femmes et hommes de 8 à 99 ans.
URL:https://www.lebullition.fr/events/atelier-reparation-velo-050425/
LOCATION:L’ÉBULLITION\, 2 avenue de la République\, PALAISEAU\, 91120\, France
CATEGORIES:ATELIERS
ATTACH;FMTTYPE=image/jpeg:https://www.lebullition.fr/wp-content/uploads/2024/10/EVENT-CALENDAR-SEPT242.jpg
ORGANIZER;CN="L'%C3%89BULLITION":MAILTO:contact-ebullition@palaiseautierslieu.fr
END:VEVENT
END:VCALENDAR