BEGIN:VCALENDAR
VERSION:2.0
PRODID:-//L ÉBULLITION - ECPv6.15.20//NONSGML v1.0//EN
CALSCALE:GREGORIAN
METHOD:PUBLISH
X-ORIGINAL-URL:https://www.lebullition.fr
X-WR-CALDESC:Évènements pour L ÉBULLITION
REFRESH-INTERVAL;VALUE=DURATION:PT1H
X-Robots-Tag:noindex
X-PUBLISHED-TTL:PT1H
BEGIN:VTIMEZONE
TZID:Europe/Paris
BEGIN:DAYLIGHT
TZOFFSETFROM:+0100
TZOFFSETTO:+0200
TZNAME:CEST
DTSTART:20240331T010000
END:DAYLIGHT
BEGIN:STANDARD
TZOFFSETFROM:+0200
TZOFFSETTO:+0100
TZNAME:CET
DTSTART:20241027T010000
END:STANDARD
BEGIN:DAYLIGHT
TZOFFSETFROM:+0100
TZOFFSETTO:+0200
TZNAME:CEST
DTSTART:20250330T010000
END:DAYLIGHT
BEGIN:STANDARD
TZOFFSETFROM:+0200
TZOFFSETTO:+0100
TZNAME:CET
DTSTART:20251026T010000
END:STANDARD
BEGIN:DAYLIGHT
TZOFFSETFROM:+0100
TZOFFSETTO:+0200
TZNAME:CEST
DTSTART:20260329T010000
END:DAYLIGHT
BEGIN:STANDARD
TZOFFSETFROM:+0200
TZOFFSETTO:+0100
TZNAME:CET
DTSTART:20261025T010000
END:STANDARD
END:VTIMEZONE
BEGIN:VEVENT
DTSTART;TZID=Europe/Paris:20250510T100000
DTEND;TZID=Europe/Paris:20250510T123000
DTSTAMP:20260422T090107
CREATED:20250327T152315Z
LAST-MODIFIED:20250327T152315Z
UID:9257-1746871200-1746880200@www.lebullition.fr
SUMMARY:OUTILTHEQUE
DESCRIPTION:Samedi 10 mai 2025 – 10h à 12h30\n \n\nVous avez besoin d’une perceuse\, d’un appareil à raclette\, d’un nettoyeur haute-pression..? \nDoit-on forcément avoir ces objets que l’on n’utilise pas tous les jours chez soi ? \nEn mutualisant des outils et des objets que nous n’utilisons que quelques fois par an\, nous augmentons leur durée de vie et d’utilisation et surtout\, nous réduisons notre impact environnemental. \nVenez emprunter ou louer ces outils à l’Ébullition le samedi matin\, notre équipe de bénévoles vous accueille et vous conseille. \n 
URL:https://www.lebullition.fr/events/outiltheque-100525/
LOCATION:L’ÉBULLITION\, 2 avenue de la République\, PALAISEAU\, 91120\, France
CATEGORIES:ATELIERS
ATTACH;FMTTYPE=image/jpeg:https://www.lebullition.fr/wp-content/uploads/2024/10/WEB-VISUEL-PROGRAMMATION-3-768x768-1.jpg
ORGANIZER;CN="L'%C3%89BULLITION":MAILTO:contact-ebullition@palaiseautierslieu.fr
END:VEVENT
BEGIN:VEVENT
DTSTART;TZID=Europe/Paris:20250510T140000
DTEND;TZID=Europe/Paris:20250510T163000
DTSTAMP:20260422T090107
CREATED:20250428T131447Z
LAST-MODIFIED:20250428T132603Z
UID:9425-1746885600-1746894600@www.lebullition.fr
SUMMARY:ATELIER JOUONS AVEC LA NATURE
DESCRIPTION:Samedi 10 mai 2025 – 14h et 15h30 \nDans le cadre du Printemps de l’Environnement à Palaiseau\, la ville propose des ateliers pour enfants autour de la Nature. 2 ateliers\, proposés par CPN Val de Seine pour vous amuser et créer des instruments de musique et des jeux avec des éléments naturels que nous pouvons trouver au grès de nos balades. \nLes ateliers sont réservés aux enfant à partir de 6 ans accompagnés d’un adulte. \nLes ateliers sont gratuits\, mais l’inscription est obligatoire. \n 
URL:https://www.lebullition.fr/events/atelier-jouons-avec-la-nature/
LOCATION:L’ÉBULLITION\, 2 avenue de la République\, PALAISEAU\, 91120\, France
CATEGORIES:ATELIERS
ATTACH;FMTTYPE=image/jpeg:https://www.lebullition.fr/wp-content/uploads/2025/04/REPARATION-VELO3.jpg
ORGANIZER;CN="L'%C3%89BULLITION":MAILTO:contact-ebullition@palaiseautierslieu.fr
END:VEVENT
END:VCALENDAR