BEGIN:VCALENDAR
VERSION:2.0
PRODID:-//L ÉBULLITION - ECPv6.15.20//NONSGML v1.0//EN
CALSCALE:GREGORIAN
METHOD:PUBLISH
X-WR-CALNAME:L ÉBULLITION
X-ORIGINAL-URL:https://www.lebullition.fr
X-WR-CALDESC:Évènements pour L ÉBULLITION
REFRESH-INTERVAL;VALUE=DURATION:PT1H
X-Robots-Tag:noindex
X-PUBLISHED-TTL:PT1H
BEGIN:VTIMEZONE
TZID:Europe/Paris
BEGIN:DAYLIGHT
TZOFFSETFROM:+0100
TZOFFSETTO:+0200
TZNAME:CEST
DTSTART:20240331T010000
END:DAYLIGHT
BEGIN:STANDARD
TZOFFSETFROM:+0200
TZOFFSETTO:+0100
TZNAME:CET
DTSTART:20241027T010000
END:STANDARD
BEGIN:DAYLIGHT
TZOFFSETFROM:+0100
TZOFFSETTO:+0200
TZNAME:CEST
DTSTART:20250330T010000
END:DAYLIGHT
BEGIN:STANDARD
TZOFFSETFROM:+0200
TZOFFSETTO:+0100
TZNAME:CET
DTSTART:20251026T010000
END:STANDARD
BEGIN:DAYLIGHT
TZOFFSETFROM:+0100
TZOFFSETTO:+0200
TZNAME:CEST
DTSTART:20260329T010000
END:DAYLIGHT
BEGIN:STANDARD
TZOFFSETFROM:+0200
TZOFFSETTO:+0100
TZNAME:CET
DTSTART:20261025T010000
END:STANDARD
END:VTIMEZONE
BEGIN:VEVENT
DTSTART;TZID=Europe/Paris:20250620T094500
DTEND;TZID=Europe/Paris:20250620T104500
DTSTAMP:20260422T071904
CREATED:20250419T161333Z
LAST-MODIFIED:20250419T161333Z
UID:9390-1750412700-1750416300@www.lebullition.fr
SUMMARY:COURS DE PILATES
DESCRIPTION:Vendredi 20 juin 2025 – 9h45 à 10h45\n \n\n\n\n\n\n\n\n\nDAPYS vous propose des cours en petit groupe (max 5 personnes) à l’Ebullition :\n \nNos cours sont ouverts à tous (débutants comme confirmés).\nNous proposons plusieurs options et nous nous adaptons à votre niveau et votre météo corporelle. \n\n\n\nUne bonne occasion de rencontrer de nouvelles personnes\, de prendre du temps pour soi\, de s’évader de son quotidien et d’apprendre de nouvelles compétences manuelles. \n\n\n\n\n 
URL:https://www.lebullition.fr/events/cours-de-pilates-200625/
LOCATION:L’ÉBULLITION\, 2 avenue de la République\, PALAISEAU\, 91120\, France
CATEGORIES:ATELIERS
ATTACH;FMTTYPE=image/jpeg:https://www.lebullition.fr/wp-content/uploads/2024/08/LOGO-DAPYS_ENTIER-NOIR.jpg
ORGANIZER;CN="L'%C3%89BULLITION":MAILTO:contact-ebullition@palaiseautierslieu.fr
END:VEVENT
BEGIN:VEVENT
DTSTART;TZID=Europe/Paris:20250620T180000
DTEND;TZID=Europe/Paris:20250620T190000
DTSTAMP:20260422T071904
CREATED:20250419T160810Z
LAST-MODIFIED:20250419T160810Z
UID:9382-1750442400-1750446000@www.lebullition.fr
SUMMARY:ATELIER ÉCHECS POUR LES ENFANTS
DESCRIPTION:Vendredi 20 juin 2025 – 18h à 19h – Module 5 (6 séances)\n \n\nLes ateliers ÉCHECS sont des ateliers pour les enfants ( à partir de 8 ans) qui aiment les échecs et qui veulent faire des parties pour le plaisir et améliorer leurs pratiques. Encadrés par des adultes bénévoles de l’association\, les enfants se donnent RDV tous les vendredis à 18h\, pour pratiquer les échecs et surtout s’amuser. \n 
URL:https://www.lebullition.fr/events/atelier-echecs-pour-les-enfants-200625/
LOCATION:L’ÉBULLITION\, 2 avenue de la République\, PALAISEAU\, 91120\, France
CATEGORIES:ATELIERS
ATTACH;FMTTYPE=image/jpeg:https://www.lebullition.fr/wp-content/uploads/2024/08/EVENT-CALENDAR-SEPT241.jpg
ORGANIZER;CN="L'%C3%89BULLITION":MAILTO:contact-ebullition@palaiseautierslieu.fr
END:VEVENT
BEGIN:VEVENT
DTSTART;TZID=Europe/Paris:20250620T190000
DTEND;TZID=Europe/Paris:20250620T213000
DTSTAMP:20260422T071904
CREATED:20250507T153844Z
LAST-MODIFIED:20250507T153844Z
UID:9549-1750446000-1750455000@www.lebullition.fr
SUMMARY:L'APÉRO COUTURE ET FIL
DESCRIPTION:Vendredi 20 juin 2025 – 19h à 21h30\n \n\nVous êtes intéressées\, passionnées de couture et autres activités créatives autour du fil et des aiguilles ? Rejoignez d’autre passionnés et allier l’utile à l’agréable\, pour partager un moment convivial\,  autour d’un verre\, papoter et s’entraider sur les projets des un.es et des autres. \nRdv programmé une fois par mois. Ouvert à tout.es\, débutant.es ou expert.es\, Vous pouvez venir accompagné.e de vos enfants à partir de 8 ans. \nPlus d’informations sur la page dédiée sur notre site.
URL:https://www.lebullition.fr/events/lapero-couture-et-fil-200625/
LOCATION:L’ÉBULLITION\, 2 avenue de la République\, PALAISEAU\, 91120\, France
CATEGORIES:ATELIERS
ATTACH;FMTTYPE=image/jpeg:https://www.lebullition.fr/wp-content/uploads/2024/08/EVENT-CALENDAR-SEPT24-1.jpg
ORGANIZER;CN="L'%C3%89BULLITION":MAILTO:contact-ebullition@palaiseautierslieu.fr
END:VEVENT
END:VCALENDAR