BEGIN:VCALENDAR
VERSION:2.0
PRODID:-//L ÉBULLITION - ECPv6.15.20//NONSGML v1.0//EN
CALSCALE:GREGORIAN
METHOD:PUBLISH
X-WR-CALNAME:L ÉBULLITION
X-ORIGINAL-URL:https://www.lebullition.fr
X-WR-CALDESC:Évènements pour L ÉBULLITION
REFRESH-INTERVAL;VALUE=DURATION:PT1H
X-Robots-Tag:noindex
X-PUBLISHED-TTL:PT1H
BEGIN:VTIMEZONE
TZID:Europe/Paris
BEGIN:DAYLIGHT
TZOFFSETFROM:+0100
TZOFFSETTO:+0200
TZNAME:CEST
DTSTART:20240331T010000
END:DAYLIGHT
BEGIN:STANDARD
TZOFFSETFROM:+0200
TZOFFSETTO:+0100
TZNAME:CET
DTSTART:20241027T010000
END:STANDARD
BEGIN:DAYLIGHT
TZOFFSETFROM:+0100
TZOFFSETTO:+0200
TZNAME:CEST
DTSTART:20250330T010000
END:DAYLIGHT
BEGIN:STANDARD
TZOFFSETFROM:+0200
TZOFFSETTO:+0100
TZNAME:CET
DTSTART:20251026T010000
END:STANDARD
BEGIN:DAYLIGHT
TZOFFSETFROM:+0100
TZOFFSETTO:+0200
TZNAME:CEST
DTSTART:20260329T010000
END:DAYLIGHT
BEGIN:STANDARD
TZOFFSETFROM:+0200
TZOFFSETTO:+0100
TZNAME:CET
DTSTART:20261025T010000
END:STANDARD
END:VTIMEZONE
BEGIN:VEVENT
DTSTART;TZID=Europe/Paris:20250702T150000
DTEND;TZID=Europe/Paris:20250702T170000
DTSTAMP:20260422T054446
CREATED:20250603T111439Z
LAST-MODIFIED:20250603T111439Z
UID:9644-1751468400-1751475600@www.lebullition.fr
SUMMARY:ATELIER D’ÉVEIL MUSICAL (0-6 ANS)
DESCRIPTION:Espaces sonores à explorer \nMercredi 2 juillet 2025 – A partir de 15h00 (durée 45 min environ) \nCéline vous propose 2 ateliers d’éveil musical pour les enfants de 0 à 6 ans\, pour faire ses premiers dans un univers sonore et découvrir la musique\, les sons\, les instruments autrement an touchant\, regardant\, écoutant\, fabricant des objets\, des instruments.  \nInfos pratiques: \n\nAteliers gratuits\nInscription obligatoire\nLes ateliers sont filmés à des fins pédagogiques\nAnimatrice certifiée « Intégrer l’éveil culturel et artistique des enfants à sa pratique professionnelle »\n\n 
URL:https://www.lebullition.fr/events/atelier-deveil-musical-3-6-ans-020725/
LOCATION:L’ÉBULLITION\, 2 avenue de la République\, PALAISEAU\, 91120\, France
CATEGORIES:ATELIERS
ATTACH;FMTTYPE=image/jpeg:https://www.lebullition.fr/wp-content/uploads/2025/06/EVENT-CALENDAR-SEPT24.jpg
ORGANIZER;CN="L'%C3%89BULLITION":MAILTO:contact-ebullition@palaiseautierslieu.fr
END:VEVENT
END:VCALENDAR