BEGIN:VCALENDAR
VERSION:2.0
PRODID:-//L ÉBULLITION - ECPv6.15.20//NONSGML v1.0//EN
CALSCALE:GREGORIAN
METHOD:PUBLISH
X-ORIGINAL-URL:https://www.lebullition.fr
X-WR-CALDESC:Évènements pour L ÉBULLITION
REFRESH-INTERVAL;VALUE=DURATION:PT1H
X-Robots-Tag:noindex
X-PUBLISHED-TTL:PT1H
BEGIN:VTIMEZONE
TZID:Europe/Paris
BEGIN:DAYLIGHT
TZOFFSETFROM:+0100
TZOFFSETTO:+0200
TZNAME:CEST
DTSTART:20240331T010000
END:DAYLIGHT
BEGIN:STANDARD
TZOFFSETFROM:+0200
TZOFFSETTO:+0100
TZNAME:CET
DTSTART:20241027T010000
END:STANDARD
BEGIN:DAYLIGHT
TZOFFSETFROM:+0100
TZOFFSETTO:+0200
TZNAME:CEST
DTSTART:20250330T010000
END:DAYLIGHT
BEGIN:STANDARD
TZOFFSETFROM:+0200
TZOFFSETTO:+0100
TZNAME:CET
DTSTART:20251026T010000
END:STANDARD
BEGIN:DAYLIGHT
TZOFFSETFROM:+0100
TZOFFSETTO:+0200
TZNAME:CEST
DTSTART:20260329T010000
END:DAYLIGHT
BEGIN:STANDARD
TZOFFSETFROM:+0200
TZOFFSETTO:+0100
TZNAME:CET
DTSTART:20261025T010000
END:STANDARD
END:VTIMEZONE
BEGIN:VEVENT
DTSTART;TZID=Europe/Paris:20251024T094500
DTEND;TZID=Europe/Paris:20251024T104500
DTSTAMP:20260422T012051
CREATED:20250822T113116Z
LAST-MODIFIED:20250822T113116Z
UID:9942-1761299100-1761302700@www.lebullition.fr
SUMMARY:COURS DE PILATES
DESCRIPTION:Vendredi 24 octobre 2025 – 9h45 à 10h45 \n\n\n\n\n\n\n\n\nDAPYS vous propose des cours en petit groupe (max 5 personnes) à l’Ebullition :\n \nNos cours sont ouverts à tous (débutants comme confirmés).\nNous proposons plusieurs options et nous nous adaptons à votre niveau et votre météo corporelle. \n\n\n\nUne bonne occasion de rencontrer de nouvelles personnes\, de prendre du temps pour soi\, de s’évader de son quotidien et d’apprendre de nouvelles compétences manuelles. \n\n\n\n\n 
URL:https://www.lebullition.fr/events/cours-de-pilates-241025/
LOCATION:L’ÉBULLITION\, 2 avenue de la République\, PALAISEAU\, 91120\, France
CATEGORIES:ATELIERS
ATTACH;FMTTYPE=image/jpeg:https://www.lebullition.fr/wp-content/uploads/2024/08/LOGO-DAPYS_ENTIER-NOIR.jpg
ORGANIZER;CN="L'%C3%89BULLITION":MAILTO:contact-ebullition@palaiseautierslieu.fr
END:VEVENT
BEGIN:VEVENT
DTSTART;TZID=Europe/Paris:20251024T140000
DTEND;TZID=Europe/Paris:20251024T170000
DTSTAMP:20260422T012051
CREATED:20250910T124742Z
LAST-MODIFIED:20250910T124742Z
UID:10010-1761314400-1761325200@www.lebullition.fr
SUMMARY:STAGE ADO - COUTURE
DESCRIPTION:Mercredi 22 – Jeudi 23 – Vendredi 24 octobre 2025 – 14h à 17h (3 séances) \n\n\n\n\n\n\n\n\n\nT’es « touche-à-tout »? Tu as un esprit créatif et tu recherches une activité originale pour les vacances de Toussaint? Ce stage de couture est fait pour toi. C’est l’occasion de découvrir ou approfondir tes talents de couturier.e tout en réalisant un accessoire  pratique personnalisé ! \n\n\n\n\nEn participant à ce stage\, tu vas kiffer créer « step by step » ta trousse « fourre-tout »\, une banane ou un totbag 100% personnalisé… \nTu n’y connais rien à la couture\, mais t’as vraiment envie d’essayer pour te faire des accessoires uniques « all around the world »\, tkp\,  Mag est là pour t’accompagner. \n(Désolé\, Monsieur Pingouin a toujours 15 ans dans sa tête ) \n\n\n\n\n\n\n\n\n 
URL:https://www.lebullition.fr/events/stage-ado-couture-3/
LOCATION:L’ÉBULLITION\, 2 avenue de la République\, PALAISEAU\, 91120\, France
CATEGORIES:ATELIERS
ATTACH;FMTTYPE=image/jpeg:https://www.lebullition.fr/wp-content/uploads/2025/09/STAGE-ADOS-2-1.jpg
ORGANIZER;CN="L'%C3%89BULLITION":MAILTO:contact-ebullition@palaiseautierslieu.fr
END:VEVENT
END:VCALENDAR