BEGIN:VCALENDAR
VERSION:2.0
PRODID:-//L ÉBULLITION - ECPv6.15.20//NONSGML v1.0//EN
CALSCALE:GREGORIAN
METHOD:PUBLISH
X-ORIGINAL-URL:https://www.lebullition.fr
X-WR-CALDESC:Évènements pour L ÉBULLITION
REFRESH-INTERVAL;VALUE=DURATION:PT1H
X-Robots-Tag:noindex
X-PUBLISHED-TTL:PT1H
BEGIN:VTIMEZONE
TZID:Europe/Paris
BEGIN:DAYLIGHT
TZOFFSETFROM:+0100
TZOFFSETTO:+0200
TZNAME:CEST
DTSTART:20240331T010000
END:DAYLIGHT
BEGIN:STANDARD
TZOFFSETFROM:+0200
TZOFFSETTO:+0100
TZNAME:CET
DTSTART:20241027T010000
END:STANDARD
BEGIN:DAYLIGHT
TZOFFSETFROM:+0100
TZOFFSETTO:+0200
TZNAME:CEST
DTSTART:20250330T010000
END:DAYLIGHT
BEGIN:STANDARD
TZOFFSETFROM:+0200
TZOFFSETTO:+0100
TZNAME:CET
DTSTART:20251026T010000
END:STANDARD
BEGIN:DAYLIGHT
TZOFFSETFROM:+0100
TZOFFSETTO:+0200
TZNAME:CEST
DTSTART:20260329T010000
END:DAYLIGHT
BEGIN:STANDARD
TZOFFSETFROM:+0200
TZOFFSETTO:+0100
TZNAME:CET
DTSTART:20261025T010000
END:STANDARD
END:VTIMEZONE
BEGIN:VEVENT
DTSTART;TZID=Europe/Paris:20251117T190000
DTEND;TZID=Europe/Paris:20251117T210000
DTSTAMP:20260421T235215
CREATED:20251105T140045Z
LAST-MODIFIED:20251105T140045Z
UID:10095-1763406000-1763413200@www.lebullition.fr
SUMMARY:ATELIER CROCHET
DESCRIPTION:Lundi 17 novembre 2025 – 19h à 21h – Association Des Crochets Des Sourires \n\nDes ateliers de crochet solidaires et inclusifs. Ces ateliers sont ouverts à tou.te.s avec un soin particulier aux personnes malades\, en situation de handicap et à leurs proches aidant.e.s. \n\n\nUne fois par mois à l’Ebullition Aza vous invite à découvrir ou vous perfectionner dans l’art du crochet. \n Pour tous les niveaux : Que vous soyez débutant·e·s ou sérial-crocheteur·euse\, les ateliers sont adaptés à tous les niveaux et tous les âges.\nIl y a toujours une personne pour vous expliquer les bases du crochet et pour vous accompagner dans la réalisation de vos créations. \nNous mettons à votre disposition divers patrons et projets de crochet accessibles pour tous les niveaux. Régulièrement\, nous lançons des projets solidaires\, pour crocheter en groupe pour une noble cause. Bien entendu\, si vous avez votre projet personnel\, n’hésitez pas à l’apporter! Chacun crochète ce qu’il souhaite! \n Matériel : Tout est fourni ! Des crochets aux pelotes\, nous veillons à ce que vous ne manquiez de rien. Si vous préférez\, vous pouvez également apporter votre propre matériel. \n Tarif : Nos ateliers sont à prix libre\, à partir de 5€. Votre participation nous aide à renouveler et enrichir notre stock pour les prochains ateliers. \n\n\n 
URL:https://www.lebullition.fr/events/atelier-crochet-171125/
LOCATION:L’ÉBULLITION\, 2 avenue de la République\, PALAISEAU\, 91120\, France
CATEGORIES:ATELIERS
ATTACH;FMTTYPE=image/png:https://www.lebullition.fr/wp-content/uploads/2025/10/cropped-Copie-de-Taille-originale-Carte-visite-85-×-55-mm1.png
ORGANIZER;CN="L'%C3%89BULLITION":MAILTO:contact-ebullition@palaiseautierslieu.fr
END:VEVENT
END:VCALENDAR