BEGIN:VCALENDAR
VERSION:2.0
PRODID:-//L ÉBULLITION - ECPv6.15.20//NONSGML v1.0//EN
CALSCALE:GREGORIAN
METHOD:PUBLISH
X-WR-CALNAME:L ÉBULLITION
X-ORIGINAL-URL:https://www.lebullition.fr
X-WR-CALDESC:Évènements pour L ÉBULLITION
REFRESH-INTERVAL;VALUE=DURATION:PT1H
X-Robots-Tag:noindex
X-PUBLISHED-TTL:PT1H
BEGIN:VTIMEZONE
TZID:Europe/Paris
BEGIN:DAYLIGHT
TZOFFSETFROM:+0100
TZOFFSETTO:+0200
TZNAME:CEST
DTSTART:20240331T010000
END:DAYLIGHT
BEGIN:STANDARD
TZOFFSETFROM:+0200
TZOFFSETTO:+0100
TZNAME:CET
DTSTART:20241027T010000
END:STANDARD
BEGIN:DAYLIGHT
TZOFFSETFROM:+0100
TZOFFSETTO:+0200
TZNAME:CEST
DTSTART:20250330T010000
END:DAYLIGHT
BEGIN:STANDARD
TZOFFSETFROM:+0200
TZOFFSETTO:+0100
TZNAME:CET
DTSTART:20251026T010000
END:STANDARD
BEGIN:DAYLIGHT
TZOFFSETFROM:+0100
TZOFFSETTO:+0200
TZNAME:CEST
DTSTART:20260329T010000
END:DAYLIGHT
BEGIN:STANDARD
TZOFFSETFROM:+0200
TZOFFSETTO:+0100
TZNAME:CET
DTSTART:20261025T010000
END:STANDARD
END:VTIMEZONE
BEGIN:VEVENT
DTSTART;TZID=Europe/Paris:20251206T100000
DTEND;TZID=Europe/Paris:20251206T110000
DTSTAMP:20260421T221731
CREATED:20251107T160741Z
LAST-MODIFIED:20251107T160741Z
UID:10205-1765015200-1765018800@www.lebullition.fr
SUMMARY:ATELIER LANGUE DES SIGNES
DESCRIPTION:Samedi 06 décembre 2025 – 10h à 11h\n \n\nVous souhaitez vous initier à la Langue des Signes? \nLéa vous propose un cours par mois de pour apprendre les bases de la langue des signes française. Vous apprendrez\, de manière ludique\, les premiers signes pour communiquer (alphabet\, couleurs\, chiffres et vocabulaire de base). Chaque séance est articulée autour de jeux et de mise en situation pour apprendre dans la bonne humeur! \n 
URL:https://www.lebullition.fr/events/atelier-langue-des-signes-061225/
LOCATION:L’ÉBULLITION\, 2 avenue de la République\, PALAISEAU\, 91120\, France
CATEGORIES:ATELIERS
ATTACH;FMTTYPE=image/jpeg:https://www.lebullition.fr/wp-content/uploads/2025/07/AGENDA-SITE-LSF.jpg
ORGANIZER;CN="L'%C3%89BULLITION":MAILTO:contact-ebullition@palaiseautierslieu.fr
END:VEVENT
BEGIN:VEVENT
DTSTART;TZID=Europe/Paris:20251206T100000
DTEND;TZID=Europe/Paris:20251206T123000
DTSTAMP:20260421T221731
CREATED:20251107T160203Z
LAST-MODIFIED:20251107T160203Z
UID:10199-1765015200-1765024200@www.lebullition.fr
SUMMARY:OUTILTHEQUE
DESCRIPTION:Samedi 06 décembre 2025 – 10h à 12h30\n \n\nVous avez besoin d’une perceuse\, d’un appareil à raclette\, d’un nettoyeur haute-pression..? \nDoit-on forcément avoir ces objets que l’on n’utilise pas tous les jours chez soi ? \nEn mutualisant des outils et des objets que nous n’utilisons que quelques fois par an\, nous augmentons leur durée de vie et d’utilisation et surtout\, nous réduisons notre impact environnemental. \nVenez emprunter ou louer ces outils à l’Ébullition le samedi matin\, notre équipe de bénévoles vous accueille et vous conseille. \n 
URL:https://www.lebullition.fr/events/outiltheque-061225/
LOCATION:L’ÉBULLITION\, 2 avenue de la République\, PALAISEAU\, 91120\, France
CATEGORIES:ATELIERS
ATTACH;FMTTYPE=image/jpeg:https://www.lebullition.fr/wp-content/uploads/2024/10/WEB-VISUEL-PROGRAMMATION-3-768x768-1.jpg
ORGANIZER;CN="L'%C3%89BULLITION":MAILTO:contact-ebullition@palaiseautierslieu.fr
END:VEVENT
END:VCALENDAR