BEGIN:VCALENDAR
VERSION:2.0
PRODID:-//L ÉBULLITION - ECPv6.15.20//NONSGML v1.0//EN
CALSCALE:GREGORIAN
METHOD:PUBLISH
X-ORIGINAL-URL:https://www.lebullition.fr
X-WR-CALDESC:Évènements pour L ÉBULLITION
REFRESH-INTERVAL;VALUE=DURATION:PT1H
X-Robots-Tag:noindex
X-PUBLISHED-TTL:PT1H
BEGIN:VTIMEZONE
TZID:Europe/Paris
BEGIN:DAYLIGHT
TZOFFSETFROM:+0100
TZOFFSETTO:+0200
TZNAME:CEST
DTSTART:20240331T010000
END:DAYLIGHT
BEGIN:STANDARD
TZOFFSETFROM:+0200
TZOFFSETTO:+0100
TZNAME:CET
DTSTART:20241027T010000
END:STANDARD
BEGIN:DAYLIGHT
TZOFFSETFROM:+0100
TZOFFSETTO:+0200
TZNAME:CEST
DTSTART:20250330T010000
END:DAYLIGHT
BEGIN:STANDARD
TZOFFSETFROM:+0200
TZOFFSETTO:+0100
TZNAME:CET
DTSTART:20251026T010000
END:STANDARD
BEGIN:DAYLIGHT
TZOFFSETFROM:+0100
TZOFFSETTO:+0200
TZNAME:CEST
DTSTART:20260329T010000
END:DAYLIGHT
BEGIN:STANDARD
TZOFFSETFROM:+0200
TZOFFSETTO:+0100
TZNAME:CET
DTSTART:20261025T010000
END:STANDARD
END:VTIMEZONE
BEGIN:VEVENT
DTSTART;TZID=Europe/Paris:20251219T094500
DTEND;TZID=Europe/Paris:20251219T104500
DTSTAMP:20260421T221922
CREATED:20251107T154812Z
LAST-MODIFIED:20251107T154812Z
UID:10183-1766137500-1766141100@www.lebullition.fr
SUMMARY:COURS DE PILATES
DESCRIPTION:Vendredi 19 décembre 2025 – 9h45 à 10h45 \n\n\n\n\n\n\n\n\nDAPYS vous propose des cours en petit groupe (max 5 personnes) à l’Ebullition :\n \nNos cours sont ouverts à tous (débutants comme confirmés).\nNous proposons plusieurs options et nous nous adaptons à votre niveau et votre météo corporelle. \n\n\n\nUne bonne occasion de rencontrer de nouvelles personnes\, de prendre du temps pour soi\, de s’évader de son quotidien et d’apprendre de nouvelles compétences manuelles. \n\n\n\n\n 
URL:https://www.lebullition.fr/events/cours-de-pilates-191225/
LOCATION:L’ÉBULLITION\, 2 avenue de la République\, PALAISEAU\, 91120\, France
CATEGORIES:ATELIERS
ATTACH;FMTTYPE=image/jpeg:https://www.lebullition.fr/wp-content/uploads/2024/08/LOGO-DAPYS_ENTIER-NOIR.jpg
ORGANIZER;CN="L'%C3%89BULLITION":MAILTO:contact-ebullition@palaiseautierslieu.fr
END:VEVENT
BEGIN:VEVENT
DTSTART;TZID=Europe/Paris:20251219T180000
DTEND;TZID=Europe/Paris:20251219T190000
DTSTAMP:20260421T221922
CREATED:20251107T155619Z
LAST-MODIFIED:20251107T155619Z
UID:10193-1766167200-1766170800@www.lebullition.fr
SUMMARY:ATELIER ÉCHECS POUR LES ENFANTS
DESCRIPTION:Vendredi 19 décembre 2025 – 18h à 19h – Module 2 (7 séances)\n \n\nLes ateliers ÉCHECS sont des ateliers pour les enfants ( à partir de 8 ans) qui aiment les échecs et qui veulent faire des parties pour le plaisir et améliorer leurs pratiques. Encadrés par des adultes bénévoles de l’association\, les enfants se donnent RDV tous les vendredis à 18h\, pour pratiquer les échecs et surtout s’amuser. \n 
URL:https://www.lebullition.fr/events/atelier-echecs-pour-les-enfants-191225/
LOCATION:L’ÉBULLITION\, 2 avenue de la République\, PALAISEAU\, 91120\, France
CATEGORIES:ATELIERS
ATTACH;FMTTYPE=image/jpeg:https://www.lebullition.fr/wp-content/uploads/2025/07/AGENDA-SITE-Atelier-Echec.jpg
ORGANIZER;CN="L'%C3%89BULLITION":MAILTO:contact-ebullition@palaiseautierslieu.fr
END:VEVENT
BEGIN:VEVENT
DTSTART;TZID=Europe/Paris:20251219T190000
DTEND;TZID=Europe/Paris:20251219T220000
DTSTAMP:20260421T221922
CREATED:20250717T090655Z
LAST-MODIFIED:20250717T090655Z
UID:9741-1766170800-1766181600@www.lebullition.fr
SUMMARY:SOIRÉE JEUX
DESCRIPTION:Soirée jeux de société – à partir de 10 ans – 19h \n\n\n\nJE JOUE\, TU JOUES\, NOUS JOUONS… \n\n\n\n\n\n\n\n\nChaque dernier vendredi du mois\, pour bien commencer le week-end\, on vous propose une soirée jeux de société. Découvrez des jeux simples\, stratégiques\, coopératifs. Apportez vos jeux préférés pour faire une partie et les partager.\nUn moment convivial\, animé par Catherine Menthe-Sauge\,  pour passer du bon temps\, tout simplement. Vous pouvez apporter quelque chose à grignoter et à partager en mode « Auberge espagnole ». Vous pouvez aussi profiter de boire un verre (ou vous restaurer à LA GUINGUETTE quand elle est ouverte)\, le café associatif de L’ÉBULLITION. \nC’est gratuit\, mais réservé aux adhérent.es. Le nombre de places est limité\, donc l’inscription est obligatoire.
URL:https://www.lebullition.fr/events/soiree-jeux-191225/
LOCATION:L’ÉBULLITION\, 2 avenue de la République\, PALAISEAU\, 91120\, France
CATEGORIES:ATELIERS
ATTACH;FMTTYPE=image/jpeg:https://www.lebullition.fr/wp-content/uploads/2024/07/WEB-EVENT-CALENDAR33.jpg
ORGANIZER;CN="L'%C3%89BULLITION":MAILTO:contact-ebullition@palaiseautierslieu.fr
END:VEVENT
END:VCALENDAR