BEGIN:VCALENDAR
VERSION:2.0
PRODID:-//L ÉBULLITION - ECPv6.15.20//NONSGML v1.0//EN
CALSCALE:GREGORIAN
METHOD:PUBLISH
X-ORIGINAL-URL:https://www.lebullition.fr
X-WR-CALDESC:Évènements pour L ÉBULLITION
REFRESH-INTERVAL;VALUE=DURATION:PT1H
X-Robots-Tag:noindex
X-PUBLISHED-TTL:PT1H
BEGIN:VTIMEZONE
TZID:Europe/Paris
BEGIN:DAYLIGHT
TZOFFSETFROM:+0100
TZOFFSETTO:+0200
TZNAME:CEST
DTSTART:20250330T010000
END:DAYLIGHT
BEGIN:STANDARD
TZOFFSETFROM:+0200
TZOFFSETTO:+0100
TZNAME:CET
DTSTART:20251026T010000
END:STANDARD
BEGIN:DAYLIGHT
TZOFFSETFROM:+0100
TZOFFSETTO:+0200
TZNAME:CEST
DTSTART:20260329T010000
END:DAYLIGHT
BEGIN:STANDARD
TZOFFSETFROM:+0200
TZOFFSETTO:+0100
TZNAME:CET
DTSTART:20261025T010000
END:STANDARD
BEGIN:DAYLIGHT
TZOFFSETFROM:+0100
TZOFFSETTO:+0200
TZNAME:CEST
DTSTART:20270328T010000
END:DAYLIGHT
BEGIN:STANDARD
TZOFFSETFROM:+0200
TZOFFSETTO:+0100
TZNAME:CET
DTSTART:20271031T010000
END:STANDARD
END:VTIMEZONE
BEGIN:VEVENT
DTSTART;TZID=Europe/Paris:20260223T140000
DTEND;TZID=Europe/Paris:20260223T170000
DTSTAMP:20260421T174900
CREATED:20251219T104547Z
LAST-MODIFIED:20251219T104547Z
UID:10614-1771855200-1771866000@www.lebullition.fr
SUMMARY:STAGE ADO - COUTURE
DESCRIPTION:Lundi 23 – Mardi 24 – Mercredi 25 février 2026 – 14h à 17h (3 séances) \n\n\n\n\n\n\n\n\n\nT’es « touche-à-tout »? Tu as un esprit créatif et tu recherches une activité originale pour les vacances d’hiver ? Ce stage de couture est fait pour toi. C’est l’occasion de découvrir ou approfondir tes talents de couturier.e tout en réalisant un accessoire  pratique personnalisé ! \n\n\n\n\nEn participant à ce stage\, tu vas kiffer créer « step by step » ta trousse « fourre-tout »\, une banane ou un totbag 100% personnalisé… \nTu n’y connais rien à la couture\, mais t’as vraiment envie d’essayer pour te faire des accessoires uniques « all around the world »\, tkp\,  Mag est là pour t’accompagner. \n(Désolé\, Monsieur Pingouin a toujours 15 ans dans sa tête ) \n\n\n\n\n\n\n\n\n 
URL:https://www.lebullition.fr/events/stage-ado-couture-230226/
LOCATION:L’ÉBULLITION\, 2 avenue de la République\, PALAISEAU\, 91120\, France
CATEGORIES:ATELIERS
ATTACH;FMTTYPE=image/jpeg:https://www.lebullition.fr/wp-content/uploads/2025/12/STAGE-ADOS-21.jpg
ORGANIZER;CN="L'%C3%89BULLITION":MAILTO:contact-ebullition@palaiseautierslieu.fr
END:VEVENT
END:VCALENDAR