BEGIN:VCALENDAR
VERSION:2.0
PRODID:-//L ÉBULLITION - ECPv6.15.20//NONSGML v1.0//EN
CALSCALE:GREGORIAN
METHOD:PUBLISH
X-ORIGINAL-URL:https://www.lebullition.fr
X-WR-CALDESC:Évènements pour L ÉBULLITION
REFRESH-INTERVAL;VALUE=DURATION:PT1H
X-Robots-Tag:noindex
X-PUBLISHED-TTL:PT1H
BEGIN:VTIMEZONE
TZID:Europe/Paris
BEGIN:DAYLIGHT
TZOFFSETFROM:+0100
TZOFFSETTO:+0200
TZNAME:CEST
DTSTART:20250330T010000
END:DAYLIGHT
BEGIN:STANDARD
TZOFFSETFROM:+0200
TZOFFSETTO:+0100
TZNAME:CET
DTSTART:20251026T010000
END:STANDARD
BEGIN:DAYLIGHT
TZOFFSETFROM:+0100
TZOFFSETTO:+0200
TZNAME:CEST
DTSTART:20260329T010000
END:DAYLIGHT
BEGIN:STANDARD
TZOFFSETFROM:+0200
TZOFFSETTO:+0100
TZNAME:CET
DTSTART:20261025T010000
END:STANDARD
BEGIN:DAYLIGHT
TZOFFSETFROM:+0100
TZOFFSETTO:+0200
TZNAME:CEST
DTSTART:20270328T010000
END:DAYLIGHT
BEGIN:STANDARD
TZOFFSETFROM:+0200
TZOFFSETTO:+0100
TZNAME:CET
DTSTART:20271031T010000
END:STANDARD
END:VTIMEZONE
BEGIN:VEVENT
DTSTART;TZID=Europe/Paris:20260321T100000
DTEND;TZID=Europe/Paris:20260321T120000
DTSTAMP:20260421T174859
CREATED:20260206T093142Z
LAST-MODIFIED:20260206T093142Z
UID:10788-1774087200-1774094400@www.lebullition.fr
SUMMARY:REPAIR CAFE
DESCRIPTION:Samedi 21 mars 2026 – 10h à 12h \n\nNous sommes heureux d’ouvrir (enfin) notre Repair Café. Depuis quelques mois l’équipe bénévole s’entraine\, se forme\, s’équipe en matériel et outils pour vous accueillir le samedi matin et ils sont prêts! \nVous pouvez apporter vos objets en panne et nous tenterons de les réparer avec vous. \nDeux créneaux d’une heure sont proposés chaque samedi\, et sont \, pour l’instant\, réservés aux adhérents de L’ÉBULLITION. Le service est gratuit (hors pièces de rechange) et sur inscription. \n 
URL:https://www.lebullition.fr/events/repair-cafe-210326/
LOCATION:L’ÉBULLITION\, 2 avenue de la République\, PALAISEAU\, 91120\, France
CATEGORIES:ATELIERS
ATTACH;FMTTYPE=image/png:https://www.lebullition.fr/wp-content/uploads/2026/02/REPAIR-CAFE.png
ORGANIZER;CN="L'%C3%89BULLITION":MAILTO:contact-ebullition@palaiseautierslieu.fr
END:VEVENT
BEGIN:VEVENT
DTSTART;TZID=Europe/Paris:20260321T100000
DTEND;TZID=Europe/Paris:20260321T123000
DTSTAMP:20260421T174859
CREATED:20251108T100610Z
LAST-MODIFIED:20251108T100610Z
UID:10317-1774087200-1774096200@www.lebullition.fr
SUMMARY:OUTILTHEQUE
DESCRIPTION:Samedi 21 mars 2026 – 10h à 12h30\n \n\nVous avez besoin d’une perceuse\, d’un appareil à raclette\, d’un nettoyeur haute-pression..? \nDoit-on forcément avoir ces objets que l’on n’utilise pas tous les jours chez soi ? \nEn mutualisant des outils et des objets que nous n’utilisons que quelques fois par an\, nous augmentons leur durée de vie et d’utilisation et surtout\, nous réduisons notre impact environnemental. \nVenez emprunter ou louer ces outils à l’Ébullition le samedi matin\, notre équipe de bénévoles vous accueille et vous conseille. \n 
URL:https://www.lebullition.fr/events/outiltheque-210326/
LOCATION:L’ÉBULLITION\, 2 avenue de la République\, PALAISEAU\, 91120\, France
CATEGORIES:ATELIERS
ATTACH;FMTTYPE=image/jpeg:https://www.lebullition.fr/wp-content/uploads/2024/10/WEB-VISUEL-PROGRAMMATION-3-768x768-1.jpg
ORGANIZER;CN="L'%C3%89BULLITION":MAILTO:contact-ebullition@palaiseautierslieu.fr
END:VEVENT
BEGIN:VEVENT
DTSTART;TZID=Europe/Paris:20260321T150000
DTEND;TZID=Europe/Paris:20260321T170000
DTSTAMP:20260421T174859
CREATED:20260311T111617Z
LAST-MODIFIED:20260311T111617Z
UID:10933-1774105200-1774112400@www.lebullition.fr
SUMMARY:ATELIER D’ECRITURE NOMADE
DESCRIPTION:Atelier d’écriture nomade – Samedi 21 mars – 15H-17H \n\n\n\n\n\n\n\nAnaïs vous propose d’explorer les lieux par l’écriture : ceux qui nous habitent et nous hantent\, qui nous tiennent debout ou nous enferment\, ces coins de monde qui vibrent en nous\, parfois comme un refuge\, parfois comme une énigme. Un café du bout du monde\, une rue qu’on évite\, une chambre rêvée ou réelle… Et la question du voyage\, du désir d’ailleurs. Où allons-nous\, vraiment ? \nQue vous ayez l’habitude d’écrire ou simplement l’envie de jouer avec les mots et d’explorer votre créativité\, rejoignez-nous pour bricoler des fragments d’espace et d’imaginaire. \nInformations pratiques :  \n\nL’atelier est gratuit et sur inscription\nTout public\, débutant et confirmé\nAnnulation possible si un minimum de 3 participant.es n’est pas atteint.
URL:https://www.lebullition.fr/events/atelier-decriture-nomade/
LOCATION:L’ÉBULLITION\, 2 avenue de la République\, PALAISEAU\, 91120\, France
CATEGORIES:ATELIERS,RENCONTRES
ATTACH;FMTTYPE=image/jpeg:https://www.lebullition.fr/wp-content/uploads/2026/03/4.jpg
ORGANIZER;CN="L'%C3%89BULLITION":MAILTO:contact-ebullition@palaiseautierslieu.fr
END:VEVENT
END:VCALENDAR