BEGIN:VCALENDAR
VERSION:2.0
PRODID:-//L ÉBULLITION - ECPv6.15.20//NONSGML v1.0//EN
CALSCALE:GREGORIAN
METHOD:PUBLISH
X-ORIGINAL-URL:https://www.lebullition.fr
X-WR-CALDESC:Évènements pour L ÉBULLITION
REFRESH-INTERVAL;VALUE=DURATION:PT1H
X-Robots-Tag:noindex
X-PUBLISHED-TTL:PT1H
BEGIN:VTIMEZONE
TZID:Europe/Paris
BEGIN:DAYLIGHT
TZOFFSETFROM:+0100
TZOFFSETTO:+0200
TZNAME:CEST
DTSTART:20250330T010000
END:DAYLIGHT
BEGIN:STANDARD
TZOFFSETFROM:+0200
TZOFFSETTO:+0100
TZNAME:CET
DTSTART:20251026T010000
END:STANDARD
BEGIN:DAYLIGHT
TZOFFSETFROM:+0100
TZOFFSETTO:+0200
TZNAME:CEST
DTSTART:20260329T010000
END:DAYLIGHT
BEGIN:STANDARD
TZOFFSETFROM:+0200
TZOFFSETTO:+0100
TZNAME:CET
DTSTART:20261025T010000
END:STANDARD
BEGIN:DAYLIGHT
TZOFFSETFROM:+0100
TZOFFSETTO:+0200
TZNAME:CEST
DTSTART:20270328T010000
END:DAYLIGHT
BEGIN:STANDARD
TZOFFSETFROM:+0200
TZOFFSETTO:+0100
TZNAME:CET
DTSTART:20271031T010000
END:STANDARD
END:VTIMEZONE
BEGIN:VEVENT
DTSTART;TZID=Europe/Paris:20260612T140000
DTEND;TZID=Europe/Paris:20260612T163000
DTSTAMP:20260421T144925
CREATED:20260106T135148Z
LAST-MODIFIED:20260106T135148Z
UID:10713-1781272800-1781281800@www.lebullition.fr
SUMMARY:APRÈS-MIDI JEUX
DESCRIPTION:Jeux de société à Audiberti – 14h-16h30 \n\n\n\nJE JOUE\, TU JOUES\, NOUS JOUONS… \n\n\n\n\n\n\n\n\nChaque deuxième vendredi du mois\, l’Ebullition fait un tour à la Maison de Quartier Audiberti pour vous proposr une après-midi jeux de société. Découvrez des jeux simples\, stratégiques\, coopératifs. Apportez vos jeux préférés pour faire une partie et les partager.\nUn moment convivial\, animé par Emmanuelle Habasque\,  pour passer du bon temps\, tout simplement. \nC’est gratuit\, mais réservé aux adhérent.es.
URL:https://www.lebullition.fr/events/apres-midi-jeux-120626/
LOCATION:L’ÉBULLITION\, 2 avenue de la République\, PALAISEAU\, 91120\, France
CATEGORIES:ATELIERS
ATTACH;FMTTYPE=image/jpeg:https://www.lebullition.fr/wp-content/uploads/2026/01/AGENDA-SITE-Jeux-Audiberti.jpg
ORGANIZER;CN="L'%C3%89BULLITION":MAILTO:contact-ebullition@palaiseautierslieu.fr
END:VEVENT
END:VCALENDAR