BEGIN:VCALENDAR
VERSION:2.0
PRODID:-//L ÉBULLITION - ECPv6.15.20//NONSGML v1.0//EN
CALSCALE:GREGORIAN
METHOD:PUBLISH
X-WR-CALNAME:L ÉBULLITION
X-ORIGINAL-URL:https://www.lebullition.fr
X-WR-CALDESC:Évènements pour L ÉBULLITION
REFRESH-INTERVAL;VALUE=DURATION:PT1H
X-Robots-Tag:noindex
X-PUBLISHED-TTL:PT1H
BEGIN:VTIMEZONE
TZID:Europe/Paris
BEGIN:DAYLIGHT
TZOFFSETFROM:+0100
TZOFFSETTO:+0200
TZNAME:CEST
DTSTART:20220327T010000
END:DAYLIGHT
BEGIN:STANDARD
TZOFFSETFROM:+0200
TZOFFSETTO:+0100
TZNAME:CET
DTSTART:20221030T010000
END:STANDARD
BEGIN:DAYLIGHT
TZOFFSETFROM:+0100
TZOFFSETTO:+0200
TZNAME:CEST
DTSTART:20230326T010000
END:DAYLIGHT
BEGIN:STANDARD
TZOFFSETFROM:+0200
TZOFFSETTO:+0100
TZNAME:CET
DTSTART:20231029T010000
END:STANDARD
BEGIN:DAYLIGHT
TZOFFSETFROM:+0100
TZOFFSETTO:+0200
TZNAME:CEST
DTSTART:20240331T010000
END:DAYLIGHT
BEGIN:STANDARD
TZOFFSETFROM:+0200
TZOFFSETTO:+0100
TZNAME:CET
DTSTART:20241027T010000
END:STANDARD
END:VTIMEZONE
BEGIN:VEVENT
DTSTART;TZID=Europe/Paris:20230610T100000
DTEND;TZID=Europe/Paris:20230610T183000
DTSTAMP:20260426T025536
CREATED:20230522T134038Z
LAST-MODIFIED:20230522T134218Z
UID:4979-1686391200-1686421800@www.lebullition.fr
SUMMARY:LES PUCES DES COUTURIÈRES- 2ème édition
DESCRIPTION:Samedi 10 juin 2023– 10H à 18H30 – Ouvert à tous\n \n\n\n\nVenez chiner boutons\, tissus\, dentelles\, revues\, patrons\, laines et articles de mercerie…tous ce qui tourne autour de la couture\, mercerie et arts créatifs.\nAteliers\, café associatif\, défis\, animations festives ponctueront la journée.\nC’est ouvert à tous. \n\n\n\n\n\n\n\n\n 
URL:https://www.lebullition.fr/events/les-puces-des-couturieres-2eme-edition/
LOCATION:L’ÉBULLITION\, 2 avenue de la République\, PALAISEAU\, 91120\, France
CATEGORIES:ÉVÉNEMENT
ATTACH;FMTTYPE=image/jpeg:https://www.lebullition.fr/wp-content/uploads/2023/05/visuel-event-cadendar8.jpg
ORGANIZER;CN="L'%C3%89BULLITION":MAILTO:contact-ebullition@palaiseautierslieu.fr
END:VEVENT
BEGIN:VEVENT
DTSTART;TZID=Europe/Paris:20230617T193000
DTEND;TZID=Europe/Paris:20230617T220000
DTSTAMP:20260426T025536
CREATED:20230613T153731Z
LAST-MODIFIED:20230613T153731Z
UID:5090-1687030200-1687039200@www.lebullition.fr
SUMMARY:DJ SET REGGAE - Radio Mille Pattes
DESCRIPTION:Carte blanche à RADIO MILLE PATTE – 19h30 \n\n\n\n  \n\n\n\n\n\n\n\n\nRadio Mille Pattes prend ses quartiers dans la cour de L’ÉBULLITION et s’installe derrière ses platines pour une programmation musicale 100% vinyles autour de la musique jamaïcaine. \nEnvie de passer une petit soirée bien sympathique\, écouter de la bonne musique et pourquoi pas vous déhancher sur le dance floor. Vous connaissez l’adresse \nÀ partir de 19h30
URL:https://www.lebullition.fr/events/dj-set-reggae-radio-mille-pattes/
LOCATION:L’ÉBULLITION\, 2 avenue de la République\, PALAISEAU\, 91120\, France
CATEGORIES:ÉVÉNEMENT
ATTACH;FMTTYPE=image/jpeg:https://www.lebullition.fr/wp-content/uploads/2023/06/visuel-event-cadendar9.jpg
ORGANIZER;CN="L'%C3%89BULLITION":MAILTO:contact-ebullition@palaiseautierslieu.fr
END:VEVENT
BEGIN:VEVENT
DTSTART;TZID=Europe/Paris:20230630T190000
DTEND;TZID=Europe/Paris:20230630T220000
DTSTAMP:20260426T025536
CREATED:20230522T132317Z
LAST-MODIFIED:20230522T132419Z
UID:4977-1688151600-1688162400@www.lebullition.fr
SUMMARY:SOIRÉE JEUX
DESCRIPTION:Soirée jeux de société – à partir de 10 ans – 19h \n\n\n\nJE JOUE\, TU JOUES\, NOUS JOUONS… \n\n\n\n\n\n\n\n\nChaque dernier vendredi du mois\, pour bien commencer le week-end\, on vous propose une soirée jeux de société. Découvrez des jeux simples\, stratégiques\, coopératifs. Apportez vos jeux préférés pour faire une partie et les partager.\nUn moment convivial\, animé par Catherine Menthe-Sauge\,  pour passer du bon temps\, tout simplement. Vous pouvez apporter quelque chose à grignoter et à partager en mode « Auberge espagnole ». Vous pouvez aussi profiter de boire un verre ou vous restaurer à LA GUINGUETTE\, le café associatif de L’ÉBULLITION \nC’est gratuit\,  ouvert à tous (à partir de 10 ans) mais le nombre de places est limité\, donc l’inscription est obligatoire.
URL:https://www.lebullition.fr/events/soiree-jeux-5/
LOCATION:L’ÉBULLITION\, 2 avenue de la République\, PALAISEAU\, 91120\, France
CATEGORIES:ÉVÉNEMENT
ATTACH;FMTTYPE=image/jpeg:https://www.lebullition.fr/wp-content/uploads/2022/12/6-1.jpg
ORGANIZER;CN="L'%C3%89BULLITION":MAILTO:contact-ebullition@palaiseautierslieu.fr
END:VEVENT
END:VCALENDAR