BEGIN:VCALENDAR
VERSION:2.0
PRODID:-//L ÉBULLITION - ECPv6.15.20//NONSGML v1.0//EN
CALSCALE:GREGORIAN
METHOD:PUBLISH
X-WR-CALNAME:L ÉBULLITION
X-ORIGINAL-URL:https://www.lebullition.fr
X-WR-CALDESC:Évènements pour L ÉBULLITION
REFRESH-INTERVAL;VALUE=DURATION:PT1H
X-Robots-Tag:noindex
X-PUBLISHED-TTL:PT1H
BEGIN:VTIMEZONE
TZID:Europe/Paris
BEGIN:DAYLIGHT
TZOFFSETFROM:+0100
TZOFFSETTO:+0200
TZNAME:CEST
DTSTART:20220327T010000
END:DAYLIGHT
BEGIN:STANDARD
TZOFFSETFROM:+0200
TZOFFSETTO:+0100
TZNAME:CET
DTSTART:20221030T010000
END:STANDARD
BEGIN:DAYLIGHT
TZOFFSETFROM:+0100
TZOFFSETTO:+0200
TZNAME:CEST
DTSTART:20230326T010000
END:DAYLIGHT
BEGIN:STANDARD
TZOFFSETFROM:+0200
TZOFFSETTO:+0100
TZNAME:CET
DTSTART:20231029T010000
END:STANDARD
BEGIN:DAYLIGHT
TZOFFSETFROM:+0100
TZOFFSETTO:+0200
TZNAME:CEST
DTSTART:20240331T010000
END:DAYLIGHT
BEGIN:STANDARD
TZOFFSETFROM:+0200
TZOFFSETTO:+0100
TZNAME:CET
DTSTART:20241027T010000
END:STANDARD
END:VTIMEZONE
BEGIN:VEVENT
DTSTART;TZID=Europe/Paris:20230707T193000
DTEND;TZID=Europe/Paris:20230707T203000
DTSTAMP:20260426T012523
CREATED:20230614T070928Z
LAST-MODIFIED:20230614T070928Z
UID:5123-1688758200-1688761800@www.lebullition.fr
SUMMARY:IMPRESSIONS
DESCRIPTION:IMPRESSIONS – vendredi 7 juillet – 19h30 \n\n\n\n  \n\n\n\n\n\n\n\n\nIsabelle Olivier\, harpiste\, s’installe dans la cour de L’ÉBULLITION pour vous faire découvrir sa création « IMPRESSIONS  »
URL:https://www.lebullition.fr/events/impressions/
LOCATION:L’ÉBULLITION\, 2 avenue de la République\, PALAISEAU\, 91120\, France
CATEGORIES:ÉVÉNEMENT
ATTACH;FMTTYPE=image/jpeg:https://www.lebullition.fr/wp-content/uploads/2023/06/visuel-event-cadendar10.jpg
ORGANIZER;CN="L'%C3%89BULLITION":MAILTO:contact-ebullition@palaiseautierslieu.fr
END:VEVENT
BEGIN:VEVENT
DTSTART;TZID=Europe/Paris:20230715T193000
DTEND;TZID=Europe/Paris:20230715T203000
DTSTAMP:20260426T012523
CREATED:20230626T162422Z
LAST-MODIFIED:20230626T162422Z
UID:5149-1689449400-1689453000@www.lebullition.fr
SUMMARY:CARTE BLANCHE DIDGERIDOO
DESCRIPTION:CARTE BLANCHE DIDGERIDOO – samedi 15 juillet – 19h30 \n\n\n\n  \n\n\n\n\n\n\n\n\nJulien Henneveux s’installe dans la cour avec ses didgeridoos. Il a carte blanche pour vous faire voyager au son de ces cornes australiennes aux vibrations puissantes. \nConcert gratuit  ouvert à tous
URL:https://www.lebullition.fr/events/carte-blanche-didgeridoo/
LOCATION:L’ÉBULLITION\, 2 avenue de la République\, PALAISEAU\, 91120\, France
CATEGORIES:ÉVÉNEMENT
ATTACH;FMTTYPE=image/jpeg:https://www.lebullition.fr/wp-content/uploads/2023/06/visuel-event-cadendar11.jpg
ORGANIZER;CN="L'%C3%89BULLITION":MAILTO:contact-ebullition@palaiseautierslieu.fr
END:VEVENT
BEGIN:VEVENT
DTSTART;TZID=Europe/Paris:20230719T150000
DTEND;TZID=Europe/Paris:20230719T183000
DTSTAMP:20260426T012523
CREATED:20230707T103633Z
LAST-MODIFIED:20230707T103633Z
UID:5230-1689778800-1689791400@www.lebullition.fr
SUMMARY:VENTE DE LIVRES JEUNESSE
DESCRIPTION:VENTE DE LIVRES JEUNESSE – mercredi 19 juillet – 15h00 \n\n\n\n  \n\n\n\n\n\n\n\n\nLes éditions Prunelle s’installent dans la cour pour une vente exceptionnelle de d’albums et romans Jeunesse. \nC’est le moment de faire le plein de livres avant les départs en vacances. \nMaison d’édition indépendante\, les éditions Prunelle publient des romans et albums jeunesse pour mieux comprendre le monde et sensibiliser les enfants avec bienveillance sur des sujets de société tels que l’environnement ou le bien-vivre ensemble. \nAvec humour et espièglerie les personnages sont attachants et font voyager le lecteur dans leurs aventures. Ils reflètent le quotidien avec toutes ses richesses et sa complexité\, à l’image de la vie des enfants.
URL:https://www.lebullition.fr/events/vente-de-livres-jeunesse/
LOCATION:L’ÉBULLITION\, 2 avenue de la République\, PALAISEAU\, 91120\, France
CATEGORIES:ÉVÉNEMENT
ATTACH;FMTTYPE=image/jpeg:https://www.lebullition.fr/wp-content/uploads/2023/07/visuel-event-cadendar12.jpg
ORGANIZER;CN="L'%C3%89BULLITION":MAILTO:contact-ebullition@palaiseautierslieu.fr
END:VEVENT
BEGIN:VEVENT
DTSTART;TZID=Europe/Paris:20230722T150000
DTEND;TZID=Europe/Paris:20230722T183000
DTSTAMP:20260426T012523
CREATED:20230707T103724Z
LAST-MODIFIED:20230707T103724Z
UID:5233-1690038000-1690050600@www.lebullition.fr
SUMMARY:VENTE DE LIVRES JEUNESSE
DESCRIPTION:VENTE DE LIVRES JEUNESSE – samedi 22 juillet – 15h00 \n\n\n\n  \n\n\n\n\n\n\n\n\nLes éditions Prunelle s’installent dans la cour pour une vente exceptionnelle de d’albums et romans Jeunesse. \nC’est le moment de faire le plein de livres avant les départs en vacances. \nMaison d’édition indépendante\, les éditions Prunelle publient des romans et albums jeunesse pour mieux comprendre le monde et sensibiliser les enfants avec bienveillance sur des sujets de société tels que l’environnement ou le bien-vivre ensemble. \nAvec humour et espièglerie les personnages sont attachants et font voyager le lecteur dans leurs aventures. Ils reflètent le quotidien avec toutes ses richesses et sa complexité\, à l’image de la vie des enfants.
URL:https://www.lebullition.fr/events/vente-de-livres-jeunesse-2/
LOCATION:L’ÉBULLITION\, 2 avenue de la République\, PALAISEAU\, 91120\, France
CATEGORIES:ÉVÉNEMENT
ATTACH;FMTTYPE=image/jpeg:https://www.lebullition.fr/wp-content/uploads/2023/07/visuel-event-cadendar12.jpg
ORGANIZER;CN="L'%C3%89BULLITION":MAILTO:contact-ebullition@palaiseautierslieu.fr
END:VEVENT
END:VCALENDAR