BEGIN:VCALENDAR
VERSION:2.0
PRODID:-//L ÉBULLITION - ECPv6.15.20//NONSGML v1.0//EN
CALSCALE:GREGORIAN
METHOD:PUBLISH
X-ORIGINAL-URL:https://www.lebullition.fr
X-WR-CALDESC:Évènements pour L ÉBULLITION
REFRESH-INTERVAL;VALUE=DURATION:PT1H
X-Robots-Tag:noindex
X-PUBLISHED-TTL:PT1H
BEGIN:VTIMEZONE
TZID:Europe/Paris
BEGIN:DAYLIGHT
TZOFFSETFROM:+0100
TZOFFSETTO:+0200
TZNAME:CEST
DTSTART:20220327T010000
END:DAYLIGHT
BEGIN:STANDARD
TZOFFSETFROM:+0200
TZOFFSETTO:+0100
TZNAME:CET
DTSTART:20221030T010000
END:STANDARD
BEGIN:DAYLIGHT
TZOFFSETFROM:+0100
TZOFFSETTO:+0200
TZNAME:CEST
DTSTART:20230326T010000
END:DAYLIGHT
BEGIN:STANDARD
TZOFFSETFROM:+0200
TZOFFSETTO:+0100
TZNAME:CET
DTSTART:20231029T010000
END:STANDARD
BEGIN:DAYLIGHT
TZOFFSETFROM:+0100
TZOFFSETTO:+0200
TZNAME:CEST
DTSTART:20240331T010000
END:DAYLIGHT
BEGIN:STANDARD
TZOFFSETFROM:+0200
TZOFFSETTO:+0100
TZNAME:CET
DTSTART:20241027T010000
END:STANDARD
END:VTIMEZONE
BEGIN:VEVENT
DTSTART;TZID=Europe/Paris:20230825T190000
DTEND;TZID=Europe/Paris:20230825T213000
DTSTAMP:20260425T235342
CREATED:20230904T083610Z
LAST-MODIFIED:20230904T083610Z
UID:5713-1692990000-1692999000@www.lebullition.fr
SUMMARY:DEMANDEZ LE PROGRAMME
DESCRIPTION:Samedi 25 août 2023 – à partir de 19h30\n \n\nNous vous propose une programmation musicale avec des artistes amateurs du coin pour animer vos soirées à la Guinguette.\nProfitez du moment pour faire une pause entre ami.es ou en famille autour d’un verre et de bons petits trucs à grignoter et partager. \n\nPour bien débuter la rentrée\,samedi 25 aoôut \,  Julien Henneveux revient accompagné d’Adrien qui forme le groupe UCDidgs pour la seconde fois dans la cour de L’ÉBULLITION. Ce duo de didgeridoos a carte blanche pour vous faire voyager dans un univers hypnotique et intense aux vibrations ancestrales. \nPlus d’infos sur la programmation et la Guinguette ici \n 
URL:https://www.lebullition.fr/events/demandez-le-programme-4/
LOCATION:L’ÉBULLITION\, 2 avenue de la République\, PALAISEAU\, 91120\, France
CATEGORIES:ÉVÉNEMENT
ATTACH;FMTTYPE=image/jpeg:https://www.lebullition.fr/wp-content/uploads/2023/09/WEB-EVENT-CALENDAR7.jpg
ORGANIZER;CN="L'%C3%89BULLITION":MAILTO:contact-ebullition@palaiseautierslieu.fr
END:VEVENT
END:VCALENDAR