BEGIN:VCALENDAR
VERSION:2.0
PRODID:-//L ÉBULLITION - ECPv6.15.20//NONSGML v1.0//EN
CALSCALE:GREGORIAN
METHOD:PUBLISH
X-WR-CALNAME:L ÉBULLITION
X-ORIGINAL-URL:https://www.lebullition.fr
X-WR-CALDESC:Évènements pour L ÉBULLITION
REFRESH-INTERVAL;VALUE=DURATION:PT1H
X-Robots-Tag:noindex
X-PUBLISHED-TTL:PT1H
BEGIN:VTIMEZONE
TZID:Europe/Paris
BEGIN:DAYLIGHT
TZOFFSETFROM:+0100
TZOFFSETTO:+0200
TZNAME:CEST
DTSTART:20220327T010000
END:DAYLIGHT
BEGIN:STANDARD
TZOFFSETFROM:+0200
TZOFFSETTO:+0100
TZNAME:CET
DTSTART:20221030T010000
END:STANDARD
BEGIN:DAYLIGHT
TZOFFSETFROM:+0100
TZOFFSETTO:+0200
TZNAME:CEST
DTSTART:20230326T010000
END:DAYLIGHT
BEGIN:STANDARD
TZOFFSETFROM:+0200
TZOFFSETTO:+0100
TZNAME:CET
DTSTART:20231029T010000
END:STANDARD
BEGIN:DAYLIGHT
TZOFFSETFROM:+0100
TZOFFSETTO:+0200
TZNAME:CEST
DTSTART:20240331T010000
END:DAYLIGHT
BEGIN:STANDARD
TZOFFSETFROM:+0200
TZOFFSETTO:+0100
TZNAME:CET
DTSTART:20241027T010000
END:STANDARD
END:VTIMEZONE
BEGIN:VEVENT
DTSTART;TZID=Europe/Paris:20231209T100000
DTEND;TZID=Europe/Paris:20231209T170000
DTSTAMP:20260425T180636
CREATED:20231026T110201Z
LAST-MODIFIED:20231026T110248Z
UID:6421-1702116000-1702141200@www.lebullition.fr
SUMMARY:BOURSE AUX JOUETS
DESCRIPTION:Samedi 9 décembre 2023 – 10H à 17H \n\nC’est décidé cette année\, vous n’achetez rien de neuf pour les fêtes de fin d’année. \nVenez acheter vos jeux\, jouets\, livres et autres cadeaux à la boutique lors de cette vente exceptionnelle de jouets d’occasion. \nEn achetant d’occasion\, vous êtes acteur et vous participez au changement et réduisez l’impact de la consommation de masse sur l’environnement.
URL:https://www.lebullition.fr/events/bourse-aux-jouets-091223/
LOCATION:L’ÉBULLITION\, 2 avenue de la République\, PALAISEAU\, 91120\, France
CATEGORIES:ÉVÉNEMENT
ATTACH;FMTTYPE=image/jpeg:https://www.lebullition.fr/wp-content/uploads/2023/10/bourse-aux-jouets-1.jpg
ORGANIZER;CN="L'%C3%89BULLITION":MAILTO:contact-ebullition@palaiseautierslieu.fr
END:VEVENT
BEGIN:VEVENT
DTSTART;TZID=Europe/Paris:20231210T100000
DTEND;TZID=Europe/Paris:20231210T130000
DTSTAMP:20260425T180636
CREATED:20231026T110409Z
LAST-MODIFIED:20231026T110409Z
UID:6424-1702202400-1702213200@www.lebullition.fr
SUMMARY:BOURSE AUX JOUETS
DESCRIPTION:Dimanche 10 décembre 2023 – 10H à 13H \n\nC’est décidé cette année\, vous n’achetez rien de neuf pour les fêtes de fin d’année. \nVenez acheter vos jeux\, jouets\, livres et autres cadeaux à la boutique lors de cette vente exceptionnelle de jouets d’occasion. \nEn achetant d’occasion\, vous êtes acteur et vous participez au changement et réduisez l’impact de la consommation de masse sur l’environnement.
URL:https://www.lebullition.fr/events/bourse-aux-jouets-101223/
LOCATION:L’ÉBULLITION\, 2 avenue de la République\, PALAISEAU\, 91120\, France
CATEGORIES:ÉVÉNEMENT
ATTACH;FMTTYPE=image/jpeg:https://www.lebullition.fr/wp-content/uploads/2023/10/bourse-aux-jouets-1.jpg
ORGANIZER;CN="L'%C3%89BULLITION":MAILTO:contact-ebullition@palaiseautierslieu.fr
END:VEVENT
BEGIN:VEVENT
DTSTART;TZID=Europe/Paris:20231222T190000
DTEND;TZID=Europe/Paris:20231222T220000
DTSTAMP:20260425T180636
CREATED:20231127T150503Z
LAST-MODIFIED:20231127T150503Z
UID:6502-1703271600-1703282400@www.lebullition.fr
SUMMARY:SOIRÉE JEUX
DESCRIPTION:Soirée jeux de société – à partir de 10 ans – 19h \n\n\n\nJE JOUE\, TU JOUES\, NOUS JOUONS… \n\n\n\n\n\n\n\n\nChaque dernier vendredi du mois\, pour bien commencer le week-end\, on vous propose une soirée jeux de société. Découvrez des jeux simples\, stratégiques\, coopératifs. Apportez vos jeux préférés pour faire une partie et les partager.\nUn moment convivial\, animé par Catherine Menthe-Sauge\,  pour passer du bon temps\, tout simplement. Vous pouvez apporter quelque chose à grignoter et à partager en mode « Auberge espagnole ». Vous pouvez aussi profiter de boire un verre ou vous restaurer à LA GUINGUETTE\, le café associatif de L’ÉBULLITION. \nC’est gratuit\, mais réservé aux adhérent.es. Le nombre de places est limité\, donc l’inscription est obligatoire.
URL:https://www.lebullition.fr/events/soiree-jeux-221223/
LOCATION:L’ÉBULLITION\, 2 avenue de la République\, PALAISEAU\, 91120\, France
CATEGORIES:ÉVÉNEMENT
ATTACH;FMTTYPE=image/jpeg:https://www.lebullition.fr/wp-content/uploads/2022/12/6-1.jpg
ORGANIZER;CN="L'%C3%89BULLITION":MAILTO:contact-ebullition@palaiseautierslieu.fr
END:VEVENT
END:VCALENDAR