BEGIN:VCALENDAR
VERSION:2.0
PRODID:-//L ÉBULLITION - ECPv6.15.20//NONSGML v1.0//EN
CALSCALE:GREGORIAN
METHOD:PUBLISH
X-ORIGINAL-URL:https://www.lebullition.fr
X-WR-CALDESC:Évènements pour L ÉBULLITION
REFRESH-INTERVAL;VALUE=DURATION:PT1H
X-Robots-Tag:noindex
X-PUBLISHED-TTL:PT1H
BEGIN:VTIMEZONE
TZID:Europe/Paris
BEGIN:DAYLIGHT
TZOFFSETFROM:+0100
TZOFFSETTO:+0200
TZNAME:CEST
DTSTART:20230326T010000
END:DAYLIGHT
BEGIN:STANDARD
TZOFFSETFROM:+0200
TZOFFSETTO:+0100
TZNAME:CET
DTSTART:20231029T010000
END:STANDARD
BEGIN:DAYLIGHT
TZOFFSETFROM:+0100
TZOFFSETTO:+0200
TZNAME:CEST
DTSTART:20240331T010000
END:DAYLIGHT
BEGIN:STANDARD
TZOFFSETFROM:+0200
TZOFFSETTO:+0100
TZNAME:CET
DTSTART:20241027T010000
END:STANDARD
BEGIN:DAYLIGHT
TZOFFSETFROM:+0100
TZOFFSETTO:+0200
TZNAME:CEST
DTSTART:20250330T010000
END:DAYLIGHT
BEGIN:STANDARD
TZOFFSETFROM:+0200
TZOFFSETTO:+0100
TZNAME:CET
DTSTART:20251026T010000
END:STANDARD
END:VTIMEZONE
BEGIN:VEVENT
DTSTART;TZID=Europe/Paris:20240907T100000
DTEND;TZID=Europe/Paris:20240907T180000
DTSTAMP:20260425T050756
CREATED:20240726T165458Z
LAST-MODIFIED:20240822T133501Z
UID:7755-1725703200-1725732000@www.lebullition.fr
SUMMARY:FORUM DES ASSOCIATIONS - PORTES OUVERTES DE l’EBULLITION
DESCRIPTION:Forum des associations : Portes Ouvertes de l’Ebullition \nA l’occasion du Forum des Associations de Palaiseau\, l’Ebullition ouvre ses portes pour vous faire découvrir ses activités pour l’année 2024-2025. \nCours de couture\, soirée jeux\, activités pour les enfants\, ateliers de sensibilisation\, événements festifs et responsables… L’année promet d’être riche en partage\, convivialité et rencontres.
URL:https://www.lebullition.fr/events/forum-asso-070924/
LOCATION:L’ÉBULLITION\, 2 avenue de la République\, PALAISEAU\, 91120\, France
CATEGORIES:ÉVÉNEMENT
ATTACH;FMTTYPE=image/jpeg:https://www.lebullition.fr/wp-content/uploads/2024/07/Journee-des-asso-2024.jpg
ORGANIZER;CN="L'%C3%89BULLITION":MAILTO:contact-ebullition@palaiseautierslieu.fr
END:VEVENT
BEGIN:VEVENT
DTSTART;TZID=Europe/Paris:20240907T190000
DTEND;TZID=Europe/Paris:20240907T213000
DTSTAMP:20260425T050756
CREATED:20240725T090047Z
LAST-MODIFIED:20240725T090047Z
UID:7731-1725735600-1725744600@www.lebullition.fr
SUMMARY:CONCERT MICKY MIC & THE ESSONNIANS
DESCRIPTION:La Prog de la Guinguette \n\n\n\nMICKY MIC & THE ESSONNIANS \nLe chanteur Micky Mic s’est associé avec le groupe d’ile de France the Essonnians pour présenter son premier album « cahier de roots » d’influence reggae\, produit par Biddim records. Les textes en français de cet artiste sensible sont authentiques et inspirants et ont souvent créé une forte connexion avec le public. La musique des Essonnians portée par une solide rythmique reggae roots et une section de cuivres (trompette\, saxo\, trombonne) offre des ambiances variées et festives.
URL:https://www.lebullition.fr/events/concert-07092024/
LOCATION:L’ÉBULLITION\, 2 avenue de la République\, PALAISEAU\, 91120\, France
CATEGORIES:ÉVÉNEMENT
ATTACH;FMTTYPE=image/jpeg:https://www.lebullition.fr/wp-content/uploads/2024/07/Appel-a-artistes13.jpg
ORGANIZER;CN="L'%C3%89BULLITION":MAILTO:contact-ebullition@palaiseautierslieu.fr
END:VEVENT
BEGIN:VEVENT
DTSTART;TZID=Europe/Paris:20240913T190000
DTEND;TZID=Europe/Paris:20240913T210000
DTSTAMP:20260425T050756
CREATED:20240821T145301Z
LAST-MODIFIED:20240821T145301Z
UID:7876-1726254000-1726261200@www.lebullition.fr
SUMMARY:CONCERT EQO
DESCRIPTION:La Prog de la Guinguette \n\n\n\nEQO
URL:https://www.lebullition.fr/events/concert-130924/
LOCATION:L’ÉBULLITION\, 2 avenue de la République\, PALAISEAU\, 91120\, France
CATEGORIES:ÉVÉNEMENT
ATTACH;FMTTYPE=image/jpeg:https://www.lebullition.fr/wp-content/uploads/2024/07/Appel-a-artistes12.jpg
ORGANIZER;CN="L'%C3%89BULLITION":MAILTO:contact-ebullition@palaiseautierslieu.fr
END:VEVENT
BEGIN:VEVENT
DTSTART;TZID=Europe/Paris:20240914T190000
DTEND;TZID=Europe/Paris:20240914T210000
DTSTAMP:20260425T050756
CREATED:20240430T142814Z
LAST-MODIFIED:20240821T150858Z
UID:7265-1726340400-1726347600@www.lebullition.fr
SUMMARY:CONCERT LOL Y LOS PICAROS
DESCRIPTION:La Prog de la Guinguette \n\n\n\nLOL Y LOS PICAROS \nLol y los Picaros est un trio composé de Lol (guitare et voix)\, José (basse) et Pedro (batterie). Les trois musiciens jouent un rock garage influencé par les sixties\, mais cette brève définition serait trop simpliste. A l’écoute on pense à beaucoup de choses différentes. On retrouve dans leurs compositions la trace de tout ce qu’ils ont absorbé (des Standells aux Stones\, en passant par les Beatles\, les girls groupes des 60’s\, le glam et les groupes anglais des années 80)\, sans qu’on puisse vraiment identifier une influence unique. Un tour de force. \nLol et José avaient déjà joué et enregistré ensemble à la fin des années 80. Ils ont tourné en Espagne et été membres du combo rock Carmen Jones dans les années 90 avec une centaine de concerts à leurs actifs. \nAujourd’hui c’est avec Pedro\, et sa frappe groovy\, qu’ils proposent « Un Poco De Amor » opus à mi-chemin entre le EP et le LP\, mais ancrée dans un rock intemporel.
URL:https://www.lebullition.fr/events/concert-140924/
LOCATION:L’ÉBULLITION\, 2 avenue de la République\, PALAISEAU\, 91120\, France
CATEGORIES:ÉVÉNEMENT
ATTACH;FMTTYPE=image/jpeg:https://www.lebullition.fr/wp-content/uploads/2024/04/Artefact2.jpg
ORGANIZER;CN="L'%C3%89BULLITION":MAILTO:contact-ebullition@palaiseautierslieu.fr
END:VEVENT
BEGIN:VEVENT
DTSTART;TZID=Europe/Paris:20240920T193000
DTEND;TZID=Europe/Paris:20240920T213000
DTSTAMP:20260425T050756
CREATED:20240821T153520Z
LAST-MODIFIED:20240822T115444Z
UID:7879-1726860600-1726867800@www.lebullition.fr
SUMMARY:CONCERT TOLÉRANCE RETRO
DESCRIPTION:La Prog de la Guinguette \n\n\n\nGroupe de rock – Tolérance Retro\n \n\n\n\n\n\n\n\n\nTolérance rétro est un groupe de rock français ou plutôt de variétés françaises\, compos originales et des mélodies. Les textes parlent principalement d’amour\, d’écologie et parfois de petits moments vécus… \n 
URL:https://www.lebullition.fr/events/concert-200924/
LOCATION:L’ÉBULLITION\, 2 avenue de la République\, PALAISEAU\, 91120\, France
CATEGORIES:ÉVÉNEMENT
ATTACH;FMTTYPE=image/jpeg:https://www.lebullition.fr/wp-content/uploads/2024/08/Tolerance-Retro1.jpg
ORGANIZER;CN="L'%C3%89BULLITION":MAILTO:contact-ebullition@palaiseautierslieu.fr
END:VEVENT
BEGIN:VEVENT
DTSTART;TZID=Europe/Paris:20240921T210000
DTEND;TZID=Europe/Paris:20240921T233000
DTSTAMP:20260425T050756
CREATED:20240822T120439Z
LAST-MODIFIED:20240822T121629Z
UID:7890-1726952400-1726961400@www.lebullition.fr
SUMMARY:FESTIVAL ENCORE LES BEAUX JOURS
DESCRIPTION:La Prog de la Guinguette \n\n\n\nFestival Encore Les Beaux Jours – Ciné-Concert Immersif + After à la Guinguette\n \nFantôme – Soulèvement poétique pour place publique par la Compagnie La Méandre (Place des Écoles) \nFantôme est un spectacle qui combine arts numériques\, musique et théâtre d’objets.\nBasé sur un film d’animation\, il raconte l’histoire d’un enfant qui déclenche malgré lui une révolte populaire et l’effondrement d’un système totalitaire. \nIl utilise le principe narratif du ciné-concert\, avec des interprètes en direct et des dispositifs scéniques uniques qui évoluent avec l’histoire. Par la force de l’imaginaire\, Fantôme vise à inspirer un soulèvement poétique en transportant le public dans une puissante aventure onirique. \nPour l’occasion\, la Guinguette fait du rab et vous ouvre ses portes pour boire un pot après le spectacle.
URL:https://www.lebullition.fr/events/animakt-210924/
LOCATION:L’ÉBULLITION\, 2 avenue de la République\, PALAISEAU\, 91120\, France
CATEGORIES:ÉVÉNEMENT
ATTACH;FMTTYPE=image/jpeg:https://www.lebullition.fr/wp-content/uploads/2024/08/Appel-a-artistes16.jpg
ORGANIZER;CN="L'%C3%89BULLITION":MAILTO:contact-ebullition@palaiseautierslieu.fr
END:VEVENT
BEGIN:VEVENT
DTSTART;TZID=Europe/Paris:20240927T190000
DTEND;TZID=Europe/Paris:20240927T220000
DTSTAMP:20260425T050756
CREATED:20240829T131922Z
LAST-MODIFIED:20240829T131922Z
UID:8068-1727463600-1727474400@www.lebullition.fr
SUMMARY:SOIRÉE JEUX
DESCRIPTION:Soirée jeux de société – à partir de 10 ans – 19h \n\n\n\nJE JOUE\, TU JOUES\, NOUS JOUONS… \n\n\n\n\n\n\n\n\nChaque dernier vendredi du mois\, pour bien commencer le week-end\, on vous propose une soirée jeux de société. Découvrez des jeux simples\, stratégiques\, coopératifs. Apportez vos jeux préférés pour faire une partie et les partager.\nUn moment convivial\, animé par Catherine Menthe-Sauge\,  pour passer du bon temps\, tout simplement. Vous pouvez apporter quelque chose à grignoter et à partager en mode « Auberge espagnole ». Vous pouvez aussi profiter de boire un verre (ou vous restaurer à LA GUINGUETTE quand elle est ouverte)\, le café associatif de L’ÉBULLITION. \nC’est gratuit\, mais réservé aux adhérent.es. Le nombre de places est limité\, donc l’inscription est obligatoire.
URL:https://www.lebullition.fr/events/soiree-jeux-270924/
LOCATION:L’ÉBULLITION\, 2 avenue de la République\, PALAISEAU\, 91120\, France
CATEGORIES:ÉVÉNEMENT
ATTACH;FMTTYPE=image/jpeg:https://www.lebullition.fr/wp-content/uploads/2024/07/WEB-EVENT-CALENDAR33.jpg
ORGANIZER;CN="L'%C3%89BULLITION":MAILTO:contact-ebullition@palaiseautierslieu.fr
END:VEVENT
BEGIN:VEVENT
DTSTART;TZID=Europe/Paris:20240927T193000
DTEND;TZID=Europe/Paris:20240927T210000
DTSTAMP:20260425T050756
CREATED:20240822T131058Z
LAST-MODIFIED:20240829T131313Z
UID:7894-1727465400-1727470800@www.lebullition.fr
SUMMARY:CONCERT PLUZOUMOINS
DESCRIPTION:La Prog de la Guinguette \n\n\n\nConcert PluZouMoins\n \nIls étaient là pour l’ouverture\, ils reviennent pour le dernier week-end de la Guinguette! \nPluZouMoins c’est des reprises de tubes rock français et anglophone (plus ou moins comme les originales) pour danser\, chanter\, partager et passer une bonne soirée !
URL:https://www.lebullition.fr/events/concert-270924/
LOCATION:L’ÉBULLITION\, 2 avenue de la République\, PALAISEAU\, 91120\, France
CATEGORIES:ÉVÉNEMENT
ATTACH;FMTTYPE=image/jpeg:https://www.lebullition.fr/wp-content/uploads/2024/08/Appel-a-artistes17.jpg
ORGANIZER;CN="L'%C3%89BULLITION":MAILTO:contact-ebullition@palaiseautierslieu.fr
END:VEVENT
BEGIN:VEVENT
DTSTART;TZID=Europe/Paris:20240928T190000
DTEND;TZID=Europe/Paris:20240928T220000
DTSTAMP:20260425T050756
CREATED:20240822T133136Z
LAST-MODIFIED:20240822T133136Z
UID:7898-1727550000-1727560800@www.lebullition.fr
SUMMARY:CONCERT REGGAE BLASTER / REGGAE BACKERS
DESCRIPTION:La Prog de la Guinguette \n\n\n\nREGGAE BLASTER / REGGAE BACKERS\n \n\n\n\n\n\n\n\n\nReggae Blaster est un groupe qui propose des productions originales\, roots\, rub-a-dub\, ska\, dancehall\, pour explorer les différentes facettes de la musique jamaïcaine avec une touche de maloya La formation compte désormais une section cuivre\, en plus du combo basse-batterie-guitare-clavier. Les huit musiciens sont accompagnés par Kony au chant. Originaire de la Réunion\, Kony chante en français\, en anglais ou en créole\, dans un style très métissé mais toujours énergique. Sa thérapie musicale vous emmènera de Paris à New-York\, en passant par l’océan indien\, pour un voyage aux notes roots ou maloya. Nou lé la! \nReggae Backers est un groupe de cover\, qui reprend des classiques des 60’s à nos jours\, à la sauce jamaïcaine. Le groupe est constitué de la section rythmique de Reggae Blaster et se plait à faire chanter le public sur des refrains légendaires!
URL:https://www.lebullition.fr/events/concert-280924/
LOCATION:L’ÉBULLITION\, 2 avenue de la République\, PALAISEAU\, 91120\, France
CATEGORIES:ÉVÉNEMENT
ATTACH;FMTTYPE=image/jpeg:https://www.lebullition.fr/wp-content/uploads/2024/04/REGGAE-BACKERS-BLASTERS.jpg
ORGANIZER;CN="L'%C3%89BULLITION":MAILTO:contact-ebullition@palaiseautierslieu.fr
END:VEVENT
END:VCALENDAR