BEGIN:VCALENDAR
VERSION:2.0
PRODID:-//L ÉBULLITION - ECPv6.15.20//NONSGML v1.0//EN
CALSCALE:GREGORIAN
METHOD:PUBLISH
X-ORIGINAL-URL:https://www.lebullition.fr
X-WR-CALDESC:Évènements pour L ÉBULLITION
REFRESH-INTERVAL;VALUE=DURATION:PT1H
X-Robots-Tag:noindex
X-PUBLISHED-TTL:PT1H
BEGIN:VTIMEZONE
TZID:Europe/Paris
BEGIN:DAYLIGHT
TZOFFSETFROM:+0100
TZOFFSETTO:+0200
TZNAME:CEST
DTSTART:20230326T010000
END:DAYLIGHT
BEGIN:STANDARD
TZOFFSETFROM:+0200
TZOFFSETTO:+0100
TZNAME:CET
DTSTART:20231029T010000
END:STANDARD
BEGIN:DAYLIGHT
TZOFFSETFROM:+0100
TZOFFSETTO:+0200
TZNAME:CEST
DTSTART:20240331T010000
END:DAYLIGHT
BEGIN:STANDARD
TZOFFSETFROM:+0200
TZOFFSETTO:+0100
TZNAME:CET
DTSTART:20241027T010000
END:STANDARD
BEGIN:DAYLIGHT
TZOFFSETFROM:+0100
TZOFFSETTO:+0200
TZNAME:CEST
DTSTART:20250330T010000
END:DAYLIGHT
BEGIN:STANDARD
TZOFFSETFROM:+0200
TZOFFSETTO:+0100
TZNAME:CET
DTSTART:20251026T010000
END:STANDARD
END:VTIMEZONE
BEGIN:VEVENT
DTSTART;TZID=Europe/Paris:20241116T140000
DTEND;TZID=Europe/Paris:20241116T170000
DTSTAMP:20260425T015308
CREATED:20241017T102537Z
LAST-MODIFIED:20241017T102537Z
UID:8357-1731765600-1731776400@www.lebullition.fr
SUMMARY:SERD 2024 - DEVENEZ AMBASSADEUR DU ZÉRO DÉCHET
DESCRIPTION:Formation Ambassadeur Zéro Déchet – Samedi 16 novembre – 14h-17h \n\n\n\n\n\n\n\n\nDevenez Ambassadeur Zéro Déchet !\n\n\nEnvie d’agir concrètement pour la réduction des déchets sur votre territoire ?\nA l’occasion de la Semaine Européenne de la Réduction des Déchets (SERD) l’association OSE ZD vous forme pour apprendre à sensibiliser\, animer et organiser des actions locales autour de la démarche Zéro Déchet.\n\n\n\n\n\n\nC’est gratuit\, mais réservé aux adhérent.es de OSE ZD (adhésion à prix libre) : https://www.helloasso.com/associations/ose-zd/formulaires/3 \nNombre de places limité\, inscription obligatoire : https://docs.google.com/…/1FAIpQLSf5zLmRQXO7s5…/viewform
URL:https://www.lebullition.fr/events/formation-osezd-161124/
LOCATION:L’ÉBULLITION\, 2 avenue de la République\, PALAISEAU\, 91120\, France
CATEGORIES:ÉVÉNEMENT
ATTACH;FMTTYPE=image/jpeg:https://www.lebullition.fr/wp-content/uploads/2024/10/458546187_815440517467907_6844389867606902122_n.jpg
ORGANIZER;CN="L'%C3%89BULLITION":MAILTO:contact-ebullition@palaiseautierslieu.fr
END:VEVENT
BEGIN:VEVENT
DTSTART;TZID=Europe/Paris:20241120T203000
DTEND;TZID=Europe/Paris:20241120T223000
DTSTAMP:20260425T015308
CREATED:20241030T123617Z
LAST-MODIFIED:20241031T102607Z
UID:8501-1732134600-1732141800@www.lebullition.fr
SUMMARY:CINÉ-RENCONTRE "NOTRE RECORD"
DESCRIPTION:[NOTRE RECORD] Ciné-rencontre Mercredi 20 novembre – 20h30 \n\n\n\n\n\n\n\n\nL’ébullition organise son premier Ciné-Rencontre. Nous sommes heureux de pouvoir vous faire découvrir le documentaire de Jérôme Habasque\, réalisateur\, autour du défi fou de Nicolas Vandenelsken de battre le record du GR34\, qui seront dans la salle.\nNicolas est un éco-aventurier engagé qui aime relever des défis sportifs inspirants et qui sont pour lui des prétextes de discussion et de sensibilisation autour des sujets de transition écologique avec les publics rencontrés.\nAprès la diffusion\, Robert Vautard\, co-président du GIEC et David Sombé\, athlète de haut niveau participeront à la discussion autour du thème: Le Sport est-il un nouveau terrain d’engagement?\n\nInformations et réservation: Ciné Pal’ – www.cinepal.fr
URL:https://www.lebullition.fr/events/cine-rencontre-201124-2/
LOCATION:CinéPal\, 10 Av. du 8 Mai 1945\, Palaiseau\, 91120\, France
CATEGORIES:ÉVÉNEMENT
ATTACH;FMTTYPE=image/jpeg:https://www.lebullition.fr/wp-content/uploads/2024/10/EVENT-CALENDAR-SEPT242-1.jpg
ORGANIZER;CN="L'%C3%89BULLITION":MAILTO:contact-ebullition@palaiseautierslieu.fr
END:VEVENT
BEGIN:VEVENT
DTSTART;TZID=Europe/Paris:20241129T190000
DTEND;TZID=Europe/Paris:20241129T220000
DTSTAMP:20260425T015308
CREATED:20240905T075846Z
LAST-MODIFIED:20240905T075846Z
UID:8186-1732906800-1732917600@www.lebullition.fr
SUMMARY:SOIRÉE JEUX
DESCRIPTION:Soirée jeux de société – à partir de 10 ans – 19h \n\n\n\nJE JOUE\, TU JOUES\, NOUS JOUONS… \n\n\n\n\n\n\n\n\nChaque dernier vendredi du mois\, pour bien commencer le week-end\, on vous propose une soirée jeux de société. Découvrez des jeux simples\, stratégiques\, coopératifs. Apportez vos jeux préférés pour faire une partie et les partager.\nUn moment convivial\, animé par Catherine Menthe-Sauge\,  pour passer du bon temps\, tout simplement. Vous pouvez apporter quelque chose à grignoter et à partager en mode « Auberge espagnole ». Vous pouvez aussi profiter de boire un verre (ou vous restaurer à LA GUINGUETTE quand elle est ouverte)\, le café associatif de L’ÉBULLITION. \nC’est gratuit\, mais réservé aux adhérent.es. Le nombre de places est limité\, donc l’inscription est obligatoire.
URL:https://www.lebullition.fr/events/soiree-jeux-291124/
LOCATION:L’ÉBULLITION\, 2 avenue de la République\, PALAISEAU\, 91120\, France
CATEGORIES:ÉVÉNEMENT
ATTACH;FMTTYPE=image/jpeg:https://www.lebullition.fr/wp-content/uploads/2024/07/WEB-EVENT-CALENDAR33.jpg
ORGANIZER;CN="L'%C3%89BULLITION":MAILTO:contact-ebullition@palaiseautierslieu.fr
END:VEVENT
END:VCALENDAR