BEGIN:VCALENDAR
VERSION:2.0
PRODID:-//L ÉBULLITION - ECPv6.15.20//NONSGML v1.0//EN
CALSCALE:GREGORIAN
METHOD:PUBLISH
X-WR-CALNAME:L ÉBULLITION
X-ORIGINAL-URL:https://www.lebullition.fr
X-WR-CALDESC:Évènements pour L ÉBULLITION
REFRESH-INTERVAL;VALUE=DURATION:PT1H
X-Robots-Tag:noindex
X-PUBLISHED-TTL:PT1H
BEGIN:VTIMEZONE
TZID:Europe/Paris
BEGIN:DAYLIGHT
TZOFFSETFROM:+0100
TZOFFSETTO:+0200
TZNAME:CEST
DTSTART:20250330T010000
END:DAYLIGHT
BEGIN:STANDARD
TZOFFSETFROM:+0200
TZOFFSETTO:+0100
TZNAME:CET
DTSTART:20251026T010000
END:STANDARD
BEGIN:DAYLIGHT
TZOFFSETFROM:+0100
TZOFFSETTO:+0200
TZNAME:CEST
DTSTART:20260329T010000
END:DAYLIGHT
BEGIN:STANDARD
TZOFFSETFROM:+0200
TZOFFSETTO:+0100
TZNAME:CET
DTSTART:20261025T010000
END:STANDARD
BEGIN:DAYLIGHT
TZOFFSETFROM:+0100
TZOFFSETTO:+0200
TZNAME:CEST
DTSTART:20270328T010000
END:DAYLIGHT
BEGIN:STANDARD
TZOFFSETFROM:+0200
TZOFFSETTO:+0100
TZNAME:CET
DTSTART:20271031T010000
END:STANDARD
END:VTIMEZONE
BEGIN:VEVENT
DTSTART;TZID=Europe/Paris:20260502T100000
DTEND;TZID=Europe/Paris:20260502T180000
DTSTAMP:20260422T021212
CREATED:20260403T133235Z
LAST-MODIFIED:20260403T133235Z
UID:11103-1777716000-1777744800@www.lebullition.fr
SUMMARY:EXPO RENCONTRE - Rencontre avec les plantes - Anaïs Bon
DESCRIPTION:Samedi 2 mai 2026 – 10h à 12h30 et 15h à 18h \n\nExpo-Rencontre avec Anaïs Bon – “Rencontre avec les plantes” \nNous accueillons sur les murs du tiers-lieu les aquarelles d’Anaïs Bon. \nCette exposition présente une sélection d’aquarelles originales d’Anaïs qui illustre le livre À la rencontre des plantes. Chaque plante exposée est représentée par une illustration botanique et une illustration symbolique invitant à la méditation. Une invitation à redécouvrir les plantes sauvages qui nous entourent\, discrètes et précieuses compagnes du quotidien. \n\n\nL’exposition se prolonge pour quelques jours\, les mercredis\, vendredis après-midis et samedis\, jusqu’au 2 mai.(10H à 12H30 et 15H à 18H)
URL:https://www.lebullition.fr/events/expo-rencontre-rencontre-avec-les-plantes-anais-bon-020526/
LOCATION:L’ÉBULLITION\, 2 avenue de la République\, PALAISEAU\, 91120\, France
CATEGORIES:ÉVÉNEMENT,RENCONTRES
ATTACH;FMTTYPE=image/jpeg:https://www.lebullition.fr/wp-content/uploads/2026/04/AFFICHE-Expo-A.-BON1.jpg
ORGANIZER;CN="L'%C3%89BULLITION":MAILTO:contact-ebullition@palaiseautierslieu.fr
END:VEVENT
BEGIN:VEVENT
DTSTART;TZID=Europe/Paris:20260523T100000
DTEND;TZID=Europe/Paris:20260523T170000
DTSTAMP:20260422T021212
CREATED:20260420T151458Z
LAST-MODIFIED:20260421T131419Z
UID:11133-1779530400-1779555600@www.lebullition.fr
SUMMARY:BOURSE AUX VINYLES AVEC RADIO MILLE PATTES
DESCRIPTION:Samedi 23 mai 2026 – 10H à 17H – Ouvert à tous\n \n\n\n\n\nL’ÉBULLITION organise avec RMP (Radio Mille Pattes)\, sa 2ème édition  de sa  bourse aux vinyles. Une journée dédiée aux passionnés de bons sons.\nTu as des vinyles qui dorment dans un coin ? Tu veux partager ta collection ou faire un peu de place dans tes bacs ? \n\n\nTiens un stand et partage tes trésors musicaux avec d’autres passionnés.\n\n\nRMP propose d’ambiancer l’événement avec un DJ Set 100% vinyle\, tout au long de la journée.\nUne belle journée de convivialité en perspective dans la cour de L’ÉBULLITION.
URL:https://www.lebullition.fr/events/bourse-aux-vinyles-avec-radio-mille-patte-2026/
LOCATION:L’ÉBULLITION\, 2 avenue de la République\, PALAISEAU\, 91120\, France
CATEGORIES:ÉVÉNEMENT
ATTACH;FMTTYPE=image/jpeg:https://www.lebullition.fr/wp-content/uploads/2026/04/VISUELS-AGENDA-Sept252.jpg
ORGANIZER;CN="L'%C3%89BULLITION":MAILTO:contact-ebullition@palaiseautierslieu.fr
END:VEVENT
BEGIN:VEVENT
DTSTART;TZID=Europe/Paris:20260523T100000
DTEND;TZID=Europe/Paris:20260523T180000
DTSTAMP:20260422T021212
CREATED:20260420T153027Z
LAST-MODIFIED:20260420T153027Z
UID:11136-1779530400-1779559200@www.lebullition.fr
SUMMARY:EXPO RENCONTRE - Docteur BERGMAN
DESCRIPTION:Samedi 23 mai – 10h à 18h30 \n\nExpo-Rencontre avec Docteur Bergman \nNous accueillons sur les murs du tiers-lieu les œuvres du Docteur Bergman. \nAprès une thèse de biologie moléculaire\, la science et docteur Bergman se sont mutuellement tournés le dos. C’est naturellement vers le pochoir que le docteur s’est tourné\, parfaisant sa technique au fil des années pour des œuvres toujours plus complexes à réaliser. \nL’artiste s’exprime par ses pochoirs sur des sujets divers tels que les animaux\, le cinéma\, la musique\, l’urbex ou l’Histoire. Il expose régulièrement son travail sur les murs de Paris via des collages éphémères. » \n  \n\n\nL’exposition se prolonge pour quelques jours\, les mercredis\, vendredis après-midis et samedis\, jusqu’au 6 juini.(10H à 12H30 et 15H à 18H)
URL:https://www.lebullition.fr/events/expo-rencontre-docteur-bergman/
LOCATION:L’ÉBULLITION\, 2 avenue de la République\, PALAISEAU\, 91120\, France
CATEGORIES:ÉVÉNEMENT,RENCONTRES
ATTACH;FMTTYPE=image/jpeg:https://www.lebullition.fr/wp-content/uploads/2026/04/AFFICHE-Expo-A.-BON3.jpg
ORGANIZER;CN="L'%C3%89BULLITION":MAILTO:contact-ebullition@palaiseautierslieu.fr
END:VEVENT
BEGIN:VEVENT
DTSTART;TZID=Europe/Paris:20260523T193000
DTEND;TZID=Europe/Paris:20260523T213000
DTSTAMP:20260422T021212
CREATED:20260421T150304Z
LAST-MODIFIED:20260421T150304Z
UID:11148-1779564600-1779571800@www.lebullition.fr
SUMMARY:CONCERT - RMP DJ SET
DESCRIPTION:Samedi 23 mai 2025 – 19H30 à 21H30 – Ouvert à tous\n \n\n\n\n\n\n\n\nLes DJs de Radio Mille Pattes reviennent poser leurs bacs de vinyles au café pour une soirée reggae authentique. Fidèles à leur esprit associatif\, ils partagent leurs pépites musicales et créent une atmosphère simple\, joyeuse et profondément humaine. \nPlus d’info : www.radiomillepattes.com
URL:https://www.lebullition.fr/events/concert-rmp-dj-set-230526/
LOCATION:L’ÉBULLITION\, 2 avenue de la République\, PALAISEAU\, 91120\, France
CATEGORIES:ÉVÉNEMENT
ATTACH;FMTTYPE=image/jpeg:https://www.lebullition.fr/wp-content/uploads/2026/04/RMP-230526.jpg
ORGANIZER;CN="L'%C3%89BULLITION":MAILTO:contact-ebullition@palaiseautierslieu.fr
END:VEVENT
BEGIN:VEVENT
DTSTART;TZID=Europe/Paris:20260529T193000
DTEND;TZID=Europe/Paris:20260529T213000
DTSTAMP:20260422T021212
CREATED:20260421T150700Z
LAST-MODIFIED:20260421T150700Z
UID:11151-1780083000-1780090200@www.lebullition.fr
SUMMARY:CONCERT - FRIDAY NIGHT JAZZ BAND
DESCRIPTION:Vendredi 29 mai 2026 – 19H30 à 21H30 – Ouvert à tous\n \n\n\n\n\n\n\n\nLe Friday Night Jazz Band réunit quatre musiciens — guitare\, contrebasse\, saxophone et piano — accompagnés de deux voix chaleureuses. Ensemble\, ils revisitent des chansons françaises dans une ambiance jazz raffinée et entraînante. Une soirée idéale pour se laisser porter par le swing. \nhttps://www.youtube.com/watch?v=Kcim65DYEpA
URL:https://www.lebullition.fr/events/concert-friday-night-jazz-band-290526/
LOCATION:L’ÉBULLITION\, 2 avenue de la République\, PALAISEAU\, 91120\, France
CATEGORIES:ÉVÉNEMENT
ATTACH;FMTTYPE=image/jpeg:https://www.lebullition.fr/wp-content/uploads/2026/04/FridayNignt-290526.jpg
ORGANIZER;CN="L'%C3%89BULLITION":MAILTO:contact-ebullition@palaiseautierslieu.fr
END:VEVENT
END:VCALENDAR