BEGIN:VCALENDAR
VERSION:2.0
PRODID:-//L ÉBULLITION - ECPv6.15.20//NONSGML v1.0//EN
CALSCALE:GREGORIAN
METHOD:PUBLISH
X-WR-CALNAME:L ÉBULLITION
X-ORIGINAL-URL:https://www.lebullition.fr
X-WR-CALDESC:Évènements pour L ÉBULLITION
REFRESH-INTERVAL;VALUE=DURATION:PT1H
X-Robots-Tag:noindex
X-PUBLISHED-TTL:PT1H
BEGIN:VTIMEZONE
TZID:Europe/Paris
BEGIN:DAYLIGHT
TZOFFSETFROM:+0100
TZOFFSETTO:+0200
TZNAME:CEST
DTSTART:20220327T010000
END:DAYLIGHT
BEGIN:STANDARD
TZOFFSETFROM:+0200
TZOFFSETTO:+0100
TZNAME:CET
DTSTART:20221030T010000
END:STANDARD
BEGIN:DAYLIGHT
TZOFFSETFROM:+0100
TZOFFSETTO:+0200
TZNAME:CEST
DTSTART:20230326T010000
END:DAYLIGHT
BEGIN:STANDARD
TZOFFSETFROM:+0200
TZOFFSETTO:+0100
TZNAME:CET
DTSTART:20231029T010000
END:STANDARD
BEGIN:DAYLIGHT
TZOFFSETFROM:+0100
TZOFFSETTO:+0200
TZNAME:CEST
DTSTART:20240331T010000
END:DAYLIGHT
BEGIN:STANDARD
TZOFFSETFROM:+0200
TZOFFSETTO:+0100
TZNAME:CET
DTSTART:20241027T010000
END:STANDARD
END:VTIMEZONE
BEGIN:VEVENT
DTSTART;TZID=Europe/Paris:20230909T100000
DTEND;TZID=Europe/Paris:20230909T190000
DTSTAMP:20260426T012943
CREATED:20230904T085457Z
LAST-MODIFIED:20230904T085457Z
UID:5718-1694253600-1694286000@www.lebullition.fr
SUMMARY:LA JOURNÉE DES ASSOCIATIONS
DESCRIPTION:Samedi 9 septembre 2023 – 10H à 19H\n \n\nL’ÉBULLITION profite de la journée des associations pour faire PORTES OUVERTES. \nC’est un RDV important pour la vie de l’association car c’est l’opportunité de (re)découvrir le tiers-lieu\, de nous (re)présenter\, de créer du lien et de partager nos actions pour l’année.\nPrésentation de la programmation des activités et des animations\, de l’outilthèque\, (ré)adhésion et soutien\, stand Art de la Récup’\, visite des locaux\, pêche à la ligne\, restauration…  C’est une grande journée qui s’annonce sous le signe du partage.\nPassez-nous voir! \nÀ partir de 19H nous partagerons le verre de l’amitié avec les adhérent.es (anciens et nouveaux) pour lancer officiellement la nouvelle saison de L’ ÉBULLITION
URL:https://www.lebullition.fr/events/la-journee-des-associations/
LOCATION:L’ÉBULLITION\, 2 avenue de la République\, PALAISEAU\, 91120\, France
CATEGORIES:ÉVÉNEMENT
ATTACH;FMTTYPE=image/jpeg:https://www.lebullition.fr/wp-content/uploads/2023/09/WEB-EVENT-CALENDAR8.jpg
ORGANIZER;CN="L'%C3%89BULLITION":MAILTO:contact-ebullition@palaiseautierslieu.fr
END:VEVENT
END:VCALENDAR