BEGIN:VCALENDAR
VERSION:2.0
PRODID:-//L ÉBULLITION - ECPv6.15.20//NONSGML v1.0//EN
CALSCALE:GREGORIAN
METHOD:PUBLISH
X-ORIGINAL-URL:https://www.lebullition.fr
X-WR-CALDESC:Évènements pour L ÉBULLITION
REFRESH-INTERVAL;VALUE=DURATION:PT1H
X-Robots-Tag:noindex
X-PUBLISHED-TTL:PT1H
BEGIN:VTIMEZONE
TZID:Europe/Paris
BEGIN:DAYLIGHT
TZOFFSETFROM:+0100
TZOFFSETTO:+0200
TZNAME:CEST
DTSTART:20220327T010000
END:DAYLIGHT
BEGIN:STANDARD
TZOFFSETFROM:+0200
TZOFFSETTO:+0100
TZNAME:CET
DTSTART:20221030T010000
END:STANDARD
BEGIN:DAYLIGHT
TZOFFSETFROM:+0100
TZOFFSETTO:+0200
TZNAME:CEST
DTSTART:20230326T010000
END:DAYLIGHT
BEGIN:STANDARD
TZOFFSETFROM:+0200
TZOFFSETTO:+0100
TZNAME:CET
DTSTART:20231029T010000
END:STANDARD
BEGIN:DAYLIGHT
TZOFFSETFROM:+0100
TZOFFSETTO:+0200
TZNAME:CEST
DTSTART:20240331T010000
END:DAYLIGHT
BEGIN:STANDARD
TZOFFSETFROM:+0200
TZOFFSETTO:+0100
TZNAME:CET
DTSTART:20241027T010000
END:STANDARD
END:VTIMEZONE
BEGIN:VEVENT
DTSTART;TZID=Europe/Paris:20230929T190000
DTEND;TZID=Europe/Paris:20230929T213000
DTSTAMP:20260425T235845
CREATED:20230920T085509Z
LAST-MODIFIED:20230920T085509Z
UID:6065-1696014000-1696023000@www.lebullition.fr
SUMMARY:DEMANDEZ LE PROGRAMME
DESCRIPTION:Vendredi 29 septembre 2023 – à partir de 19h\n \n\nNous vous propose une programmation musicale avec des artistes amateurs du coin et en devenir pour animer vos soirées à la Guinguette.\nProfitez du moment pour faire une pause entre ami.es ou en famille autour d’un verre et de bons petits trucs à grignoter et partager. \nVendredi 29 septembre\, on accueille TOTO ASHER pour un solo guitare-voix\n \nBercé par le reggae \, le hip-hop\, la musique Caraïbéenne et la culture Rastafari depuis son plus jeune âge \, Toto Asher partage une musique aussi roots que moderne. Aux sonorités résolument reggae\, son univers fait le lien entre le reggae\, le hip-hop et la soul\, avec une écriture originale soulignée par son grain de voix authentique et captivant . \n  \nPlus d’infos sur la programmation et la Guinguette ici \n 
URL:https://www.lebullition.fr/events/demandez-le-programme-5/
LOCATION:L’ÉBULLITION\, 2 avenue de la République\, PALAISEAU\, 91120\, France
CATEGORIES:ÉVÉNEMENT
ATTACH;FMTTYPE=image/jpeg:https://www.lebullition.fr/wp-content/uploads/2023/09/WEB-EVENT-CALENDAR12.jpg
ORGANIZER;CN="L'%C3%89BULLITION":MAILTO:contact-ebullition@palaiseautierslieu.fr
END:VEVENT
BEGIN:VEVENT
DTSTART;TZID=Europe/Paris:20230929T190000
DTEND;TZID=Europe/Paris:20230929T220000
DTSTAMP:20260425T235845
CREATED:20230904T080328Z
LAST-MODIFIED:20230904T080328Z
UID:5692-1696014000-1696024800@www.lebullition.fr
SUMMARY:SOIRÉE JEUX
DESCRIPTION:Soirée jeux de société – à partir de 10 ans – 19h \n\n\n\nJE JOUE\, TU JOUES\, NOUS JOUONS… \n\n\n\n\n\n\n\n\nChaque dernier vendredi du mois\, pour bien commencer le week-end\, on vous propose une soirée jeux de société. Découvrez des jeux simples\, stratégiques\, coopératifs. Apportez vos jeux préférés pour faire une partie et les partager.\nUn moment convivial\, animé par Catherine Menthe-Sauge\,  pour passer du bon temps\, tout simplement. Vous pouvez apporter quelque chose à grignoter et à partager en mode « Auberge espagnole ». Vous pouvez aussi profiter de boire un verre ou vous restaurer à LA GUINGUETTE\, le café associatif de L’ÉBULLITION. \nC’est gratuit\, mais réservé aux adhérent.es. Le nombre de places est limité\, donc l’inscription est obligatoire.
URL:https://www.lebullition.fr/events/soiree-jeux-6/
LOCATION:L’ÉBULLITION\, 2 avenue de la République\, PALAISEAU\, 91120\, France
CATEGORIES:ÉVÉNEMENT
ATTACH;FMTTYPE=image/jpeg:https://www.lebullition.fr/wp-content/uploads/2022/12/6-1.jpg
ORGANIZER;CN="L'%C3%89BULLITION":MAILTO:contact-ebullition@palaiseautierslieu.fr
END:VEVENT
END:VCALENDAR