BEGIN:VCALENDAR
VERSION:2.0
PRODID:-//L ÉBULLITION - ECPv6.15.20//NONSGML v1.0//EN
CALSCALE:GREGORIAN
METHOD:PUBLISH
X-ORIGINAL-URL:https://www.lebullition.fr
X-WR-CALDESC:Évènements pour L ÉBULLITION
REFRESH-INTERVAL;VALUE=DURATION:PT1H
X-Robots-Tag:noindex
X-PUBLISHED-TTL:PT1H
BEGIN:VTIMEZONE
TZID:Europe/Paris
BEGIN:DAYLIGHT
TZOFFSETFROM:+0100
TZOFFSETTO:+0200
TZNAME:CEST
DTSTART:20220327T010000
END:DAYLIGHT
BEGIN:STANDARD
TZOFFSETFROM:+0200
TZOFFSETTO:+0100
TZNAME:CET
DTSTART:20221030T010000
END:STANDARD
BEGIN:DAYLIGHT
TZOFFSETFROM:+0100
TZOFFSETTO:+0200
TZNAME:CEST
DTSTART:20230326T010000
END:DAYLIGHT
BEGIN:STANDARD
TZOFFSETFROM:+0200
TZOFFSETTO:+0100
TZNAME:CET
DTSTART:20231029T010000
END:STANDARD
BEGIN:DAYLIGHT
TZOFFSETFROM:+0100
TZOFFSETTO:+0200
TZNAME:CEST
DTSTART:20240331T010000
END:DAYLIGHT
BEGIN:STANDARD
TZOFFSETFROM:+0200
TZOFFSETTO:+0100
TZNAME:CET
DTSTART:20241027T010000
END:STANDARD
END:VTIMEZONE
BEGIN:VEVENT
DTSTART;TZID=Europe/Paris:20231014T163000
DTEND;TZID=Europe/Paris:20231014T223000
DTSTAMP:20260425T222749
CREATED:20231006T123230Z
LAST-MODIFIED:20231006T143622Z
UID:6247-1697301000-1697322600@www.lebullition.fr
SUMMARY:LA GUINGUETTE - C'EST LA DER!
DESCRIPTION:DERNIÈRE SOIRÉE  – Samedi 14 octobre 2023 – 16H00 à 22H30\n \n\n\n\nQuelle belle aventure! Malheureusement toutes les belles choses ont une fin. Après 5 mois d’ouverture\, la Guinguette baisse le rideau le samedi 14 octobre. \nC’est la der de la saison et Monsieur Pingouin et son équipe veulent faire la fête pour cette dernière. Il a proposé à tous ceux qui ont participé à mettre la bonne ambiance de revenir et ambiancer une dernière fois la cour. Alors si vous avez aimé\, si vous êtes un.e habitué.e\, si vous n’avez pas eu le temps de passer\, si vous regrettez déjà et vous vous dites « vivement l’année prochaine »\, c’est  le moment ou jamais de venir boire un verre pour clôturer en beauté la saison. On vous attend pour mettre l’ambiance et se dire au revoir avant de revenir l’année prochaine. \n\n\n  \n\n\n\n\n 
URL:https://www.lebullition.fr/events/la-guinguette-cest-la-der/
LOCATION:L’ÉBULLITION\, 2 avenue de la République\, PALAISEAU\, 91120\, France
CATEGORIES:ÉVÉNEMENT
ATTACH;FMTTYPE=image/jpeg:https://www.lebullition.fr/wp-content/uploads/2023/10/WEB-EVENT-CALENDAR14.jpg
ORGANIZER;CN="L'%C3%89BULLITION":MAILTO:contact-ebullition@palaiseautierslieu.fr
END:VEVENT
END:VCALENDAR