BEGIN:VCALENDAR
VERSION:2.0
PRODID:-//L ÉBULLITION - ECPv6.15.20//NONSGML v1.0//EN
CALSCALE:GREGORIAN
METHOD:PUBLISH
X-WR-CALNAME:L ÉBULLITION
X-ORIGINAL-URL:https://www.lebullition.fr
X-WR-CALDESC:Évènements pour L ÉBULLITION
REFRESH-INTERVAL;VALUE=DURATION:PT1H
X-Robots-Tag:noindex
X-PUBLISHED-TTL:PT1H
BEGIN:VTIMEZONE
TZID:Europe/Paris
BEGIN:DAYLIGHT
TZOFFSETFROM:+0100
TZOFFSETTO:+0200
TZNAME:CEST
DTSTART:20220327T010000
END:DAYLIGHT
BEGIN:STANDARD
TZOFFSETFROM:+0200
TZOFFSETTO:+0100
TZNAME:CET
DTSTART:20221030T010000
END:STANDARD
BEGIN:DAYLIGHT
TZOFFSETFROM:+0100
TZOFFSETTO:+0200
TZNAME:CEST
DTSTART:20230326T010000
END:DAYLIGHT
BEGIN:STANDARD
TZOFFSETFROM:+0200
TZOFFSETTO:+0100
TZNAME:CET
DTSTART:20231029T010000
END:STANDARD
BEGIN:DAYLIGHT
TZOFFSETFROM:+0100
TZOFFSETTO:+0200
TZNAME:CEST
DTSTART:20240331T010000
END:DAYLIGHT
BEGIN:STANDARD
TZOFFSETFROM:+0200
TZOFFSETTO:+0100
TZNAME:CET
DTSTART:20241027T010000
END:STANDARD
END:VTIMEZONE
BEGIN:VEVENT
DTSTART;TZID=Europe/Paris:20231021T100000
DTEND;TZID=Europe/Paris:20231021T180000
DTSTAMP:20260425T222436
CREATED:20231016T122402Z
LAST-MODIFIED:20231016T122433Z
UID:6258-1697882400-1697911200@www.lebullition.fr
SUMMARY:VENTE DE LAINE D'OCCASION
DESCRIPTION:VENTE EXCEPTIONNELLE DE LAINE  – Samedi 21 octobre 2023 – 10h00 à 12h30 et 15h00 à 18h00\n \n\n\nL’hiver arrive vous avez envie d’un pull bien chaud\, une écharpe en laine toute douce et vous avez envie de jouer avec vos aiguilles à tricoter?\nAlors venez chiner dans les bacs de la boutique. Nous sortons notre stock de laine.\n\nOuvert à tout.es\nChangeons nos habitudes d’achats. Pensons SECONDE MAIN et OCCASION avant d’acheter neuf.\nLa recette des ventes est entièrement reversée à L’ÉBULLITION pour poursuivre son développement et ses actions\n\n\n  \n\n\n\n\n 
URL:https://www.lebullition.fr/events/vente-de-laine/
LOCATION:L’ÉBULLITION\, 2 avenue de la République\, PALAISEAU\, 91120\, France
CATEGORIES:ÉVÉNEMENT
ORGANIZER;CN="L'%C3%89BULLITION":MAILTO:contact-ebullition@palaiseautierslieu.fr
END:VEVENT
END:VCALENDAR