BEGIN:VCALENDAR
VERSION:2.0
PRODID:-//L ÉBULLITION - ECPv6.15.20//NONSGML v1.0//EN
CALSCALE:GREGORIAN
METHOD:PUBLISH
X-ORIGINAL-URL:https://www.lebullition.fr
X-WR-CALDESC:Évènements pour L ÉBULLITION
REFRESH-INTERVAL;VALUE=DURATION:PT1H
X-Robots-Tag:noindex
X-PUBLISHED-TTL:PT1H
BEGIN:VTIMEZONE
TZID:Europe/Paris
BEGIN:DAYLIGHT
TZOFFSETFROM:+0100
TZOFFSETTO:+0200
TZNAME:CEST
DTSTART:20230326T010000
END:DAYLIGHT
BEGIN:STANDARD
TZOFFSETFROM:+0200
TZOFFSETTO:+0100
TZNAME:CET
DTSTART:20231029T010000
END:STANDARD
BEGIN:DAYLIGHT
TZOFFSETFROM:+0100
TZOFFSETTO:+0200
TZNAME:CEST
DTSTART:20240331T010000
END:DAYLIGHT
BEGIN:STANDARD
TZOFFSETFROM:+0200
TZOFFSETTO:+0100
TZNAME:CET
DTSTART:20241027T010000
END:STANDARD
BEGIN:DAYLIGHT
TZOFFSETFROM:+0100
TZOFFSETTO:+0200
TZNAME:CEST
DTSTART:20250330T010000
END:DAYLIGHT
BEGIN:STANDARD
TZOFFSETFROM:+0200
TZOFFSETTO:+0100
TZNAME:CET
DTSTART:20251026T010000
END:STANDARD
END:VTIMEZONE
BEGIN:VEVENT
DTSTART;TZID=Europe/Paris:20240315T190000
DTEND;TZID=Europe/Paris:20240315T220000
DTSTAMP:20260425T151924
CREATED:20240207T090109Z
LAST-MODIFIED:20240207T090109Z
UID:6847-1710529200-1710540000@www.lebullition.fr
SUMMARY:DOCU-DÉBAT "ART THÉRAPIE"
DESCRIPTION:Soirée docu-débat autour de l’Art-Thérapie – vendredi 15 mars – 19h \n\nVous ne doutez pas des bienfaits de l’art-thérapie sur la santé mentale et le développement personnel. Vous avez envie d’en savoir plus? Nous vous proposons de découvrir le documentaire « Dessine-toi un avenir » réalisé par l’association Accord Emeraude. La projection sera suivi d’un échange avec Muriel Vanney\, art-thérapeute à Palaiseau. \nVoici un extrait du film pour vous donner envie. \nLes places sont limitées\, ne tardez pas à vous inscrire. \n 
URL:https://www.lebullition.fr/events/docu-debat-art-therapie-150324/
LOCATION:L’ÉBULLITION\, 2 avenue de la République\, PALAISEAU\, 91120\, France
CATEGORIES:ÉVÉNEMENT
ATTACH;FMTTYPE=image/jpeg:https://www.lebullition.fr/wp-content/uploads/2024/02/WEB-EVENT-CALENDAR28-1.jpg
ORGANIZER;CN="L'%C3%89BULLITION":MAILTO:contact-ebullition@palaiseautierslieu.fr
END:VEVENT
END:VCALENDAR