BEGIN:VCALENDAR
VERSION:2.0
PRODID:-//L ÉBULLITION - ECPv6.15.20//NONSGML v1.0//EN
CALSCALE:GREGORIAN
METHOD:PUBLISH
X-WR-CALNAME:L ÉBULLITION
X-ORIGINAL-URL:https://www.lebullition.fr
X-WR-CALDESC:Évènements pour L ÉBULLITION
REFRESH-INTERVAL;VALUE=DURATION:PT1H
X-Robots-Tag:noindex
X-PUBLISHED-TTL:PT1H
BEGIN:VTIMEZONE
TZID:Europe/Paris
BEGIN:DAYLIGHT
TZOFFSETFROM:+0100
TZOFFSETTO:+0200
TZNAME:CEST
DTSTART:20230326T010000
END:DAYLIGHT
BEGIN:STANDARD
TZOFFSETFROM:+0200
TZOFFSETTO:+0100
TZNAME:CET
DTSTART:20231029T010000
END:STANDARD
BEGIN:DAYLIGHT
TZOFFSETFROM:+0100
TZOFFSETTO:+0200
TZNAME:CEST
DTSTART:20240331T010000
END:DAYLIGHT
BEGIN:STANDARD
TZOFFSETFROM:+0200
TZOFFSETTO:+0100
TZNAME:CET
DTSTART:20241027T010000
END:STANDARD
BEGIN:DAYLIGHT
TZOFFSETFROM:+0100
TZOFFSETTO:+0200
TZNAME:CEST
DTSTART:20250330T010000
END:DAYLIGHT
BEGIN:STANDARD
TZOFFSETFROM:+0200
TZOFFSETTO:+0100
TZNAME:CET
DTSTART:20251026T010000
END:STANDARD
END:VTIMEZONE
BEGIN:VEVENT
DTSTART;TZID=Europe/Paris:20240921T210000
DTEND;TZID=Europe/Paris:20240921T233000
DTSTAMP:20260425T062455
CREATED:20240822T120439Z
LAST-MODIFIED:20240822T121629Z
UID:7890-1726952400-1726961400@www.lebullition.fr
SUMMARY:FESTIVAL ENCORE LES BEAUX JOURS
DESCRIPTION:La Prog de la Guinguette \n\n\n\nFestival Encore Les Beaux Jours – Ciné-Concert Immersif + After à la Guinguette\n \nFantôme – Soulèvement poétique pour place publique par la Compagnie La Méandre (Place des Écoles) \nFantôme est un spectacle qui combine arts numériques\, musique et théâtre d’objets.\nBasé sur un film d’animation\, il raconte l’histoire d’un enfant qui déclenche malgré lui une révolte populaire et l’effondrement d’un système totalitaire. \nIl utilise le principe narratif du ciné-concert\, avec des interprètes en direct et des dispositifs scéniques uniques qui évoluent avec l’histoire. Par la force de l’imaginaire\, Fantôme vise à inspirer un soulèvement poétique en transportant le public dans une puissante aventure onirique. \nPour l’occasion\, la Guinguette fait du rab et vous ouvre ses portes pour boire un pot après le spectacle.
URL:https://www.lebullition.fr/events/animakt-210924/
LOCATION:L’ÉBULLITION\, 2 avenue de la République\, PALAISEAU\, 91120\, France
CATEGORIES:ÉVÉNEMENT
ATTACH;FMTTYPE=image/jpeg:https://www.lebullition.fr/wp-content/uploads/2024/08/Appel-a-artistes16.jpg
ORGANIZER;CN="L'%C3%89BULLITION":MAILTO:contact-ebullition@palaiseautierslieu.fr
END:VEVENT
END:VCALENDAR