BEGIN:VCALENDAR
VERSION:2.0
PRODID:-//L ÉBULLITION - ECPv6.15.20//NONSGML v1.0//EN
CALSCALE:GREGORIAN
METHOD:PUBLISH
X-WR-CALNAME:L ÉBULLITION
X-ORIGINAL-URL:https://www.lebullition.fr
X-WR-CALDESC:Évènements pour L ÉBULLITION
REFRESH-INTERVAL;VALUE=DURATION:PT1H
X-Robots-Tag:noindex
X-PUBLISHED-TTL:PT1H
BEGIN:VTIMEZONE
TZID:Europe/Paris
BEGIN:DAYLIGHT
TZOFFSETFROM:+0100
TZOFFSETTO:+0200
TZNAME:CEST
DTSTART:20230326T010000
END:DAYLIGHT
BEGIN:STANDARD
TZOFFSETFROM:+0200
TZOFFSETTO:+0100
TZNAME:CET
DTSTART:20231029T010000
END:STANDARD
BEGIN:DAYLIGHT
TZOFFSETFROM:+0100
TZOFFSETTO:+0200
TZNAME:CEST
DTSTART:20240331T010000
END:DAYLIGHT
BEGIN:STANDARD
TZOFFSETFROM:+0200
TZOFFSETTO:+0100
TZNAME:CET
DTSTART:20241027T010000
END:STANDARD
BEGIN:DAYLIGHT
TZOFFSETFROM:+0100
TZOFFSETTO:+0200
TZNAME:CEST
DTSTART:20250330T010000
END:DAYLIGHT
BEGIN:STANDARD
TZOFFSETFROM:+0200
TZOFFSETTO:+0100
TZNAME:CET
DTSTART:20251026T010000
END:STANDARD
END:VTIMEZONE
BEGIN:VEVENT
DTSTART;TZID=Europe/Paris:20241005T100000
DTEND;TZID=Europe/Paris:20241005T180000
DTSTAMP:20260425T050924
CREATED:20240822T134622Z
LAST-MODIFIED:20240822T134622Z
UID:7902-1728122400-1728151200@www.lebullition.fr
SUMMARY:JOURNÉE SLOW DECO
DESCRIPTION:Journée Slow Déco en partenariat avec OSE ZD – Un événement dédié à la décoration Eco-Responsable \nUn événement incontournable pour tous les amateurs de décoration durable et éco-responsable. Venez découvrir une multitude d’activités et d’ateliers qui vous inspireront à transformer votre intérieur de manière respectueuse de l’environnement : \n\nAu programme :\n\nStands de partenaires : Rencontrez des artisans et des professionnels du secteur et locaux qui présenteront des solutions innovantes pour une décoration durable.\nAteliers créatifs : Participez à des ateliers créatifs où vous apprendrez à réutiliser des matériaux\, à créer des objets déco uniques et à donner une nouvelle vie à vos meubles et à vos objets de décoration.\nExposition : Découvrez les enjeux cachés de la fast déco.\nProjection : Découvrez le documentaire « Ikea\, le seigneur des forêts » (2023) Sur inscription via ce lien : https://forms.gle/uFHDdgCzVSVazwGn6\nTable ronde : Participez à des discussions enrichissantes avec des experts en décoration éco-responsable\, notamment Julie Lampert\, décoratrice et designer d’intérieur spécialisée dans l’éco-conception.
URL:https://www.lebullition.fr/events/slow-deco/
LOCATION:L’ÉBULLITION\, 2 avenue de la République\, PALAISEAU\, 91120\, France
CATEGORIES:ÉVÉNEMENT
ATTACH;FMTTYPE=image/jpeg:https://www.lebullition.fr/wp-content/uploads/2024/08/AFFICHE_compressed_page-0001.jpg
ORGANIZER;CN="L'%C3%89BULLITION":MAILTO:contact-ebullition@palaiseautierslieu.fr
END:VEVENT
END:VCALENDAR