BEGIN:VCALENDAR
VERSION:2.0
PRODID:-//L ÉBULLITION - ECPv6.15.20//NONSGML v1.0//EN
CALSCALE:GREGORIAN
METHOD:PUBLISH
X-ORIGINAL-URL:https://www.lebullition.fr
X-WR-CALDESC:Évènements pour L ÉBULLITION
REFRESH-INTERVAL;VALUE=DURATION:PT1H
X-Robots-Tag:noindex
X-PUBLISHED-TTL:PT1H
BEGIN:VTIMEZONE
TZID:Europe/Paris
BEGIN:DAYLIGHT
TZOFFSETFROM:+0100
TZOFFSETTO:+0200
TZNAME:CEST
DTSTART:20230326T010000
END:DAYLIGHT
BEGIN:STANDARD
TZOFFSETFROM:+0200
TZOFFSETTO:+0100
TZNAME:CET
DTSTART:20231029T010000
END:STANDARD
BEGIN:DAYLIGHT
TZOFFSETFROM:+0100
TZOFFSETTO:+0200
TZNAME:CEST
DTSTART:20240331T010000
END:DAYLIGHT
BEGIN:STANDARD
TZOFFSETFROM:+0200
TZOFFSETTO:+0100
TZNAME:CET
DTSTART:20241027T010000
END:STANDARD
BEGIN:DAYLIGHT
TZOFFSETFROM:+0100
TZOFFSETTO:+0200
TZNAME:CEST
DTSTART:20250330T010000
END:DAYLIGHT
BEGIN:STANDARD
TZOFFSETFROM:+0200
TZOFFSETTO:+0100
TZNAME:CET
DTSTART:20251026T010000
END:STANDARD
END:VTIMEZONE
BEGIN:VEVENT
DTSTART;TZID=Europe/Paris:20241116T140000
DTEND;TZID=Europe/Paris:20241116T170000
DTSTAMP:20260425T033916
CREATED:20241017T102537Z
LAST-MODIFIED:20241017T102537Z
UID:8357-1731765600-1731776400@www.lebullition.fr
SUMMARY:SERD 2024 - DEVENEZ AMBASSADEUR DU ZÉRO DÉCHET
DESCRIPTION:Formation Ambassadeur Zéro Déchet – Samedi 16 novembre – 14h-17h \n\n\n\n\n\n\n\n\nDevenez Ambassadeur Zéro Déchet !\n\n\nEnvie d’agir concrètement pour la réduction des déchets sur votre territoire ?\nA l’occasion de la Semaine Européenne de la Réduction des Déchets (SERD) l’association OSE ZD vous forme pour apprendre à sensibiliser\, animer et organiser des actions locales autour de la démarche Zéro Déchet.\n\n\n\n\n\n\nC’est gratuit\, mais réservé aux adhérent.es de OSE ZD (adhésion à prix libre) : https://www.helloasso.com/associations/ose-zd/formulaires/3 \nNombre de places limité\, inscription obligatoire : https://docs.google.com/…/1FAIpQLSf5zLmRQXO7s5…/viewform
URL:https://www.lebullition.fr/events/formation-osezd-161124/
LOCATION:L’ÉBULLITION\, 2 avenue de la République\, PALAISEAU\, 91120\, France
CATEGORIES:ÉVÉNEMENT
ATTACH;FMTTYPE=image/jpeg:https://www.lebullition.fr/wp-content/uploads/2024/10/458546187_815440517467907_6844389867606902122_n.jpg
ORGANIZER;CN="L'%C3%89BULLITION":MAILTO:contact-ebullition@palaiseautierslieu.fr
END:VEVENT
END:VCALENDAR