BEGIN:VCALENDAR
VERSION:2.0
PRODID:-//L ÉBULLITION - ECPv6.15.20//NONSGML v1.0//EN
CALSCALE:GREGORIAN
METHOD:PUBLISH
X-WR-CALNAME:L ÉBULLITION
X-ORIGINAL-URL:https://www.lebullition.fr
X-WR-CALDESC:Évènements pour L ÉBULLITION
REFRESH-INTERVAL;VALUE=DURATION:PT1H
X-Robots-Tag:noindex
X-PUBLISHED-TTL:PT1H
BEGIN:VTIMEZONE
TZID:Europe/Paris
BEGIN:DAYLIGHT
TZOFFSETFROM:+0100
TZOFFSETTO:+0200
TZNAME:CEST
DTSTART:20240331T010000
END:DAYLIGHT
BEGIN:STANDARD
TZOFFSETFROM:+0200
TZOFFSETTO:+0100
TZNAME:CET
DTSTART:20241027T010000
END:STANDARD
BEGIN:DAYLIGHT
TZOFFSETFROM:+0100
TZOFFSETTO:+0200
TZNAME:CEST
DTSTART:20250330T010000
END:DAYLIGHT
BEGIN:STANDARD
TZOFFSETFROM:+0200
TZOFFSETTO:+0100
TZNAME:CET
DTSTART:20251026T010000
END:STANDARD
BEGIN:DAYLIGHT
TZOFFSETFROM:+0100
TZOFFSETTO:+0200
TZNAME:CEST
DTSTART:20260329T010000
END:DAYLIGHT
BEGIN:STANDARD
TZOFFSETFROM:+0200
TZOFFSETTO:+0100
TZNAME:CET
DTSTART:20261025T010000
END:STANDARD
END:VTIMEZONE
BEGIN:VEVENT
DTSTART;TZID=Europe/Paris:20250523T190000
DTEND;TZID=Europe/Paris:20250523T213000
DTSTAMP:20260424T201103
CREATED:20250509T085213Z
LAST-MODIFIED:20250509T085342Z
UID:9554-1748026800-1748035800@www.lebullition.fr
SUMMARY:CONCERT - VIEUX GROOVE DEL MUNDO (DJ SET)
DESCRIPTION:Vendredi 23 mai 2025 – 19H à 21H30 – Ouvert à tous\n \n\n\n\n\n\n\nLe Vieux Groove Del Mundo est un collectif de dj/selectas.\nComme son nom l’indique\, ce qui les branche c’est de passer du bon vieux son du monde entier dans un esprit dancefloor ou plutôt « bal à la cool ».\nDe la musique à partager\, pour chiller ou danser\, mais toujours dans l’esprit du partage et du kif!\nPlus d’info : www.facebook.com/vieuxgroovedelmundo
URL:https://www.lebullition.fr/events/concert-vieux-groove-del-mundo-dj-set/
LOCATION:L’ÉBULLITION\, 2 avenue de la République\, PALAISEAU\, 91120\, France
CATEGORIES:ÉVÉNEMENT
ATTACH;FMTTYPE=image/jpeg:https://www.lebullition.fr/wp-content/uploads/2025/05/Vieux-Groove-del-Mundo.jpg
ORGANIZER;CN="L'%C3%89BULLITION":MAILTO:contact-ebullition@palaiseautierslieu.fr
END:VEVENT
END:VCALENDAR