BEGIN:VCALENDAR
VERSION:2.0
PRODID:-//L ÉBULLITION - ECPv6.15.20//NONSGML v1.0//EN
CALSCALE:GREGORIAN
METHOD:PUBLISH
X-WR-CALNAME:L ÉBULLITION
X-ORIGINAL-URL:https://www.lebullition.fr
X-WR-CALDESC:Évènements pour L ÉBULLITION
REFRESH-INTERVAL;VALUE=DURATION:PT1H
X-Robots-Tag:noindex
X-PUBLISHED-TTL:PT1H
BEGIN:VTIMEZONE
TZID:Europe/Paris
BEGIN:DAYLIGHT
TZOFFSETFROM:+0100
TZOFFSETTO:+0200
TZNAME:CEST
DTSTART:20240331T010000
END:DAYLIGHT
BEGIN:STANDARD
TZOFFSETFROM:+0200
TZOFFSETTO:+0100
TZNAME:CET
DTSTART:20241027T010000
END:STANDARD
BEGIN:DAYLIGHT
TZOFFSETFROM:+0100
TZOFFSETTO:+0200
TZNAME:CEST
DTSTART:20250330T010000
END:DAYLIGHT
BEGIN:STANDARD
TZOFFSETFROM:+0200
TZOFFSETTO:+0100
TZNAME:CET
DTSTART:20251026T010000
END:STANDARD
BEGIN:DAYLIGHT
TZOFFSETFROM:+0100
TZOFFSETTO:+0200
TZNAME:CEST
DTSTART:20260329T010000
END:DAYLIGHT
BEGIN:STANDARD
TZOFFSETFROM:+0200
TZOFFSETTO:+0100
TZNAME:CET
DTSTART:20261025T010000
END:STANDARD
END:VTIMEZONE
BEGIN:VEVENT
DTSTART;TZID=Europe/Paris:20250614T100000
DTEND;TZID=Europe/Paris:20250614T170000
DTSTAMP:20260424T173759
CREATED:20250502T090559Z
LAST-MODIFIED:20250502T090559Z
UID:9498-1749895200-1749920400@www.lebullition.fr
SUMMARY:LES PUCES DES COUTURIÈRES- 4ème édition
DESCRIPTION:Samedi 14 juin 2025 – 10H à 17H00 – Ouvert à tous\n \n\n\n\nElles sont de retour pour une 4ème saison. LES PUCES DES COUTURIÈRES c’est le RDV de L’ÉBULLITION pour les passionné.es de tissus et de création.\nC’est l’occasion de tenir un stand pour vider ses placards ou venir chiner toutes sortes de boutons\, tissus\, dentelles\, revues\, patrons\, laines ou articles de mercerie.\nLa journée sera ponctuée d’ateliers\, défis et animations festives. \n\n\n\n\n\n\n\n\n 
URL:https://www.lebullition.fr/events/les-puces-des-couturieres-4eme-edition-140625/
LOCATION:L’ÉBULLITION\, 2 avenue de la République\, PALAISEAU\, 91120\, France
CATEGORIES:ÉVÉNEMENT
ATTACH;FMTTYPE=image/jpeg:https://www.lebullition.fr/wp-content/uploads/2025/05/Affiche-A4-Puces-des-couturieres.jpg
ORGANIZER;CN="L'%C3%89BULLITION":MAILTO:contact-ebullition@palaiseautierslieu.fr
END:VEVENT
END:VCALENDAR