BEGIN:VCALENDAR
VERSION:2.0
PRODID:-//L ÉBULLITION - ECPv6.15.20//NONSGML v1.0//EN
CALSCALE:GREGORIAN
METHOD:PUBLISH
X-WR-CALNAME:L ÉBULLITION
X-ORIGINAL-URL:https://www.lebullition.fr
X-WR-CALDESC:Évènements pour L ÉBULLITION
REFRESH-INTERVAL;VALUE=DURATION:PT1H
X-Robots-Tag:noindex
X-PUBLISHED-TTL:PT1H
BEGIN:VTIMEZONE
TZID:Europe/Paris
BEGIN:DAYLIGHT
TZOFFSETFROM:+0100
TZOFFSETTO:+0200
TZNAME:CEST
DTSTART:20250330T010000
END:DAYLIGHT
BEGIN:STANDARD
TZOFFSETFROM:+0200
TZOFFSETTO:+0100
TZNAME:CET
DTSTART:20251026T010000
END:STANDARD
BEGIN:DAYLIGHT
TZOFFSETFROM:+0100
TZOFFSETTO:+0200
TZNAME:CEST
DTSTART:20260329T010000
END:DAYLIGHT
BEGIN:STANDARD
TZOFFSETFROM:+0200
TZOFFSETTO:+0100
TZNAME:CET
DTSTART:20261025T010000
END:STANDARD
BEGIN:DAYLIGHT
TZOFFSETFROM:+0100
TZOFFSETTO:+0200
TZNAME:CEST
DTSTART:20270328T010000
END:DAYLIGHT
BEGIN:STANDARD
TZOFFSETFROM:+0200
TZOFFSETTO:+0100
TZNAME:CET
DTSTART:20271031T010000
END:STANDARD
END:VTIMEZONE
BEGIN:VEVENT
DTSTART;TZID=Europe/Paris:20260410T200000
DTEND;TZID=Europe/Paris:20260410T220000
DTSTAMP:20260422T004403
CREATED:20260325T113202Z
LAST-MODIFIED:20260325T113202Z
UID:11017-1775851200-1775858400@www.lebullition.fr
SUMMARY:CINE-RENCONTRE - La Cité des Castors
DESCRIPTION:Vendredi 10 avril 2026 – 20h  \n\n\n\n\nConnaissez-vous l’histoire de la Cité des Castors\, la première cité auto-construite et autofinancée de France? Une aventure collective\, portées par la solidarité\, l’entraide et la conviction qu’ensemble\, tout devient possible. Quand cette incroyable utopie devenue réalité. Et aujourd’hui\, est-ce encore possible ? \n\n\n\nLa projection du documentaire “L’Utopie de Pessac” de Jean-Marie Bertineau est suivi d’un échange animé par Franck Mathieu\, fondateur d’ Archi Possible. \n\n\n\n\n\n\nRDV vendredi 10 avril-20h   pour imaginer les habitats de demain. \n 
URL:https://www.lebullition.fr/events/cine-rencontre-100426/
LOCATION:L’ÉBULLITION\, 2 avenue de la République\, PALAISEAU\, 91120\, France
CATEGORIES:ÉVÉNEMENT
ATTACH;FMTTYPE=image/jpeg:https://www.lebullition.fr/wp-content/uploads/2026/03/VISUELS-AGENDA-Sept25.jpg
ORGANIZER;CN="L'%C3%89BULLITION":MAILTO:contact-ebullition@palaiseautierslieu.fr
END:VEVENT
END:VCALENDAR